BEGIN:VCALENDAR
VERSION:2.0
PRODID:-//Sound Radio - ECPv5.15.0//NONSGML v1.0//EN
CALSCALE:GREGORIAN
METHOD:PUBLISH
X-WR-CALNAME:Sound Radio
X-ORIGINAL-URL:https://soundradio.live
X-WR-CALDESC:Events for Sound Radio
REFRESH-INTERVAL;VALUE=DURATION:PT1H
X-Robots-Tag:noindex
X-PUBLISHED-TTL:PT1H
BEGIN:VTIMEZONE
TZID:America/Chicago
BEGIN:DAYLIGHT
TZOFFSETFROM:-0600
TZOFFSETTO:-0500
TZNAME:CDT
DTSTART:20240310T080000
END:DAYLIGHT
BEGIN:STANDARD
TZOFFSETFROM:-0500
TZOFFSETTO:-0600
TZNAME:CST
DTSTART:20241103T070000
END:STANDARD
END:VTIMEZONE
BEGIN:VEVENT
DTSTART;TZID=America/Chicago:20240915T103000
DTEND;TZID=America/Chicago:20240915T120000
DTSTAMP:20260425T200324
CREATED:20240722T163327Z
LAST-MODIFIED:20240722T163327Z
UID:42640-1726396200-1726401600@soundradio.live
SUMMARY:Southern Gospel Singing / Community Chapel Church\, Walker\, LA/ Chronicle
DESCRIPTION:
URL:https://soundradio.live/event/southern-gospel-singing-community-chapel-church-walker-la-chronicle-3/
LOCATION:Community Chapel Church\, Walker\, LA\, 35490 Walker North Rd\, Walker\, LA\, 70785\, United States
END:VEVENT
BEGIN:VEVENT
DTSTART;TZID=America/Chicago:20240915T100000
DTEND;TZID=America/Chicago:20240915T113000
DTSTAMP:20260425T200324
CREATED:20240722T161056Z
LAST-MODIFIED:20240722T161056Z
UID:42616-1726394400-1726399800@soundradio.live
SUMMARY:Southern Gospel Singing / Maurepas BC\, Maurepas\, LA / Greg Sullivan
DESCRIPTION:
URL:https://soundradio.live/event/southern-gospel-singing-maurepas-bc-maurepas-la-greg-sullivan/
LOCATION:Maurepas Baptist Church\, 24309 La 22\, Maurepas\, LA\, 70449\, United States
END:VEVENT
BEGIN:VEVENT
DTSTART;TZID=America/Chicago:20240914T180000
DTEND;TZID=America/Chicago:20240914T200000
DTSTAMP:20260425T200324
CREATED:20240805T152626Z
LAST-MODIFIED:20240805T152626Z
UID:42682-1726336800-1726344000@soundradio.live
SUMMARY:Four The King Homecoming / Charis International COG\, McComb\, MS / Four the King current members and Nick Kleppinger & Branson Blanton
DESCRIPTION:
URL:https://soundradio.live/event/four-the-king-homecoming-charis-international-cog-mccomb-ms-four-the-king-current-members-and-nick-kleppinger-branson-blanton/
LOCATION:Charis International COG\, 3013 US-98\, McComb\, MS\, 39648\, United States
END:VEVENT
BEGIN:VEVENT
DTSTART;TZID=America/Chicago:20240914T180000
DTEND;TZID=America/Chicago:20240914T193000
DTSTAMP:20260425T200324
CREATED:20240722T163226Z
LAST-MODIFIED:20240722T163226Z
UID:42638-1726336800-1726342200@soundradio.live
SUMMARY:Southern Gospel Singing / Community Chapel Church\, Walker\, LA/ Chronicle
DESCRIPTION:
URL:https://soundradio.live/event/southern-gospel-singing-community-chapel-church-walker-la-chronicle-2/
LOCATION:Community Chapel Church\, Walker\, LA\, 35490 Walker North Rd\, Walker\, LA\, 70785\, United States
END:VEVENT
BEGIN:VEVENT
DTSTART;TZID=America/Chicago:20240914T173000
DTEND;TZID=America/Chicago:20240914T213000
DTSTAMP:20260425T200324
CREATED:20240722T160924Z
LAST-MODIFIED:20240722T160924Z
UID:42614-1726335000-1726349400@soundradio.live
SUMMARY:Southern Gospel Singing / Gospel Opry\, Liberty\, MS / Greg Sullivan
DESCRIPTION:
URL:https://soundradio.live/event/southern-gospel-singing-gospel-opry-liberty-ms-greg-sullivan/
LOCATION:Gospel Opry\, Liberty\, MS\, 910 McComb Liberty Rd\, Liberty\, MS\, United States
END:VEVENT
BEGIN:VEVENT
DTSTART;TZID=America/Chicago:20240908T180000
DTEND;TZID=America/Chicago:20240908T200000
DTSTAMP:20260425T200324
CREATED:20240920T212604Z
LAST-MODIFIED:20240920T212604Z
UID:42806-1725818400-1725825600@soundradio.live
SUMMARY:Gospel Singing / Salem BC\, Lake\, MS / Tate Emmons & Phillips & Banks
DESCRIPTION:
URL:https://soundradio.live/event/gospel-singing-salem-bc-lake-ms-tate-emmons-phillips-banks/
LOCATION:Salem BC\, Lake\, MS\, 2380 Salem Rd\, Lake\, MS\, 39092\, United States
END:VEVENT
BEGIN:VEVENT
DTSTART;TZID=America/Chicago:20240908T123000
DTEND;TZID=America/Chicago:20240908T150000
DTSTAMP:20260425T200324
CREATED:20240912T180704Z
LAST-MODIFIED:20240912T180704Z
UID:42754-1725798600-1725807600@soundradio.live
SUMMARY:Churchwide Picnic / FBC of Ponchatoula\, LA / @ Camp Living Waters\, Loranger\, LA
DESCRIPTION:
URL:https://soundradio.live/event/churchwide-picnic-fbc-of-ponchatoula-la-camp-living-waters-loranger-la/
LOCATION:Camp Living Waters\, Loranger\, 21230 Livingwater Rd\, Loranger\, LA\, United States
END:VEVENT
BEGIN:VEVENT
DTSTART;TZID=America/Chicago:20240908T110000
DTEND;TZID=America/Chicago:20240908T123000
DTSTAMP:20260425T200324
CREATED:20240722T163118Z
LAST-MODIFIED:20240722T163118Z
UID:42636-1725793200-1725798600@soundradio.live
SUMMARY:Southern Gospel Singing / Wesley Chapel\, Ponchatoula\, LA / Chronicle
DESCRIPTION:
URL:https://soundradio.live/event/southern-gospel-singing-wesley-chapel-ponchatoula-la-chronicle-2/
LOCATION:Wesley Chapel UMC\, 39731 S. Thibodeaux Rd.\, Ponchatoula\, LA\, 70454\, United States
END:VEVENT
BEGIN:VEVENT
DTSTART;TZID=America/Chicago:20240908T104500
DTEND;TZID=America/Chicago:20240908T123000
DTSTAMP:20260425T200324
CREATED:20240912T180842Z
LAST-MODIFIED:20240912T180842Z
UID:42757-1725792300-1725798600@soundradio.live
SUMMARY:Ministry Stop / Victory BC\, Hammond\, LA / Greg Sullivan
DESCRIPTION:
URL:https://soundradio.live/event/ministry-stop-victory-bc-hammond-la-greg-sullivan/
LOCATION:Victory Baptist Church of Hammond\, LA\, 43385 North Little Italy Road\, Hammond\, LA\, 70403\, United States
END:VEVENT
BEGIN:VEVENT
DTSTART;TZID=America/Chicago:20240908T100000
DTEND;TZID=America/Chicago:20240908T113000
DTSTAMP:20260425T200324
CREATED:20240912T181149Z
LAST-MODIFIED:20240912T181149Z
UID:42759-1725789600-1725795000@soundradio.live
SUMMARY:Gospel Singing / Southway BC\, Brookhaven\, MS / Zion's Way Quartet
DESCRIPTION:
URL:https://soundradio.live/event/gospel-singing-southway-bc-brookhaven-ms-zions-way-quartet/
LOCATION:Southway Batist Church of Brookhaven\, 1107 S. Jackson Street\, Brookhaven\, MS\, 39601\, United States
END:VEVENT
BEGIN:VEVENT
DTSTART;TZID=America/Chicago:20240907T180000
DTEND;TZID=America/Chicago:20240907T193000
DTSTAMP:20260425T200324
CREATED:20240912T181449Z
LAST-MODIFIED:20240912T181449Z
UID:42761-1725732000-1725737400@soundradio.live
SUMMARY:Gospel Singing / West McComb BC\, McComb\, MS / Zion's Way Quartet
DESCRIPTION:
URL:https://soundradio.live/event/gospel-singing-west-mccomb-bc-mccomb-ms-zions-way-quartet/
LOCATION:West McComb Baptist Church\, McComb\, MS\, 4016 MS-24 W\, McComb\, MS\, United States
END:VEVENT
BEGIN:VEVENT
DTSTART;TZID=America/Chicago:20240907T170000
DTEND;TZID=America/Chicago:20240907T210000
DTSTAMP:20260425T200324
CREATED:20240912T181644Z
LAST-MODIFIED:20240912T181644Z
UID:42764-1725728400-1725742800@soundradio.live
SUMMARY:Monthly Singing / New Beginnings Worship Center\, Loranger\, LA / Cooksey Family Legacy
DESCRIPTION:
URL:https://soundradio.live/event/monthly-singing-new-beginnings-worship-center-loranger-la-cooksey-family-legacy/
LOCATION:New Beginnings Worship Center\, 54140 Passman Rd\, Loranger\, LA\, 70446\, United States
END:VEVENT
BEGIN:VEVENT
DTSTART;TZID=America/Chicago:20240907T100000
DTEND;TZID=America/Chicago:20240907T160000
DTSTAMP:20260425T200324
CREATED:20240830T152932Z
LAST-MODIFIED:20240830T152932Z
UID:42736-1725703200-1725724800@soundradio.live
SUMMARY:Ladies' Outdoor Retreat / FBC Denham Springs\, LA / at Tanglewood Acres\, Magnolia\, MS
DESCRIPTION:Register at: signups.firstdenham.com \n  \nOutdoor Fun – Game Room\, Water Activities\, Lunch\, Bible Study\, Hay Ride\, Skeet Shooting and more!
URL:https://soundradio.live/event/ladies-outdoor-retreat-fbc-denham-springs-la-at-tanglewood-acres-magnolia-ms/
LOCATION:Tanglewood Acres in Magnolia\, MS\, 7674 Dickey Mills Rd\, Magnolia\, MS\, 39652\, United States
END:VEVENT
BEGIN:VEVENT
DTSTART;TZID=America/Chicago:20240907T090000
DTEND;TZID=America/Chicago:20240907T153000
DTSTAMP:20260425T200324
CREATED:20240826T181103Z
LAST-MODIFIED:20240826T181103Z
UID:42726-1725699600-1725723000@soundradio.live
SUMMARY:FREE Foster & Adoption Conference / Called to Connect / Calvary BC\, Alexandria\, LA / Louisiana Baptist Children's Home & Connect1Child
DESCRIPTION:For:  Prospective Foster & Adoptive Parents / Current Foster & Adoptive Parents / Church Ministry Leaders & Staff
URL:https://soundradio.live/event/free-foster-adoption-conference-called-to-connect-calvary-bc-alexandria-la-louisiana-baptist-childrens-home-connect1child/
LOCATION:Calvary Baptist Church of Alexandria\, LA\, 5011 Jackson Street\, Alexandria\, LA\, 71303\, United States
END:VEVENT
BEGIN:VEVENT
DTSTART;TZID=America/Chicago:20240906T173000
DTEND;TZID=America/Chicago:20240906T203000
DTSTAMP:20260425T200324
CREATED:20240826T174817Z
LAST-MODIFIED:20240826T174817Z
UID:42709-1725643800-1725654600@soundradio.live
SUMMARY:Southern Gospel Fest / Good News Fellowship Church\, Tickfaw\, LA / Mike & Barbara Vaughn\, Danny Ray Bishop-the Piano Man\, and Kelly Barber & Friends
DESCRIPTION:Doors Open at 5:30 \nSinging starts at 6:30 pm \nConcession Stand Available
URL:https://soundradio.live/event/southern-gospel-fest-good-news-fellowship-church-tickfaw-la-mike-barbara-vaughn-danny-ray-bishop-the-piano-man-and-kelly-barber-friends/
LOCATION:Mike Vaughn Ministries/Good News Fellowship Church\, 13101 Hwy 442 W\, Tickfaw\, LA
END:VEVENT
BEGIN:VEVENT
DTSTART;TZID=America/Chicago:20240901T103000
DTEND;TZID=America/Chicago:20240901T120000
DTSTAMP:20260425T200324
CREATED:20240722T162942Z
LAST-MODIFIED:20240722T162942Z
UID:42634-1725186600-1725192000@soundradio.live
SUMMARY:Southern Gospel Singing / Canaan Assembly of God\, Boonville\, MS / Chronicle
DESCRIPTION:
URL:https://soundradio.live/event/southern-gospel-singing-canaan-assembly-of-god-boonville-ms-chronicle/
LOCATION:Canaan Assembly of God\, Boonville\, MS\, 2306 E. Chambers Dr\, Boonville\, MS\, 38829\, United States
END:VEVENT
BEGIN:VEVENT
DTSTART;TZID=America/Chicago:20240830T190000
DTEND;TZID=America/Chicago:20240830T210000
DTSTAMP:20260425T200324
CREATED:20240830T155515Z
LAST-MODIFIED:20240830T155515Z
UID:42739-1725044400-1725051600@soundradio.live
SUMMARY:Friday Night Fellowship Meeting / New Beginning Worship Center\, Loranger\, LA
DESCRIPTION:EVERYONE IS INVITED!
URL:https://soundradio.live/event/friday-night-fellowship-meeting-new-beginning-worship-center-loranger-la/
LOCATION:New Beginnings Worship Center\, 54140 Passman Rd\, Loranger\, LA\, 70446\, United States
END:VEVENT
BEGIN:VEVENT
DTSTART;TZID=America/Chicago:20240827T170000
DTEND;TZID=America/Chicago:20240827T210000
DTSTAMP:20260425T200324
CREATED:20240826T182725Z
LAST-MODIFIED:20240826T182725Z
UID:42734-1724778000-1724792400@soundradio.live
SUMMARY:Hometown Gospel Fest / FBC\, Laurel\, MS / Josh & Ashley Franks\, The Whisnants\, Gold City\, The Bibletones / Emcee: Josh Franks
DESCRIPTION:
URL:https://soundradio.live/event/hometown-gospel-fest-fbc-laurel-ms-josh-ashley-franks-the-whisnants-gold-city-the-bibletones-emcee-josh-franks/
LOCATION:First Baptist Church of Laurel\, MS\, 607 W. 5th Street\, Laurel\, MS\, United States
END:VEVENT
BEGIN:VEVENT
DTSTART;TZID=America/Chicago:20240826T190000
DTEND;TZID=America/Chicago:20240828T210000
DTSTAMP:20260425T200324
CREATED:20240826T180733Z
LAST-MODIFIED:20240826T180733Z
UID:42724-1724698800-1724878800@soundradio.live
SUMMARY:Revival Services / Victory BC\, Hammond\, LA / Bro. Travis Kiriluk\, The Luke Linksey Family & The Powells
DESCRIPTION:
URL:https://soundradio.live/event/revival-services-victory-bc-hammond-la-bro-travis-kiriluk-the-luke-linksey-family-the-powells/
LOCATION:Victory Baptist Church of Hammond\, LA\, 43385 North Little Italy Road\, Hammond\, LA\, 70403\, United States
END:VEVENT
BEGIN:VEVENT
DTSTART;TZID=America/Chicago:20240825T180000
DTEND;TZID=America/Chicago:20240827T200000
DTSTAMP:20260425T200324
CREATED:20240826T181618Z
LAST-MODIFIED:20240826T181618Z
UID:42729-1724608800-1724788800@soundradio.live
SUMMARY:Revival Services / Bogue Falaya BC\, Folsom\, LA / Speakers: Dr. Preston Nix\, Pastor Derek Kitterlin & Pastor Chad Jenkins / Special Music: Riverside Revival Band
DESCRIPTION:
URL:https://soundradio.live/event/revival-services-bogue-falaya-bc-folsom-la-speakers-dr-preston-nix-pastor-derek-kitterlin-pastor-chad-jenkins-special-music-riverside-revival-band/
LOCATION:Bogue Falaya Baptist Church\, Folsom\, LA\, 78689 Hwy 25\, Folsom\, LA\, 70437\, United States
END:VEVENT
BEGIN:VEVENT
DTSTART;TZID=America/Chicago:20240825T103000
DTEND;TZID=America/Chicago:20240825T120000
DTSTAMP:20260425T200324
CREATED:20240826T180109Z
LAST-MODIFIED:20240826T180109Z
UID:42719-1724581800-1724587200@soundradio.live
SUMMARY:Homecoming Revival / Faith Tabernacle\, Quitman\, MS / Purpose
DESCRIPTION:
URL:https://soundradio.live/event/homecoming-revival-faith-tabernacle-quitman-ms-purpose-2/
LOCATION:Faith Tabernacle\, Quitman\, MS\, 57 Country Rd 442\, Quitman\, MS\, United States
END:VEVENT
BEGIN:VEVENT
DTSTART;TZID=America/Chicago:20240824T180000
DTEND;TZID=America/Chicago:20240824T203000
DTSTAMP:20260425T200324
CREATED:20240805T145441Z
LAST-MODIFIED:20240805T145441Z
UID:42671-1724522400-1724531400@soundradio.live
SUMMARY:Answered Prayer 12th Annual Homecoming Celebration / The Brownstone Center for the Arts located on Pearl River CC Campus\, Poplarville\, MS / Answered Prayer & The Guardians
DESCRIPTION:Tickets: $20 for Reserved Seating / $10 for General Admission \nCall 601-408-0689 for ticket info
URL:https://soundradio.live/event/answered-prayer-12th-annual-homecoming-celebration-the-brownstone-center-for-the-arts-located-on-pearl-river-cc-campus-poplarville-ms-answered-prayer-the-guardians/
LOCATION:Pearl River Community College – The Brownstone Center for the Arts\, 101 US Hwy 11\, Poplarville\, MS\, United States
END:VEVENT
BEGIN:VEVENT
DTSTART;TZID=America/Chicago:20240824T180000
DTEND;TZID=America/Chicago:20240824T193000
DTSTAMP:20260425T200324
CREATED:20240826T180413Z
LAST-MODIFIED:20240826T180413Z
UID:42721-1724522400-1724527800@soundradio.live
SUMMARY:In Worship / Faith Fellowship Church\, Purvis\, MS / Zion's Way
DESCRIPTION:
URL:https://soundradio.live/event/in-worship-faith-fellowship-church-purvis-ms-zions-way/
LOCATION:Faith Fellowship Church\, Purvis\, MS\, 268 Purvis to Brooklyn Rd\, Purvis\, MS\, United States
END:VEVENT
BEGIN:VEVENT
DTSTART;TZID=America/Chicago:20240824T170000
DTEND;TZID=America/Chicago:20240824T200000
DTSTAMP:20260425T200324
CREATED:20240826T175542Z
LAST-MODIFIED:20240826T175542Z
UID:42714-1724518800-1724529600@soundradio.live
SUMMARY:Family Movie & Game Night / Bluff Creek BC\, Clinton\, LA / Movies\, Popcorn\, Games & Fun
DESCRIPTION:
URL:https://soundradio.live/event/family-movie-game-night-bluff-creek-bc-clinton-la-movies-popcorn-games-fun/
LOCATION:Bluff Creek Baptist Church\, 1706 Hwy 63\, Clinton\, LA\, United States
END:VEVENT
BEGIN:VEVENT
DTSTART;TZID=America/Chicago:20240824T103000
DTEND;TZID=America/Chicago:20240824T170000
DTSTAMP:20260425T200324
CREATED:20240826T175119Z
LAST-MODIFIED:20240826T175119Z
UID:42711-1724495400-1724518800@soundradio.live
SUMMARY:Forged Men's Ministry Camp Day / Robert COG\, Robert\, LA / Traino Landing - men's fellowship\, cricket dunking & fishing
DESCRIPTION:
URL:https://soundradio.live/event/forged-mens-ministry-camp-day-robert-cog-robert-la-traino-landing-mens-fellowship-cricket-dunking-fishing/
LOCATION:Robert Church of God\, Robert\, LA\, 23092 Hwy 190 E\, Robert\, LA\, 70455\, United States
END:VEVENT
BEGIN:VEVENT
DTSTART;TZID=America/Chicago:20240823T190000
DTEND;TZID=America/Chicago:20240824T203000
DTSTAMP:20260425T200324
CREATED:20240826T175946Z
LAST-MODIFIED:20240826T175946Z
UID:42716-1724439600-1724531400@soundradio.live
SUMMARY:Homecoming Revival / Faith Tabernacle\, Quitman\, MS / Purpose
DESCRIPTION:
URL:https://soundradio.live/event/homecoming-revival-faith-tabernacle-quitman-ms-purpose/
LOCATION:Faith Tabernacle\, Quitman\, MS\, 57 Country Rd 442\, Quitman\, MS\, United States
END:VEVENT
BEGIN:VEVENT
DTSTART;TZID=America/Chicago:20240823T183000
DTEND;TZID=America/Chicago:20240823T210000
DTSTAMP:20260425T200324
CREATED:20240805T152044Z
LAST-MODIFIED:20240805T152044Z
UID:42679-1724437800-1724446800@soundradio.live
SUMMARY:Unbelievable! A Diamond Rio Tribute Band / Wholly Ground\, Walker\, LA / Greg Sullivan & Robert Reynolds
DESCRIPTION:
URL:https://soundradio.live/event/unbelievable-a-diamond-rio-tribute-band-wholly-ground-walker-la-greg-sullivan-robert-reynolds/
LOCATION:Wholly Ground\, 27988 Walker South Rd\, Walker\, LA\, 70785\, United States
END:VEVENT
BEGIN:VEVENT
DTSTART;TZID=America/Chicago:20240818T130000
DTEND;TZID=America/Chicago:20240818T143000
DTSTAMP:20260425T200324
CREATED:20240722T162823Z
LAST-MODIFIED:20240722T162823Z
UID:42631-1723986000-1723991400@soundradio.live
SUMMARY:Southern Gospel Singing / Faith Tabernacle\, Winnsboro\, LA / Chronicle
DESCRIPTION:
URL:https://soundradio.live/event/southern-gospel-singing-faith-tabernacle-winnsboro-la-chronicle/
LOCATION:Faith Tabernacle Church\, Winnsboro\, LA\, 747 Hwy 130\, Winnsboro\, LA\, 71295\, United States
END:VEVENT
BEGIN:VEVENT
DTSTART;TZID=America/Chicago:20240818T110000
DTEND;TZID=America/Chicago:20240818T123000
DTSTAMP:20260425T200324
CREATED:20240805T153320Z
LAST-MODIFIED:20240805T153320Z
UID:42687-1723978800-1723984200@soundradio.live
SUMMARY:Revival / Woodland BC\, Springfield\, LA / Evangelist Bro. Jeremy Glascock & Worship Riverside Revival Band
DESCRIPTION:
URL:https://soundradio.live/event/revival-woodland-bc-springfield-la-evangelist-bro-jeremy-glascock-worship-riverside-revival-band-2/
LOCATION:Woodland Baptist Church\, Springfield\, LA\, 27929 LA-1037\, Springfield\, LA\, United States
END:VEVENT
BEGIN:VEVENT
DTSTART;TZID=America/Chicago:20240818T103000
DTEND;TZID=America/Chicago:20240818T120000
DTSTAMP:20260425T200324
CREATED:20240722T160800Z
LAST-MODIFIED:20240722T160800Z
UID:42611-1723977000-1723982400@soundradio.live
SUMMARY:Southern Gospel Singing / /Gray's Creek BC\, Denham Springs\, LA / Greg Sullivan & Ricky Atkinson
DESCRIPTION:
URL:https://soundradio.live/event/southern-gospel-singing-grays-creek-bc-denham-springs-la-greg-sullivan-ricky-atkinson/
LOCATION:Gray’s Creek Baptist Church\, Denham Springs\, LA\, 21039 LA 16\, Denham Springs\, LA\, United States
END:VEVENT
END:VCALENDAR