BEGIN:VCALENDAR
VERSION:2.0
PRODID:-//Sound Radio - ECPv5.15.0//NONSGML v1.0//EN
CALSCALE:GREGORIAN
METHOD:PUBLISH
X-WR-CALNAME:Sound Radio
X-ORIGINAL-URL:https://soundradio.live
X-WR-CALDESC:Events for Sound Radio
REFRESH-INTERVAL;VALUE=DURATION:PT1H
X-Robots-Tag:noindex
X-PUBLISHED-TTL:PT1H
BEGIN:VTIMEZONE
TZID:UTC
BEGIN:STANDARD
TZOFFSETFROM:+0000
TZOFFSETTO:+0000
TZNAME:UTC
DTSTART:20240101T000000
END:STANDARD
TZID:America/Chicago
BEGIN:DAYLIGHT
TZOFFSETFROM:-0600
TZOFFSETTO:-0500
TZNAME:CDT
DTSTART:20240310T080000
END:DAYLIGHT
BEGIN:STANDARD
TZOFFSETFROM:-0500
TZOFFSETTO:-0600
TZNAME:CST
DTSTART:20241103T070000
END:STANDARD
END:VTIMEZONE
BEGIN:VEVENT
DTSTART;TZID=UTC:20241026T170000
DTEND;TZID=UTC:20241026T183000
DTSTAMP:20260425T140100
CREATED:20241104T150158Z
LAST-MODIFIED:20241104T150240Z
UID:42909-1729962000-1729967400@soundradio.live
SUMMARY:Gospel Singing / The Chapel of God\, Walker\, LA / Chronicle
DESCRIPTION:
URL:https://soundradio.live/event/gospel-singing-the-chapel-of-god-walker-la-chronicle/
LOCATION:The Chapel of God\, 30100 Mayer Street\, Walker\, LA\, 70785\, United States
END:VEVENT
BEGIN:VEVENT
DTSTART;TZID=America/Chicago:20241026T160000
DTEND;TZID=America/Chicago:20241026T190000
DTSTAMP:20260425T140100
CREATED:20241008T220754Z
LAST-MODIFIED:20241008T220754Z
UID:42862-1729958400-1729969200@soundradio.live
SUMMARY:Fall Festival / South Walker BC\, Denham Springs\, LA / Pie the Pastor\, Games\, Costume Contest\, Food\, Door Prizes\, Pumpkin Patch\, Fall Maze\, Drinks\, Face Painting\, Bounce House\, S'mores
DESCRIPTION:
URL:https://soundradio.live/event/fall-festival-south-walker-bc-denham-springs-la-pie-the-pastor-games-costume-contest-food-door-prizes-pumpkin-patch-fall-maze-drinks-face-painting-bounce-house-smores/
LOCATION:South Walker Baptist Church\, Denham Springs\, 13719 Hammack Rd\, Denham Springs\, LA\, 70726\, United States
END:VEVENT
BEGIN:VEVENT
DTSTART;TZID=America/Chicago:20241026T140000
DTEND;TZID=America/Chicago:20241026T180000
DTSTAMP:20260425T140100
CREATED:20241008T215328Z
LAST-MODIFIED:20241008T215328Z
UID:42847-1729951200-1729965600@soundradio.live
SUMMARY:Fall Festival - Lighthouse BC\, Independence\, LA  - Chili Cook-Off\, Bounce House\, Slide\, Horse Rides\, Bake Sale\, Face Painting\, Corn Hole Games & More
DESCRIPTION:Chili Registration Form – email nicoley62010@yahoo.com \n 
URL:https://soundradio.live/event/fall-festival-lighthouse-bc-independence-la-chili-cook-off-bounce-house-slide-horse-rides-bake-sale-face-painting-corn-hole-games-more/
LOCATION:Lighthouse Baptist Church\, Folsom\, Louisiana\, United States
END:VEVENT
BEGIN:VEVENT
DTSTART;TZID=America/Chicago:20241026T110000
DTEND;TZID=America/Chicago:20241026T140000
DTSTAMP:20260425T140100
CREATED:20241104T145830Z
LAST-MODIFIED:20241104T145830Z
UID:42907-1729940400-1729951200@soundradio.live
SUMMARY:Annual Fall Festival / Oakview BC\, Livingston\, LA / Games\, Food\, Face Painting\, Live Music\, Car Show\, Petting Zoo
DESCRIPTION:
URL:https://soundradio.live/event/annual-fall-festival-oakview-bc-livingston-la-games-food-face-painting-live-music-car-show-petting-zoo/
LOCATION:Oakview Baptist Church\, Livingston\, LA\, 27364 S Frost Rd\, Livingston\, LA\, 70754\, United States
END:VEVENT
BEGIN:VEVENT
DTSTART;TZID=America/Chicago:20241026T110000
DTEND;TZID=America/Chicago:20241026T140000
DTSTAMP:20260425T140100
CREATED:20241001T212413Z
LAST-MODIFIED:20241001T212413Z
UID:42843-1729940400-1729951200@soundradio.live
SUMMARY:Fall Festival / Oakview BC\, Livingston\, LA / Games\, Food\, Free Painting\, Live Music\, Car Show\, Petting Zoo
DESCRIPTION:
URL:https://soundradio.live/event/fall-festival-oakview-bc-livingston-la-games-food-free-painting-live-music-car-show-petting-zoo/
LOCATION:Oakview Baptist Church\, Livingston\, LA\, 27364 S Frost Rd\, Livingston\, LA\, 70754\, United States
END:VEVENT
BEGIN:VEVENT
DTSTART;TZID=America/Chicago:20241024T183000
DTEND;TZID=America/Chicago:20241024T210000
DTSTAMP:20260425T140100
CREATED:20240826T173829Z
LAST-MODIFIED:20240826T173829Z
UID:42703-1729794600-1729803600@soundradio.live
SUMMARY:Caring To Love Ministries' 39th Annual Celebrate Life Banquet / Renaissance Hotel\, Baton Rouge\, LA / FRC Pres. Tony Perkins\, Host; Governor Jeff Landry\, Keynote Speaker; and Ricky Skaggs\, Mini Concert
DESCRIPTION:Register now: https://secure.anedot.com/caring-to-love-ministries/33883fbf-1cd5-4de7-bd0c-30037c51c146 \n 
URL:https://soundradio.live/event/caring-to-love-ministries-39th-annual-celebrate-life-banquet-renaissance-hotel-baton-rouge-la-frc-pres-tony-perkins-host-governor-jeff-landry-keynote-speaker-and-ricky-skaggs-mini-concer/
LOCATION:Renaissance Baton Rouge Hotel\, 7000 Bluebonnet Blvd.\, Baton Rouge\, LA\, 70810\, United States
END:VEVENT
BEGIN:VEVENT
DTSTART;TZID=America/Chicago:20241021T190000
DTEND;TZID=America/Chicago:20241021T203000
DTSTAMP:20260425T140100
CREATED:20241021T133421Z
LAST-MODIFIED:20241021T133421Z
UID:42883-1729537200-1729542600@soundradio.live
SUMMARY:Monday Night Meeting / Fundamental BC\, Livingston\, LA / Guest Pastor: Bro. Cody Ladner; Special Music: The Doucettes
DESCRIPTION:
URL:https://soundradio.live/event/monday-night-meeting-fundamental-bc-livingston-la-guest-pastor-bro-cody-ladner-special-music-the-doucettes/
LOCATION:Fundamental Baptist Church of Livingston LA\, 24240 Frost Road\, Livingston\, LA\, 70754\, United States
END:VEVENT
BEGIN:VEVENT
DTSTART;TZID=America/Chicago:20241021T100000
DTEND;TZID=America/Chicago:20241021T200000
DTSTAMP:20260425T140100
CREATED:20240920T214511Z
LAST-MODIFIED:20240920T214511Z
UID:42812-1729504800-1729540800@soundradio.live
SUMMARY:Central's Fall Fest / Settlement at Shoe Creek\, 14150 Settlement Blvd.\, Central\, LA
DESCRIPTION:Free Event : Shop The Square\, Live Music with Worship Bands\, Kids’ Activities\, Trunk or Treat\, Food Trucks\, and more! \nHosted by Chamber of Commerce and the City of Central
URL:https://soundradio.live/event/centrals-fall-fest-settlement-at-shoe-creek-14150-settlement-blvd-central-la/
LOCATION:Settlement at Shoe Creek\, Central\, LA\, 14150 Grand Settlement Blvd.\, Central\, LA\, United States
END:VEVENT
BEGIN:VEVENT
DTSTART;TZID=America/Chicago:20241020T183000
DTEND;TZID=America/Chicago:20241020T200000
DTSTAMP:20260425T140100
CREATED:20241008T215745Z
LAST-MODIFIED:20241008T215745Z
UID:42852-1729449000-1729454400@soundradio.live
SUMMARY:Revival / New Bethlehem Church\, Denham Springs\, LA / Speaker: Bro. Mike Courtney; Worship: Broken Vessels
DESCRIPTION:
URL:https://soundradio.live/event/revival-new-bethlehem-church-denham-springs-la-speaker-bro-mike-courtney-worship-broken-vessels-2/
LOCATION:New Bethlehem Church\, Denham Springs\, 37818 Renninger Rd\, Denham Springs\, LA\, United States
END:VEVENT
BEGIN:VEVENT
DTSTART;TZID=America/Chicago:20241020T170000
DTEND;TZID=America/Chicago:20241020T190000
DTSTAMP:20260425T140100
CREATED:20241008T220513Z
LAST-MODIFIED:20241008T220513Z
UID:42859-1729443600-1729450800@soundradio.live
SUMMARY:Trunk or Treat / Bethel UMC\, Pride\, LA
DESCRIPTION:
URL:https://soundradio.live/event/trunk-or-treat-bethel-umc-pride-la/
LOCATION:Bethel United Methodist Church\, Pride\, LA\, 17022 Liberty Rd\, Pride\, LA\, 70770\, United States
END:VEVENT
BEGIN:VEVENT
DTSTART;TZID=America/Chicago:20241020T110000
DTEND;TZID=America/Chicago:20241020T123000
DTSTAMP:20260425T140100
CREATED:20241008T215626Z
LAST-MODIFIED:20241008T215626Z
UID:42849-1729422000-1729427400@soundradio.live
SUMMARY:Revival / New Bethlehem Church\, Denham Springs\, LA / Speaker: Bro. Mike Courtney; Worship: Broken Vessels
DESCRIPTION:
URL:https://soundradio.live/event/revival-new-bethlehem-church-denham-springs-la-speaker-bro-mike-courtney-worship-broken-vessels/
LOCATION:New Bethlehem Church\, Denham Springs\, 37818 Renninger Rd\, Denham Springs\, LA\, United States
END:VEVENT
BEGIN:VEVENT
DTSTART;TZID=America/Chicago:20241019T180000
DTEND;TZID=America/Chicago:20241019T200000
DTSTAMP:20260425T140100
CREATED:20240913T222127Z
LAST-MODIFIED:20240913T222422Z
UID:42771-1729360800-1729368000@soundradio.live
SUMMARY:Hemphill Star Homecoming Service\, Hemphill Star Church\, Boyce\, LA / Kelly Crabb & Bowling Sisters
DESCRIPTION:Please Call Pastor Shane at 318-715-9985 with any questions
URL:https://soundradio.live/event/hemphill-star-homecoming-service-hemphill-star-church-boyce-la-kelly-crabb-bowling-sisters/
LOCATION:Hemphill Star Church\, Boyce\, 325 Miller Rd\, Boyce\, LA\, 71409\, United States
END:VEVENT
BEGIN:VEVENT
DTSTART;TZID=America/Chicago:20241019T150000
DTEND;TZID=America/Chicago:20241019T190000
DTSTAMP:20260425T140100
CREATED:20240912T185235Z
LAST-MODIFIED:20240912T185235Z
UID:42769-1729350000-1729364400@soundradio.live
SUMMARY:Joni & Friends Annual Barnyard Dance / Louis A. Mouch\, Jr. Multi-Purpose Facility\, Port Allen\, LA
DESCRIPTION:The Barnyard Dance is a time of fun & fellowship.  There will be great food\, exciting activities\, and dancing! All food is provided\, but if you would like to bring a dessert\, you may! \nFor More Info Visit:  joniandfriends.org/louisiana
URL:https://soundradio.live/event/joni-friends-annual-barnyard-dance-louis-a-mouch-jr-multi-purpose-facility-port-allen-la/
LOCATION:Louis A. Mouch\, Jr. Multi-Purpose Facility\, 210 Turner Dr.\, Port Allen\, LA\, 70767\, United States
END:VEVENT
BEGIN:VEVENT
DTSTART;TZID=America/Chicago:20241019T100000
DTEND;TZID=America/Chicago:20241019T130000
DTSTAMP:20260425T140100
CREATED:20241008T220259Z
LAST-MODIFIED:20241008T220259Z
UID:42857-1729332000-1729342800@soundradio.live
SUMMARY:Unlock Able Ministries Training Seminar for Ladies  - Pentecostals of Watson\, LA
DESCRIPTION:Open to all ministers\, church leaders\, and kids workers. Learn about classroom management\, special needs and more! \nFeaturing: Missi Vaughn\, Sarah Stewart\, Gavin Conley and Micah LeClercq
URL:https://soundradio.live/event/unlock-able-ministries-training-seminar-for-ladies-pentecostals-of-watson-la/
LOCATION:Pentecostals of Watson\, 34639 LA 16\, Watson\, LA\, 70706\, United States
END:VEVENT
BEGIN:VEVENT
DTSTART;TZID=America/Chicago:20241019T090000
DTEND;TZID=America/Chicago:20241019T193000
DTSTAMP:20260425T140100
CREATED:20240624T150612Z
LAST-MODIFIED:20240624T150612Z
UID:42541-1729328400-1729366200@soundradio.live
SUMMARY:Singing News Ladies Event 2024 / FBC\, Laurel\, MS / Karen Peck & New River
DESCRIPTION:A day of shopping\, food\, worship\, speakers & fellowship \n$49 per person – includes lunch & all activities \nOver 25 shopping vendors with all the things ladies love \nFor tickets call Vonda 256-310-7892 or Penny 423-736-7272 \nConcert @ 6 pm featuring Karen Peck & New River – Concert Only open to all $20 at the door
URL:https://soundradio.live/event/singing-news-ladies-event-2024-fbc-laurel-ms-karen-peck-new-river/
LOCATION:First Baptist Church\, Laurel\, MS\, 607 West 5th Street\, Laurel\, MS\, 39443\, United States
END:VEVENT
BEGIN:VEVENT
DTSTART;TZID=America/Chicago:20241018T160000
DTEND;TZID=America/Chicago:20241018T200000
DTSTAMP:20260425T140100
CREATED:20240912T184932Z
LAST-MODIFIED:20240912T184932Z
UID:42766-1729267200-1729281600@soundradio.live
SUMMARY:Joni & Friends Barnyard Dance / Moseley Meadows\, Canton\, MS
DESCRIPTION:Annual Event for families\, friends\, and individuals of all ages impacted by intellectual\, developmental\, and physical disabilities. Enjoy games\, an accessible hayride\, a petting zoo\, horses\, face painting\, food\, and dancing! \nAll food is provided. If you would like to provide a dessert\, you may! \n  \nFor more info: email:  mississippi@joniandfriends.org or visit: joniandfriends.org/mississippi
URL:https://soundradio.live/event/joni-friends-barnyard-dance-moseley-meadows-canton-ms/
LOCATION:Moseley Meadows\, 466 Yandell Rd\, Canton\, MS\, United States
END:VEVENT
BEGIN:VEVENT
DTSTART;TZID=America/Chicago:20241013T130000
DTEND;TZID=America/Chicago:20241013T153000
DTSTAMP:20260425T140100
CREATED:20240920T213629Z
LAST-MODIFIED:20240920T213629Z
UID:42810-1728824400-1728833400@soundradio.live
SUMMARY:Homecoming / New Beginnings Worship Center\, Loranger\, LA / Brandon Phillips\, Danny Bishop\, Bo Hinson & Greg Sullivan
DESCRIPTION:Host: Pastor Charles & First Lady Martha Pierre
URL:https://soundradio.live/event/homecoming-new-beginnings-worship-center-loranger-la-brandon-phillips-danny-bishop-bo-hinson-greg-sullivan/
LOCATION:New Beginnings Worship Center\, 54140 Passman Rd\, Loranger\, LA\, 70446\, United States
END:VEVENT
BEGIN:VEVENT
DTSTART;TZID=America/Chicago:20241012T170000
DTEND;TZID=America/Chicago:20241012T210000
DTSTAMP:20260425T140100
CREATED:20241001T214634Z
LAST-MODIFIED:20241001T214634Z
UID:42845-1728752400-1728766800@soundradio.live
SUMMARY:Monthly Singing / Gospel Opry\, Liberty\, MS / Tim Frith & The Gospel Echoes
DESCRIPTION:Doors Open at 5 pm \nOpen Mic at 5:45 – 7:00 pm \nNew Life Country  Gospel Band at 7:00 pm \nTim Frith & The Gospel Echoes at 8:00 pm
URL:https://soundradio.live/event/monthly-singing-gospel-opry-liberty-ms-tim-frith-the-gospel-echoes/
LOCATION:Gospel Opry\, Liberty\, MS\, 910 McComb Liberty Rd\, Liberty\, MS\, United States
END:VEVENT
BEGIN:VEVENT
DTSTART;TZID=America/Chicago:20241011T190000
DTEND;TZID=America/Chicago:20241011T210000
DTSTAMP:20260425T140100
CREATED:20241008T221036Z
LAST-MODIFIED:20241008T221036Z
UID:42865-1728673200-1728680400@soundradio.live
SUMMARY:Redwood Gospel Jubilation / Redwood BC\, Slaughter\, LA / Host: Glen & Bobbie Messer; Pastor: Bro. Joe Hutto
DESCRIPTION:Free Supper: Meatballs & Brown Gravy\, Mash Potatoes; Green Beans; Salad; Desserts
URL:https://soundradio.live/event/redwood-gospel-jubilation-redwood-bc-slaughter-la-host-glen-pastor-bro-joe-hutto/
LOCATION:Redwood Baptist Church\, 5182 Hwy 412 East\, Slaughter\, LA\, 70777\, United States
END:VEVENT
BEGIN:VEVENT
DTSTART;TZID=America/Chicago:20241007T183000
DTEND;TZID=America/Chicago:20241009T200000
DTSTAMP:20260425T140100
CREATED:20240927T144721Z
LAST-MODIFIED:20240927T145132Z
UID:42837-1728325800-1728504000@soundradio.live
SUMMARY:Fall Revival / Fellowship BC\, Central\, LA / Evangelist Tim LaFleur & Music by Mackey & Gail Willis
DESCRIPTION:
URL:https://soundradio.live/event/fall-revival-fellowship-bc-central-la-evangelist-tim-lafleur-music-by-mackey-gail-willis-3/
LOCATION:Fellowship Baptist Church of Central\, 14512 Greenwell Springs Road\, Central\, LA\, 70739\, United States
END:VEVENT
BEGIN:VEVENT
DTSTART;TZID=America/Chicago:20241006T180000
DTEND;TZID=America/Chicago:20241006T193000
DTSTAMP:20260425T140100
CREATED:20240927T144613Z
LAST-MODIFIED:20240927T145054Z
UID:42835-1728237600-1728243000@soundradio.live
SUMMARY:Fall Revival / Fellowship BC\, Central\, LA / Evangelist Tim LaFleur & Music by Mackey & Gail Willis
DESCRIPTION:
URL:https://soundradio.live/event/fall-revival-fellowship-bc-central-la-evangelist-tim-lafleur-music-by-mackey-gail-willis-2/
LOCATION:Fellowship Baptist Church of Central\, 14512 Greenwell Springs Road\, Central\, LA\, 70739\, United States
END:VEVENT
BEGIN:VEVENT
DTSTART;TZID=America/Chicago:20241006T170000
DTEND;TZID=America/Chicago:20241006T190000
DTSTAMP:20260425T140100
CREATED:20240917T185708Z
LAST-MODIFIED:20240917T185708Z
UID:42799-1728234000-1728241200@soundradio.live
SUMMARY:Bluegrass Concert / Indian Mound BC\, Greenwell Springs\, LA / "Suppertime"
DESCRIPTION:
URL:https://soundradio.live/event/bluegrass-concert-indian-mound-bc-greenwell-springs-la-suppertime/
LOCATION:Indian Mound Baptist Church\, 16755 Liberty Rd\, Greenwell Springs\, LA\, 70739
END:VEVENT
BEGIN:VEVENT
DTSTART;TZID=America/Chicago:20241006T110000
DTEND;TZID=America/Chicago:20241006T123000
DTSTAMP:20260425T140100
CREATED:20241001T211308Z
LAST-MODIFIED:20241001T211308Z
UID:42839-1728212400-1728217800@soundradio.live
SUMMARY:Ministry Stop / Unity BC\, Georgetown\, MS / Chronicle
DESCRIPTION:
URL:https://soundradio.live/event/ministry-stop-unity-bc-georgetown-ms-chronicle/
LOCATION:Unity Baptist Church\, Hwy 28\, Georgetown\, MS\, 39078\, United States
END:VEVENT
BEGIN:VEVENT
DTSTART;TZID=America/Chicago:20241006T101500
DTEND;TZID=America/Chicago:20241006T120000
DTSTAMP:20260425T140100
CREATED:20240927T144518Z
LAST-MODIFIED:20240927T144518Z
UID:42833-1728209700-1728216000@soundradio.live
SUMMARY:Fall Revival / Fellowship BC\, Central\, LA / Evangelist Tim LaFleur & Music by Mackey & Gail Willis
DESCRIPTION:
URL:https://soundradio.live/event/fall-revival-fellowship-bc-central-la-evangelist-tim-lafleur-music-by-mackey-gail-willis/
LOCATION:Fellowship Baptist Church of Central\, 14512 Greenwell Springs Road\, Central\, LA\, 70739\, United States
END:VEVENT
BEGIN:VEVENT
DTSTART;TZID=America/Chicago:20241005T180000
DTEND;TZID=America/Chicago:20241005T203000
DTSTAMP:20260425T140100
CREATED:20240920T211940Z
LAST-MODIFIED:20240920T211940Z
UID:42803-1728151200-1728160200@soundradio.live
SUMMARY:4th Annual Larry Lott Gospel Sing / Mt. Gilead Missionary BC\, Columbia\, MS / Big Blessin'\, Four the King & Dixie Echoes
DESCRIPTION:A Night of Southern Gospel Music
URL:https://soundradio.live/event/4th-annual-larry-lott-gospel-sing-mt-gilead-missionary-bc-columbia-ms-big-blessin-four-the-king-dixie-echoes/
LOCATION:Mr. Gilead Missionary Baptist Church\, Columbia\, MS\, 137 Mt. Gilead Rd\, Columbia\, MS\, 39429\, United States
END:VEVENT
BEGIN:VEVENT
DTSTART;TZID=America/Chicago:20241005T170000
DTEND;TZID=America/Chicago:20241005T200000
DTSTAMP:20260425T140100
CREATED:20240927T143834Z
LAST-MODIFIED:20240927T143834Z
UID:42829-1728147600-1728158400@soundradio.live
SUMMARY:Monthly Singing / New Beginnings Worship Center\, Loranger\, LA / Ricky Lee
DESCRIPTION:
URL:https://soundradio.live/event/monthly-singing-new-beginnings-worship-center-loranger-la-ricky-lee/
LOCATION:New Beginnings Worship Center\, 54140 Passman Rd\, Loranger\, LA\, 70446\, United States
END:VEVENT
BEGIN:VEVENT
DTSTART;TZID=America/Chicago:20241005T100000
DTEND;TZID=America/Chicago:20241005T200000
DTSTAMP:20260425T140100
CREATED:20240927T143603Z
LAST-MODIFIED:20240927T143603Z
UID:42825-1728122400-1728158400@soundradio.live
SUMMARY:Central's Faith & Family Fest & Community Night / Settlement at Shoe Creek\, Central\, LA / Zoar BC\, Blackwater UMC & Amite Church Choirs
DESCRIPTION:
URL:https://soundradio.live/event/centrals-faith-family-fest-community-night-settlement-at-shoe-creek-central-la-zoar-bc-blackwater-umc-amite-church-choirs/
LOCATION:Settlement at Shoe Creek\, Central\, LA\, 14150 Grand Settlement Blvd.\, Central\, LA\, United States
END:VEVENT
BEGIN:VEVENT
DTSTART;TZID=America/Chicago:20241005T100000
DTEND;TZID=America/Chicago:20241005T150000
DTSTAMP:20260425T140100
CREATED:20240927T143727Z
LAST-MODIFIED:20240927T143727Z
UID:42827-1728122400-1728140400@soundradio.live
SUMMARY:Car Wash Fundraiser for Youth / New Beginnings Worship Center\, Loranger\, LA
DESCRIPTION:$10 per car
URL:https://soundradio.live/event/car-wash-fundraiser-for-youth-new-beginnings-worship-center-loranger-la/
LOCATION:New Beginnings Worship Center\, 54140 Passman Rd\, Loranger\, LA\, 70446\, United States
END:VEVENT
BEGIN:VEVENT
DTSTART;TZID=America/Chicago:20241005T090000
DTEND;TZID=America/Chicago:20241005T163000
DTSTAMP:20260425T140100
CREATED:20241001T211927Z
LAST-MODIFIED:20241001T211927Z
UID:42841-1728118800-1728145800@soundradio.live
SUMMARY:Fall Festival / Denham Springs Antique District\, Denham Springs\, LA / Chronicle @ 9:00 am\, Food\, Music\, 160 Vendors\, Free Kids Zone\, Pet Contest\, More Food\, Antiques
DESCRIPTION:
URL:https://soundradio.live/event/fall-festival-denham-springs-antique-district-denham-springs-la-chronicle-900-am-food-music-160-vendors-free-kids-zone-pet-contest-more-food-antiques/
LOCATION:Denham Springs Antique Village\, Highway 16 at Railroad Tracks (Just North of Florida Blvd interesection))\, Denham Springs\, LA\, United States
END:VEVENT
BEGIN:VEVENT
DTSTART;TZID=America/Chicago:20241004T173000
DTEND;TZID=America/Chicago:20241004T203000
DTSTAMP:20260425T140100
CREATED:20240913T224630Z
LAST-MODIFIED:20240913T224630Z
UID:42780-1728063000-1728073800@soundradio.live
SUMMARY:Southern Gospel Music Fest! / Good News Fellowship Church\, Tickfaw\, LA / Mike & Barbara Vaughn\, and Kelly Barber & Friends
DESCRIPTION:Doors Open @ 5:30 pm \nSinging Starts @ 6:30 pm \nConcession Stand Available \nInfo: 985-974-0507
URL:https://soundradio.live/event/southern-gospel-music-fest-good-news-fellowship-church-tickfaw-la-mike-barbara-vaughn-and-kelly-barber-friends/
LOCATION:Mike Vaughn Ministries/Good News Fellowship Church\, 13101 Hwy 442 W\, Tickfaw\, LA
END:VEVENT
END:VCALENDAR