BEGIN:VCALENDAR
VERSION:2.0
PRODID:-//Sound Radio - ECPv5.15.0//NONSGML v1.0//EN
CALSCALE:GREGORIAN
METHOD:PUBLISH
X-WR-CALNAME:Sound Radio
X-ORIGINAL-URL:https://soundradio.live
X-WR-CALDESC:Events for Sound Radio
REFRESH-INTERVAL;VALUE=DURATION:PT1H
X-Robots-Tag:noindex
X-PUBLISHED-TTL:PT1H
BEGIN:VTIMEZONE
TZID:America/Chicago
BEGIN:DAYLIGHT
TZOFFSETFROM:-0600
TZOFFSETTO:-0500
TZNAME:CDT
DTSTART:20240310T080000
END:DAYLIGHT
BEGIN:STANDARD
TZOFFSETFROM:-0500
TZOFFSETTO:-0600
TZNAME:CST
DTSTART:20241103T070000
END:STANDARD
TZID:UTC
BEGIN:STANDARD
TZOFFSETFROM:+0000
TZOFFSETTO:+0000
TZNAME:UTC
DTSTART:20240101T000000
END:STANDARD
END:VTIMEZONE
BEGIN:VEVENT
DTSTART;TZID=America/Chicago:20241110T110000
DTEND;TZID=America/Chicago:20241110T120000
DTSTAMP:20260423T080253
CREATED:20241105T142547Z
LAST-MODIFIED:20241105T142857Z
UID:42931-1731236400-1731240000@soundradio.live
SUMMARY:Southern Gospel Singing / Pine Grove BC\, Livingston\, LA / Down East Boys
DESCRIPTION:
URL:https://soundradio.live/event/southern-gospel-singing-pine-grove-bc-livingston-la-down-easts-boys/
LOCATION:Pine Grove Baptist Church\, 21949 LA Hwy 444\, Livingston\, LA\, 70754\, United States
END:VEVENT
BEGIN:VEVENT
DTSTART;TZID=America/Chicago:20241110T101500
DTEND;TZID=America/Chicago:20241110T120000
DTSTAMP:20260423T080253
CREATED:20241104T143243Z
LAST-MODIFIED:20241104T143243Z
UID:42885-1731233700-1731240000@soundradio.live
SUMMARY:Homecoming / Watson BC\, Denham Springs\, LA / Chronicle
DESCRIPTION:
URL:https://soundradio.live/event/homecoming-watson-bc-denham-springs-la-chronicle/
LOCATION:Watson Baptist Church\, Denham Springs\, LA\, 35831 Cane Market Rd\, Denham Springs\, LA\, 70706\, United States
END:VEVENT
BEGIN:VEVENT
DTSTART;TZID=America/Chicago:20241109T180000
DTEND;TZID=America/Chicago:20241109T203000
DTSTAMP:20260423T080253
CREATED:20240913T223136Z
LAST-MODIFIED:20240913T223136Z
UID:42774-1731175200-1731184200@soundradio.live
SUMMARY:The Masters Quartet 35th Annual Homecoming / Prentiss County Agri Center\, Booneville\, MS / The Masters Qt & The Inspirations
DESCRIPTION:Limited Reserve Seating $25 (Call to Reserve) \nGeneral Admission Seating $15 (At the Door) \nFor Information Call 662-720-2069 \nhttps://themastersqt.com/
URL:https://soundradio.live/event/the-masters-quartet-35th-annual-homecoming-prentiss-county-agri-center-booneville-ms-the-masters-qt-the-inspirations/
LOCATION:Prentiss County Agri Center\, Booneville\, MS\, 2301 N. Second St\, Booneville\, MS\, 38829\, United States
END:VEVENT
BEGIN:VEVENT
DTSTART;TZID=America/Chicago:20241109T083000
DTEND;TZID=America/Chicago:20241109T223000
DTSTAMP:20260423T080253
CREATED:20241105T143055Z
LAST-MODIFIED:20241105T143055Z
UID:42937-1731141000-1731191400@soundradio.live
SUMMARY:Community Veterans' Breakfast / Pine Grove BC\, Livingston\, LA / Local Youth Groups Joining Together to Honor Our Veterans
DESCRIPTION:RSVP: Amy Whittington @ 225-405-3671
URL:https://soundradio.live/event/community-veterans-breakfast-pine-grove-bc-livingston-la-local-youth-groups-joining-together-to-honor-our-veterans/
LOCATION:Pine Grove Baptist Church\, 21949 LA Hwy 444\, Livingston\, LA\, 70754\, United States
END:VEVENT
BEGIN:VEVENT
DTSTART;TZID=America/Chicago:20241108T190000
DTEND;TZID=America/Chicago:20241108T210000
DTSTAMP:20260423T080253
CREATED:20240805T153900Z
LAST-MODIFIED:20240805T153900Z
UID:42689-1731092400-1731099600@soundradio.live
SUMMARY:2nd Annual Howard Rutland Memorial Sing / FBC of Gautier\, MS / The Down East Boys\, The Bibletones\, The Diplomats
DESCRIPTION:Sponsored by The Jackson County Sheriff’s Department \n$15 Donation at Door & A Love Offering Will Be Taken
URL:https://soundradio.live/event/2nd-annual-howard-rutland-memorial-sing-fbc-of-gautier-ms-the-down-east-boys-the-bibletones-the-diplomats/
LOCATION:FBC of Gauthier\, MS\, 325 De La Pointe Dr.\, Gautier\, MS\, 39553\, United States
END:VEVENT
BEGIN:VEVENT
DTSTART;TZID=America/Chicago:20241103T100000
DTEND;TZID=America/Chicago:20241103T113000
DTSTAMP:20260423T080253
CREATED:20241104T143536Z
LAST-MODIFIED:20241104T143536Z
UID:42888-1730628000-1730633400@soundradio.live
SUMMARY:Gospel Singing / Victory Temple Pentecostal COG\, Prairieville\, LA / Chronicle
DESCRIPTION:
URL:https://soundradio.live/event/gospel-singing-victory-temple-pentecostal-cog-prairieville-la-chronicle/
LOCATION:Victory Temple Pentecostal COG\, 41200 Hwy 933\, Prairieville\, Louisiana\, 70769
END:VEVENT
BEGIN:VEVENT
DTSTART;TZID=America/Chicago:20241102T170000
DTEND;TZID=America/Chicago:20241102T200000
DTSTAMP:20260423T080253
CREATED:20241104T144024Z
LAST-MODIFIED:20241104T144024Z
UID:42892-1730566800-1730577600@soundradio.live
SUMMARY:Rise Up Covington / The Covington Trailhead\, Covington\, LA / Keva Fontanille Counting The Day & Riverside Revival Band
DESCRIPTION:
URL:https://soundradio.live/event/rise-up-covington-the-covington-trailhead-covington-la-keva-fontanille-counting-the-day-riverside-revival-band/
LOCATION:The Covington Trailhead\, 419 N. New Hampshire St\, Covington\, LA\, 70433\, United States
END:VEVENT
BEGIN:VEVENT
DTSTART;TZID=America/Chicago:20241102T113000
DTEND;TZID=America/Chicago:20241102T133000
DTSTAMP:20260423T080253
CREATED:20241104T144201Z
LAST-MODIFIED:20241104T144201Z
UID:42895-1730547000-1730554200@soundradio.live
SUMMARY:Parkview BC 55+ Luncheon / Parkview BC\, Baton Rouge\, LA / Chronicle
DESCRIPTION:
URL:https://soundradio.live/event/parkview-bc-55-luncheon-parkview-bc-baton-rouge-la-chronicle/
LOCATION:Parkview Baptist Church\, 5750 Parkview Church Rd\, Baton Rouge\, LA\, 70816\, United States
END:VEVENT
BEGIN:VEVENT
DTSTART;TZID=UTC:20241102T080000
DTEND;TZID=UTC:20241102T170000
DTSTAMP:20260423T080253
CREATED:20241104T143802Z
LAST-MODIFIED:20241104T143802Z
UID:42890-1730534400-1730566800@soundradio.live
SUMMARY:Monthly Singing / New Beginnings Worship Center\, Loranger\, LA / The Blackwells "Singing For Jesus"
DESCRIPTION:
URL:https://soundradio.live/event/monthly-singing-new-beginnings-worship-center-loranger-la-the-blackwells-singing-for-jesus/
LOCATION:New Beginnings Worship Center\, 54140 Passman Rd\, Loranger\, LA\, 70446\, United States
END:VEVENT
BEGIN:VEVENT
DTSTART;TZID=America/Chicago:20241101T173000
DTEND;TZID=America/Chicago:20241101T200000
DTSTAMP:20260423T080253
CREATED:20241104T144408Z
LAST-MODIFIED:20241104T144408Z
UID:42897-1730482200-1730491200@soundradio.live
SUMMARY:Southern Gospel Fest / Good News Fellowship Church\, Tickfaw\, LA / Mike & Barbara Vaughn\, Kelly Barber & Friends & Southern Sound
DESCRIPTION:Doors Open at 5:30 pm \nSinging begins at 6:30 pm \nConcession stand available
URL:https://soundradio.live/event/southern-gospel-fest-good-news-fellowship-church-tickfaw-la-mike-barbara-vaughn-kelly-barber-friends-southern-sound/
LOCATION:Mike Vaughn Ministries/Good News Fellowship Church\, 13101 Hwy 442 W\, Tickfaw\, LA
END:VEVENT
BEGIN:VEVENT
DTSTART;TZID=America/Chicago:20241031T170000
DTEND;TZID=America/Chicago:20241031T190000
DTSTAMP:20260423T080253
CREATED:20241104T144747Z
LAST-MODIFIED:20241104T144747Z
UID:42901-1730394000-1730401200@soundradio.live
SUMMARY:Trunk or Treat / Briarwood BC\, Franklinton\, LA / Candy-Food-Fun
DESCRIPTION:
URL:https://soundradio.live/event/trunk-or-treat-briarwood-bc-franklinton-la-candy-food-fun/
LOCATION:Briarwood Baptist Church\, 32461 Hwy 62\, Franklinton\, LA\, 70428\, United States
END:VEVENT
BEGIN:VEVENT
DTSTART;TZID=America/Chicago:20241027T170000
DTEND;TZID=America/Chicago:20241027T190000
DTSTAMP:20260423T080253
CREATED:20241104T145535Z
LAST-MODIFIED:20241104T145535Z
UID:42903-1730048400-1730055600@soundradio.live
SUMMARY:Fish Fry & Trunk or Treat / Live Oak BC\, Denham Springs\, LA
DESCRIPTION:
URL:https://soundradio.live/event/fish-fry-trunk-or-treat-live-oak-bc-denham-springs-la/
LOCATION:Live Oak Baptist Church of Watson\, 35603 Coxe Ave\, Denham Springs\, LA\, 70706\, United States
END:VEVENT
BEGIN:VEVENT
DTSTART;TZID=America/Chicago:20241027T170000
DTEND;TZID=America/Chicago:20241027T183000
DTSTAMP:20260423T080253
CREATED:20241021T132249Z
LAST-MODIFIED:20241021T132249Z
UID:42881-1730048400-1730053800@soundradio.live
SUMMARY:Ministry Stop / The Chapel of God\, Walker\, LA / Chronicle
DESCRIPTION:
URL:https://soundradio.live/event/ministry-stop-the-chapel-of-god-walker-la-chronicle/
LOCATION:The Chapel of God\, 30100 Mayer Street\, Walker\, LA\, 70785\, United States
END:VEVENT
BEGIN:VEVENT
DTSTART;TZID=America/Chicago:20241027T160000
DTEND;TZID=America/Chicago:20241027T180000
DTSTAMP:20260423T080253
CREATED:20241104T145644Z
LAST-MODIFIED:20241104T145644Z
UID:42905-1730044800-1730052000@soundradio.live
SUMMARY:Trunk or Treat / Open Door BC\, Denham Springs\, LA
DESCRIPTION:
URL:https://soundradio.live/event/trunk-or-treat-open-door-bc-denham-springs-la/
LOCATION:Open Door Baptist Church\, Denham Springs\, LA\, 7000 Gloryland Way\, Denham Springs\, LA\, 70726\, United States
END:VEVENT
BEGIN:VEVENT
DTSTART;TZID=America/Chicago:20241027T120000
DTEND;TZID=America/Chicago:20241027T143000
DTSTAMP:20260423T080253
CREATED:20241021T132022Z
LAST-MODIFIED:20241021T132022Z
UID:42877-1730030400-1730039400@soundradio.live
SUMMARY:Fall Fest / Comite BC\, Baton Rouge\, LA
DESCRIPTION:Fun / Games / Treats / Inflatables / Nacho Bar / Chili Cook-Off & much more
URL:https://soundradio.live/event/fall-fest-comite-bc-baton-rouge-la/
LOCATION:Comite Baptist Church\, Baton Rouge\, 12250 Greenwell Springs Road\, Baton Rouge\, LA\, 70814\, United States
END:VEVENT
BEGIN:VEVENT
DTSTART;TZID=America/Chicago:20241027T120000
DTEND;TZID=America/Chicago:20241027T143000
DTSTAMP:20260423T080253
CREATED:20241008T220011Z
LAST-MODIFIED:20241008T220011Z
UID:42854-1730030400-1730039400@soundradio.live
SUMMARY:Fall Festival / Comite BC\, Baton Rouge\, LA / Food\, Fun\, Inflatables\, Games\, Chili Cook-off\, Nacho Bar & More
DESCRIPTION:
URL:https://soundradio.live/event/fall-festival-comite-bc-baton-rouge-la-food-fun-inflatables-games-chili-cook-off-nacho-bar-more/
LOCATION:Comite Baptist Church\, Baton Rouge\, 12250 Greenwell Springs Road\, Baton Rouge\, LA\, 70814\, United States
END:VEVENT
BEGIN:VEVENT
DTSTART;TZID=America/Chicago:20241027T101500
DTEND;TZID=America/Chicago:20241027T120000
DTSTAMP:20260423T080253
CREATED:20241021T132126Z
LAST-MODIFIED:20241021T132126Z
UID:42879-1730024100-1730030400@soundradio.live
SUMMARY:Bluff Creek BC Homecoming
DESCRIPTION:
URL:https://soundradio.live/event/bluff-creek-bc-homecoming/
LOCATION:Bluff Creek Baptist Church\, 1706 Hwy 63\, Clinton\, LA\, United States
END:VEVENT
BEGIN:VEVENT
DTSTART;TZID=America/Chicago:20241026T180000
DTEND;TZID=America/Chicago:20241026T200000
DTSTAMP:20260423T080253
CREATED:20241021T131713Z
LAST-MODIFIED:20241021T131713Z
UID:42872-1729965600-1729972800@soundradio.live
SUMMARY:BOOth Fest / The Way Church\, Denham Springs\, LA
DESCRIPTION:
URL:https://soundradio.live/event/booth-fest-the-way-church-denham-springs-la/
LOCATION:The Way Church\, Denham Springs\, 9270 Cockerham Rd\, Denham Springs\, LA\, 70726\, United States
END:VEVENT
BEGIN:VEVENT
DTSTART;TZID=America/Chicago:20241026T180000
DTEND;TZID=America/Chicago:20241026T200000
DTSTAMP:20260423T080253
CREATED:20241021T131508Z
LAST-MODIFIED:20241021T131508Z
UID:42870-1729965600-1729972800@soundradio.live
SUMMARY:Community Fall Fest / Bluff Creek BC\, Clinton\, LA
DESCRIPTION:Games / Bounce House / Food / Outdoor Movie / Face Painting
URL:https://soundradio.live/event/community-fall-fest-bluff-creek-bc-clinton-la/
LOCATION:Bluff Creek Baptist Church\, 1706 Hwy 63\, Clinton\, LA\, United States
END:VEVENT
BEGIN:VEVENT
DTSTART;TZID=America/Chicago:20241026T170000
DTEND;TZID=America/Chicago:20241026T190000
DTSTAMP:20260423T080253
CREATED:20241021T131304Z
LAST-MODIFIED:20241104T142324Z
UID:42867-1729962000-1729969200@soundradio.live
SUMMARY:Fall Festival / Victory BC\, Hammond\, LA / Event at Ledbetter Home in Holden
DESCRIPTION:Games / Chili Cook Off / Face Painting / Corn Hole / Bounce Houses / Pumpkin Painting / Petting Zoo / Pony Rides
URL:https://soundradio.live/event/fall-festival-victory-bc-hammond-la-event-at-ledbetter-home-in-holden/
LOCATION:Ledbetter Home\, Holden\, 32003 N. Doyle Rd\, Holden\, LA\, 70744\, United States
END:VEVENT
BEGIN:VEVENT
DTSTART;TZID=UTC:20241026T170000
DTEND;TZID=UTC:20241026T183000
DTSTAMP:20260423T080253
CREATED:20241104T150158Z
LAST-MODIFIED:20241104T150240Z
UID:42909-1729962000-1729967400@soundradio.live
SUMMARY:Gospel Singing / The Chapel of God\, Walker\, LA / Chronicle
DESCRIPTION:
URL:https://soundradio.live/event/gospel-singing-the-chapel-of-god-walker-la-chronicle/
LOCATION:The Chapel of God\, 30100 Mayer Street\, Walker\, LA\, 70785\, United States
END:VEVENT
BEGIN:VEVENT
DTSTART;TZID=America/Chicago:20241026T160000
DTEND;TZID=America/Chicago:20241026T190000
DTSTAMP:20260423T080253
CREATED:20241008T220754Z
LAST-MODIFIED:20241008T220754Z
UID:42862-1729958400-1729969200@soundradio.live
SUMMARY:Fall Festival / South Walker BC\, Denham Springs\, LA / Pie the Pastor\, Games\, Costume Contest\, Food\, Door Prizes\, Pumpkin Patch\, Fall Maze\, Drinks\, Face Painting\, Bounce House\, S'mores
DESCRIPTION:
URL:https://soundradio.live/event/fall-festival-south-walker-bc-denham-springs-la-pie-the-pastor-games-costume-contest-food-door-prizes-pumpkin-patch-fall-maze-drinks-face-painting-bounce-house-smores/
LOCATION:South Walker Baptist Church\, Denham Springs\, 13719 Hammack Rd\, Denham Springs\, LA\, 70726\, United States
END:VEVENT
BEGIN:VEVENT
DTSTART;TZID=America/Chicago:20241026T140000
DTEND;TZID=America/Chicago:20241026T180000
DTSTAMP:20260423T080253
CREATED:20241008T215328Z
LAST-MODIFIED:20241008T215328Z
UID:42847-1729951200-1729965600@soundradio.live
SUMMARY:Fall Festival - Lighthouse BC\, Independence\, LA  - Chili Cook-Off\, Bounce House\, Slide\, Horse Rides\, Bake Sale\, Face Painting\, Corn Hole Games & More
DESCRIPTION:Chili Registration Form – email nicoley62010@yahoo.com \n 
URL:https://soundradio.live/event/fall-festival-lighthouse-bc-independence-la-chili-cook-off-bounce-house-slide-horse-rides-bake-sale-face-painting-corn-hole-games-more/
LOCATION:Lighthouse Baptist Church\, Folsom\, Louisiana\, United States
END:VEVENT
BEGIN:VEVENT
DTSTART;TZID=America/Chicago:20241026T110000
DTEND;TZID=America/Chicago:20241026T140000
DTSTAMP:20260423T080253
CREATED:20241104T145830Z
LAST-MODIFIED:20241104T145830Z
UID:42907-1729940400-1729951200@soundradio.live
SUMMARY:Annual Fall Festival / Oakview BC\, Livingston\, LA / Games\, Food\, Face Painting\, Live Music\, Car Show\, Petting Zoo
DESCRIPTION:
URL:https://soundradio.live/event/annual-fall-festival-oakview-bc-livingston-la-games-food-face-painting-live-music-car-show-petting-zoo/
LOCATION:Oakview Baptist Church\, Livingston\, LA\, 27364 S Frost Rd\, Livingston\, LA\, 70754\, United States
END:VEVENT
BEGIN:VEVENT
DTSTART;TZID=America/Chicago:20241026T110000
DTEND;TZID=America/Chicago:20241026T140000
DTSTAMP:20260423T080253
CREATED:20241001T212413Z
LAST-MODIFIED:20241001T212413Z
UID:42843-1729940400-1729951200@soundradio.live
SUMMARY:Fall Festival / Oakview BC\, Livingston\, LA / Games\, Food\, Free Painting\, Live Music\, Car Show\, Petting Zoo
DESCRIPTION:
URL:https://soundradio.live/event/fall-festival-oakview-bc-livingston-la-games-food-free-painting-live-music-car-show-petting-zoo/
LOCATION:Oakview Baptist Church\, Livingston\, LA\, 27364 S Frost Rd\, Livingston\, LA\, 70754\, United States
END:VEVENT
BEGIN:VEVENT
DTSTART;TZID=America/Chicago:20241024T183000
DTEND;TZID=America/Chicago:20241024T210000
DTSTAMP:20260423T080253
CREATED:20240826T173829Z
LAST-MODIFIED:20240826T173829Z
UID:42703-1729794600-1729803600@soundradio.live
SUMMARY:Caring To Love Ministries' 39th Annual Celebrate Life Banquet / Renaissance Hotel\, Baton Rouge\, LA / FRC Pres. Tony Perkins\, Host; Governor Jeff Landry\, Keynote Speaker; and Ricky Skaggs\, Mini Concert
DESCRIPTION:Register now: https://secure.anedot.com/caring-to-love-ministries/33883fbf-1cd5-4de7-bd0c-30037c51c146 \n 
URL:https://soundradio.live/event/caring-to-love-ministries-39th-annual-celebrate-life-banquet-renaissance-hotel-baton-rouge-la-frc-pres-tony-perkins-host-governor-jeff-landry-keynote-speaker-and-ricky-skaggs-mini-concer/
LOCATION:Renaissance Baton Rouge Hotel\, 7000 Bluebonnet Blvd.\, Baton Rouge\, LA\, 70810\, United States
END:VEVENT
BEGIN:VEVENT
DTSTART;TZID=America/Chicago:20241021T190000
DTEND;TZID=America/Chicago:20241021T203000
DTSTAMP:20260423T080253
CREATED:20241021T133421Z
LAST-MODIFIED:20241021T133421Z
UID:42883-1729537200-1729542600@soundradio.live
SUMMARY:Monday Night Meeting / Fundamental BC\, Livingston\, LA / Guest Pastor: Bro. Cody Ladner; Special Music: The Doucettes
DESCRIPTION:
URL:https://soundradio.live/event/monday-night-meeting-fundamental-bc-livingston-la-guest-pastor-bro-cody-ladner-special-music-the-doucettes/
LOCATION:Fundamental Baptist Church of Livingston LA\, 24240 Frost Road\, Livingston\, LA\, 70754\, United States
END:VEVENT
BEGIN:VEVENT
DTSTART;TZID=America/Chicago:20241021T100000
DTEND;TZID=America/Chicago:20241021T200000
DTSTAMP:20260423T080253
CREATED:20240920T214511Z
LAST-MODIFIED:20240920T214511Z
UID:42812-1729504800-1729540800@soundradio.live
SUMMARY:Central's Fall Fest / Settlement at Shoe Creek\, 14150 Settlement Blvd.\, Central\, LA
DESCRIPTION:Free Event : Shop The Square\, Live Music with Worship Bands\, Kids’ Activities\, Trunk or Treat\, Food Trucks\, and more! \nHosted by Chamber of Commerce and the City of Central
URL:https://soundradio.live/event/centrals-fall-fest-settlement-at-shoe-creek-14150-settlement-blvd-central-la/
LOCATION:Settlement at Shoe Creek\, Central\, LA\, 14150 Grand Settlement Blvd.\, Central\, LA\, United States
END:VEVENT
BEGIN:VEVENT
DTSTART;TZID=America/Chicago:20241020T183000
DTEND;TZID=America/Chicago:20241020T200000
DTSTAMP:20260423T080253
CREATED:20241008T215745Z
LAST-MODIFIED:20241008T215745Z
UID:42852-1729449000-1729454400@soundradio.live
SUMMARY:Revival / New Bethlehem Church\, Denham Springs\, LA / Speaker: Bro. Mike Courtney; Worship: Broken Vessels
DESCRIPTION:
URL:https://soundradio.live/event/revival-new-bethlehem-church-denham-springs-la-speaker-bro-mike-courtney-worship-broken-vessels-2/
LOCATION:New Bethlehem Church\, Denham Springs\, 37818 Renninger Rd\, Denham Springs\, LA\, United States
END:VEVENT
BEGIN:VEVENT
DTSTART;TZID=America/Chicago:20241020T170000
DTEND;TZID=America/Chicago:20241020T190000
DTSTAMP:20260423T080253
CREATED:20241008T220513Z
LAST-MODIFIED:20241008T220513Z
UID:42859-1729443600-1729450800@soundradio.live
SUMMARY:Trunk or Treat / Bethel UMC\, Pride\, LA
DESCRIPTION:
URL:https://soundradio.live/event/trunk-or-treat-bethel-umc-pride-la/
LOCATION:Bethel United Methodist Church\, Pride\, LA\, 17022 Liberty Rd\, Pride\, LA\, 70770\, United States
END:VEVENT
END:VCALENDAR