BEGIN:VCALENDAR
VERSION:2.0
PRODID:-//Sound Radio - ECPv5.15.0//NONSGML v1.0//EN
CALSCALE:GREGORIAN
METHOD:PUBLISH
X-WR-CALNAME:Sound Radio
X-ORIGINAL-URL:https://soundradio.live
X-WR-CALDESC:Events for Sound Radio
REFRESH-INTERVAL;VALUE=DURATION:PT1H
X-Robots-Tag:noindex
X-PUBLISHED-TTL:PT1H
BEGIN:VTIMEZONE
TZID:America/Chicago
BEGIN:DAYLIGHT
TZOFFSETFROM:-0600
TZOFFSETTO:-0500
TZNAME:CDT
DTSTART:20240310T080000
END:DAYLIGHT
BEGIN:STANDARD
TZOFFSETFROM:-0500
TZOFFSETTO:-0600
TZNAME:CST
DTSTART:20241103T070000
END:STANDARD
BEGIN:DAYLIGHT
TZOFFSETFROM:-0600
TZOFFSETTO:-0500
TZNAME:CDT
DTSTART:20250309T080000
END:DAYLIGHT
BEGIN:STANDARD
TZOFFSETFROM:-0500
TZOFFSETTO:-0600
TZNAME:CST
DTSTART:20251102T070000
END:STANDARD
END:VTIMEZONE
BEGIN:VEVENT
DTSTART;TZID=America/Chicago:20250125T170000
DTEND;TZID=America/Chicago:20250125T210000
DTSTAMP:20260423T064013
CREATED:20250120T213759Z
LAST-MODIFIED:20250120T213759Z
UID:43071-1737824400-1737838800@soundradio.live
SUMMARY:Fourth Sunday Singing / Pleasant Valley Church\, Smithdale\, MS / Open Mic; Let's All Exalt Him; and Gulley Jumpers
DESCRIPTION:
URL:https://soundradio.live/event/fourth-sunday-singing-pleasant-valley-church-smithdale-ms-open-mic-lets-all-exalt-him-and-gulley-jumpers/
LOCATION:Pleasant Valley Church\, 6028-A Fenn Road\, Smithdale\, MS\, 39664\, United States
END:VEVENT
BEGIN:VEVENT
DTSTART;TZID=America/Chicago:20250119T180000
DTEND;TZID=America/Chicago:20250119T200000
DTSTAMP:20260423T064013
CREATED:20241204T142246Z
LAST-MODIFIED:20241204T142246Z
UID:42983-1737309600-1737316800@soundradio.live
SUMMARY:An Evening of Worship with Ivan Parker & Greg Sullivan / New Life BC\, Albany\, LA
DESCRIPTION:
URL:https://soundradio.live/event/an-evening-of-worship-with-ivan-parker-greg-sullivan-new-life-bc-albany-la/
LOCATION:New Life Baptist Church Albany\, 24642 LA Hwy 442\, Albany
END:VEVENT
BEGIN:VEVENT
DTSTART;TZID=America/Chicago:20250119T100000
DTEND;TZID=America/Chicago:20250119T113000
DTSTAMP:20260423T064013
CREATED:20241231T205036Z
LAST-MODIFIED:20241231T205036Z
UID:43006-1737280800-1737286200@soundradio.live
SUMMARY:Gospel Singing / Westlake United Methodist Church\, Westlake\, LA / Chronicle
DESCRIPTION:
URL:https://soundradio.live/event/gospel-singing-westlake-united-methodist-church-westlake-la-chronicle/
LOCATION:Westlake UMC\, Westlake\, LA\, 704 Johnson Street\, Westlake\, LA\, 70669\, United States
END:VEVENT
BEGIN:VEVENT
DTSTART;TZID=America/Chicago:20250111T170000
DTEND;TZID=America/Chicago:20250111T210000
DTSTAMP:20260423T064013
CREATED:20250107T204015Z
LAST-MODIFIED:20250107T204015Z
UID:43055-1736614800-1736629200@soundradio.live
SUMMARY:Gospel Singing / Gospel Opry\, Liberty\, MS /  Dennis Calmes
DESCRIPTION:Doors Open at 5:00 pm \nOpen Mic 5:45-7:00 pm \nNew Life Country Gospel 7:00-8:00 pm \nDennis Calmes 8:00-9:00 pm
URL:https://soundradio.live/event/gospel-singing-gospel-opry-liberty-ms-dennis-calmes/
LOCATION:Gospel Opry\, Liberty\, MS\, 910 McComb Liberty Rd\, Liberty\, MS\, United States
END:VEVENT
BEGIN:VEVENT
DTSTART;TZID=America/Chicago:20250110T190000
DTEND;TZID=America/Chicago:20250110T200000
DTSTAMP:20260423T064013
CREATED:20250107T204719Z
LAST-MODIFIED:20250107T204719Z
UID:43064-1736535600-1736539200@soundradio.live
SUMMARY:Gospel Concert / Temple BC\, Baton Rouge\, LA / Ben Rochester Family
DESCRIPTION:
URL:https://soundradio.live/event/gospel-concert-temple-bc-baton-rouge-la-ben-rochester-family/
LOCATION:Temple Baptist Church\, Baton Rouge\, 3650 O'Neal Ln\, Baton Rouge\, LA\, 70816\, United States
END:VEVENT
BEGIN:VEVENT
DTSTART;TZID=America/Chicago:20250109T190000
DTEND;TZID=America/Chicago:20250109T200000
DTSTAMP:20260423T064013
CREATED:20250107T204534Z
LAST-MODIFIED:20250107T204534Z
UID:43061-1736449200-1736452800@soundradio.live
SUMMARY:Gospel Concert / Lee's Chapel No. 1 BC\, Carriere\, MS / Ben Rochester Family
DESCRIPTION:
URL:https://soundradio.live/event/gospel-concert-lees-chapel-no-1-bc-carriere-ms-ben-rochester-family/
LOCATION:Lee’s Chapel No.1 Baptist Church\, Carriere\, MS\, 11 Herb Lee Fred Spiers Rd\, Carriere\, MS\, 39426\, United States
END:VEVENT
BEGIN:VEVENT
DTSTART;TZID=America/Chicago:20250108T190000
DTEND;TZID=America/Chicago:20250108T200000
DTSTAMP:20260423T064013
CREATED:20250107T204212Z
LAST-MODIFIED:20250107T204316Z
UID:43057-1736362800-1736366400@soundradio.live
SUMMARY:Gospel Concert / Fundamental BC\, Livingston\, LA / Ben Rochester Family
DESCRIPTION:
URL:https://soundradio.live/event/gospel-concert-fundamental-bc-baton-rouge-la-ben-rochester-family/
LOCATION:Fundamental Baptist Church of Livingston LA\, 24240 Frost Road\, Livingston\, LA\, 70754\, United States
END:VEVENT
BEGIN:VEVENT
DTSTART;TZID=America/Chicago:20250104T190000
DTEND;TZID=America/Chicago:20250104T203000
DTSTAMP:20260423T064013
CREATED:20241228T181618Z
LAST-MODIFIED:20241228T181618Z
UID:42998-1736017200-1736022600@soundradio.live
SUMMARY:Southern Gospel Concert / Hurricane Creek BC\, Sandy Hook\, MS / Bibletones Quartet / Host: Pastor Joel Germany
DESCRIPTION:
URL:https://soundradio.live/event/southern-gospel-concert-hurricane-creek-bc-sandy-hook-ms-bibletones-quartet-host-pastor-joel-germany/
LOCATION:Hurricane Creek Baptist Church\, Sandy Hook\, MS\, 247 Hurricane Creek Church Rd\, Sandy Hook\, MS\, 39478\, United States
END:VEVENT
BEGIN:VEVENT
DTSTART;TZID=America/Chicago:20250104T170000
DTEND;TZID=America/Chicago:20250104T200000
DTSTAMP:20260423T064013
CREATED:20241231T212535Z
LAST-MODIFIED:20241231T212535Z
UID:43034-1736010000-1736020800@soundradio.live
SUMMARY:Monthly Gospel Singing / New Beginnings Worship Center\, Loranger\, LA / The New Gospel Travelers
DESCRIPTION:
URL:https://soundradio.live/event/monthly-gospel-singing-new-beginnings-worship-center-loranger-la-the-new-gospel-travelers/
LOCATION:New Beginnings Worship Center\, 54140 Passman Rd\, Loranger\, LA\, 70446\, United States
END:VEVENT
BEGIN:VEVENT
DTSTART;TZID=America/Chicago:20250103T173000
DTEND;TZID=America/Chicago:20250103T210000
DTSTAMP:20260423T064013
CREATED:20241228T181309Z
LAST-MODIFIED:20241228T181309Z
UID:42994-1735925400-1735938000@soundradio.live
SUMMARY:Monthly Southern & Country Gospel Concert / Good News Fellowship Church\, Tickfaw\, LA / Hosts: Mike & Barbara Vaughn with Kelly Barber & Friends / Guests: Under Grace Band and Reggie Duncan
DESCRIPTION:Doors Open at 5:30 pm \nSinging at 6:30 pm \nConcession Stand Available
URL:https://soundradio.live/event/monthly-southern-country-gospel-concert-good-news-fellowship-church-tickfaw-la-hosts-mike-barbara-vaughn-with-kelly-barber-friends-guests-under-grace-band-and-reggie-duncan/
LOCATION:Mike Vaughn Ministries/Good News Fellowship Church\, 13101 Hwy 442 W\, Tickfaw\, LA
END:VEVENT
BEGIN:VEVENT
DTSTART;TZID=America/Chicago:20241231T190000
DTEND;TZID=America/Chicago:20241231T210000
DTSTAMP:20260423T064013
CREATED:20241228T181027Z
LAST-MODIFIED:20241228T181027Z
UID:42991-1735671600-1735678800@soundradio.live
SUMMARY:New Year's Eve Concert / Plainview BC\, Hornbeck\, LA / The Southern Plainsmen & Mark Lanier - Also Featuring Jeremy Glass & Charles Thomas
DESCRIPTION:
URL:https://soundradio.live/event/new-years-eve-concert-plainview-bc-hornbeck-la-the-southern-plainsmen-mark-lanier-also-featuring-jeremy-glass-charles-thomas/
LOCATION:Plainview Baptist Church\, Hornbeck\, LA\, 7846 Plainview Rd\, Hornbeck\, LA\, 71439\, United States
END:VEVENT
BEGIN:VEVENT
DTSTART;TZID=America/Chicago:20241231T183000
DTEND;TZID=America/Chicago:20241231T203000
DTSTAMP:20260423T064013
CREATED:20241228T182031Z
LAST-MODIFIED:20241228T182031Z
UID:43000-1735669800-1735677000@soundradio.live
SUMMARY:Big New Years Eve Gospel Singing / Briar Hill BC\, Florence\, MS / Tim Frith & Gospel Echoes\, Revelations & Resolved Quartet
DESCRIPTION:
URL:https://soundradio.live/event/big-new-years-eve-gospel-singing-briar-hill-bc-florence-ms-tim-frith-gospel-echoes-revelations-resolved-quartet/
LOCATION:Briar Hill Baptist Church\, Florence\, MS\, 707 MS-469\, Florence\, MS\, United States
END:VEVENT
BEGIN:VEVENT
DTSTART;TZID=America/Chicago:20241224T170000
DTEND;TZID=America/Chicago:20241224T180000
DTSTAMP:20260423T064013
CREATED:20241228T181428Z
LAST-MODIFIED:20241228T181428Z
UID:42996-1735059600-1735063200@soundradio.live
SUMMARY:A Night of Lights Christmas Eve Service / Live Oak BC\, Denham Springs\, LA 70706
DESCRIPTION:
URL:https://soundradio.live/event/a-night-of-lights-christmas-eve-service-live-oak-bc-denham-springs-la-70706/
LOCATION:Live Oak Baptist Church of Watson\, 35603 Coxe Ave\, Denham Springs\, LA\, 70706\, United States
END:VEVENT
BEGIN:VEVENT
DTSTART;TZID=America/Chicago:20241224T163000
DTEND;TZID=America/Chicago:20241224T173000
DTSTAMP:20260423T064013
CREATED:20241228T180528Z
LAST-MODIFIED:20241228T180528Z
UID:42987-1735057800-1735061400@soundradio.live
SUMMARY:Christmas Eve Service / Amite Church\, Denham Springs\, LA
DESCRIPTION:Music\, Worship\, Candlelight\, Lord’s Supper
URL:https://soundradio.live/event/christmas-eve-service-amite-church-denham-springs-la/
LOCATION:Amite Baptist Church\, 7100 Amite Church Road\, Denham Springs\, LA\, 70706\, United States
END:VEVENT
BEGIN:VEVENT
DTSTART;TZID=America/Chicago:20241222T103000
DTEND;TZID=America/Chicago:20241222T120000
DTSTAMP:20260423T064013
CREATED:20241104T155550Z
LAST-MODIFIED:20241104T155550Z
UID:42929-1734863400-1734868800@soundradio.live
SUMMARY:Gospel Singing / Midway BC\, Ponchatoula\, LA / Chronicle
DESCRIPTION:
URL:https://soundradio.live/event/gospel-singing-midway-bc-ponchatoula-la-chronicle-2/
LOCATION:Midway Baptist Church\, Bedico\, LA\, United States
END:VEVENT
BEGIN:VEVENT
DTSTART;TZID=America/Chicago:20241222T093000
DTEND;TZID=America/Chicago:20241222T110000
DTSTAMP:20260423T064013
CREATED:20241228T180745Z
LAST-MODIFIED:20241228T180745Z
UID:42989-1734859800-1734865200@soundradio.live
SUMMARY:Christmas In Watson / Live Oak High School\, Denham Springs\, LA 70706 / Host: Live Oak BC
DESCRIPTION:9:30 – 10:00 am Light Breakfast & Coffee \n10:00 am Christmas Service
URL:https://soundradio.live/event/christmas-in-watson-live-oak-high-school-denham-springs-la-70706-host-live-oak-bc/
LOCATION:Live Oak High School\, Denham Springs\, LA\, 36079 LA Hwy 16\, Denham Springs\, LA\, 70706\, United States
END:VEVENT
BEGIN:VEVENT
DTSTART;TZID=America/Chicago:20241221T170000
DTEND;TZID=America/Chicago:20241222T190000
DTSTAMP:20260423T064013
CREATED:20241121T130246Z
LAST-MODIFIED:20241121T130246Z
UID:42960-1734800400-1734894000@soundradio.live
SUMMARY:Live Nativity Drive Thru / Watson BC\, Watson\, LA
DESCRIPTION:
URL:https://soundradio.live/event/live-nativity-drive-thru-watson-bc-watson-la/
LOCATION:Watson Baptist Church\, Denham Springs\, LA\, 35831 Cane Market Rd\, Denham Springs\, LA\, 70706\, United States
END:VEVENT
BEGIN:VEVENT
DTSTART;TZID=America/Chicago:20241215T180000
DTEND;TZID=America/Chicago:20241215T190000
DTSTAMP:20260423T064013
CREATED:20241204T141734Z
LAST-MODIFIED:20241204T141734Z
UID:42980-1734285600-1734289200@soundradio.live
SUMMARY:Christmas Around The World / New Heights BC\, Summit\, MS / McComb Area Community Choir
DESCRIPTION:
URL:https://soundradio.live/event/christmas-around-the-world-new-heights-bc-summit-ms-mccomb-area-community-choir/
LOCATION:New Heights Baptist Church\, 5140 Highway 98 W\, Summit\, LA\, 39666\, United States
END:VEVENT
BEGIN:VEVENT
DTSTART;TZID=America/Chicago:20241215T150000
DTEND;TZID=America/Chicago:20241215T160000
DTSTAMP:20260423T064013
CREATED:20241204T141636Z
LAST-MODIFIED:20241204T141636Z
UID:42978-1734274800-1734278400@soundradio.live
SUMMARY:Christmas Around The World / Centenary UMC\, McComb\, MS / McComb Area Community Choir
DESCRIPTION:
URL:https://soundradio.live/event/christmas-around-the-world-centenary-umc-mccomb-ms-mccomb-area-community-choir/
LOCATION:Centenary UMC\, McComb\, MS\, 500 Delaware Ave\, McComb\, MS\, United States
END:VEVENT
BEGIN:VEVENT
DTSTART;TZID=America/Chicago:20241215T110000
DTEND;TZID=America/Chicago:20241215T123000
DTSTAMP:20260423T064013
CREATED:20241104T155443Z
LAST-MODIFIED:20241104T155443Z
UID:42927-1734260400-1734265800@soundradio.live
SUMMARY:Gospel Singing / Red Oak BC\, Livingston\, LA / Chronicle
DESCRIPTION:
URL:https://soundradio.live/event/gospel-singing-red-oak-bc-livingston-la-chronicle-2/
LOCATION:Red Oak Baptist Church\, 28760 Red Oak Rd.\, Livingston\, LA\, 70754\, United States
END:VEVENT
BEGIN:VEVENT
DTSTART;TZID=America/Chicago:20241215T104500
DTEND;TZID=America/Chicago:20241215T120000
DTSTAMP:20260423T064013
CREATED:20241212T183447Z
LAST-MODIFIED:20241212T183447Z
UID:42985-1734259500-1734264000@soundradio.live
SUMMARY:Southern Gospel / Slaughter FBC\, Slaughter\, LA / The LeFevre Quartet
DESCRIPTION:
URL:https://soundradio.live/event/southern-gospel-slaughter-fbc-slaughter-la-the-lefevre-quartet/
LOCATION:First Baptist Church\, Slaughter\, 3227 Church Street\, Slaughter\, LA\, United States
END:VEVENT
BEGIN:VEVENT
DTSTART;TZID=America/Chicago:20241214T180000
DTEND;TZID=America/Chicago:20241214T210000
DTSTAMP:20260423T064013
CREATED:20241113T201519Z
LAST-MODIFIED:20241113T201519Z
UID:42945-1734199200-1734210000@soundradio.live
SUMMARY:20th Anniversary - Christmas In The Pines / Pine Grover BC\, Livingston\, LA / The LeFevre Quartet / Dinner & A Concert
DESCRIPTION:Free Meal @ 6:00 pm \nConcert Begins @ 6:30 pm \nA photographer will also be available to take Christmas Photos
URL:https://soundradio.live/event/20th-anniversary-christmas-in-the-pines-pine-grover-bc-livingston-la-the-lefevre-quartet-dinner-a-concert/
LOCATION:Pine Grove Baptist Church\, 21949 LA Hwy 444\, Livingston\, LA\, 70754\, United States
END:VEVENT
BEGIN:VEVENT
DTSTART;TZID=America/Chicago:20241214T170000
DTEND;TZID=America/Chicago:20241214T210000
DTSTAMP:20260423T064013
CREATED:20241121T130632Z
LAST-MODIFIED:20241121T130632Z
UID:42962-1734195600-1734210000@soundradio.live
SUMMARY:Monthly Gospel Concert / Southwest Mississippi Original Gospel Opry\, Liberty\, MS / Special Guest: Barry Guidry from Houma\, LA
DESCRIPTION:Doors Open at 5 pm \nOpen Mic 5:45-7:00 pm \nNew Life Country Gospel 7-8 pm \nBarry Guidry 8-9 pm
URL:https://soundradio.live/event/monthly-gospel-concert-southwest-mississippi-original-gospel-opry-liberty-ms-special-guest-barry-guidry-from-houma-la/
LOCATION:Southwest Mississippi Original Gospel Opry\, Liberty\, MS\, Harrison Building\, 910 Old McComb-Liberty Road\, Liberty\, MS\, United States
END:VEVENT
BEGIN:VEVENT
DTSTART;TZID=America/Chicago:20241214T163000
DTEND;TZID=America/Chicago:20241214T190000
DTSTAMP:20260423T064013
CREATED:20241122T144325Z
LAST-MODIFIED:20241122T144325Z
UID:42967-1734193800-1734202800@soundradio.live
SUMMARY:A Jazzy Little Christmas Concert / Heritage Church\, Hattiesburg\, MS / Ernie Haase & Signature Sound
DESCRIPTION:Advance Ticket Price: Artist Circle (nearest stage) $40 each (doors open for a/c @ 3:30 pm) \nGeneral Admission $30 each (doors open for g/a @ 4:00 pm) \nAll tickets at the door are $30 each\, if available.  Children 5 & under “free” with paid admission. \nGroup Rate: Buy 12 and get one ticket “free”. Applies to General Admission only \nCall 601-261-3371 to order tickets by phone / Online @ iTickets.com \nTickets may be purchased at the Heritage Church Office Mon-Thurs 9-5 and Fri till noon
URL:https://soundradio.live/event/a-jazzy-little-christmas-concert-heritage-church-hattiesburg-ms-ernie-haase-signature-sound/
LOCATION:Heritage Church\, Hattiesburg\, MS\, 3 Baracuda Dr.\, Hattiesburg\, MS\, 39402\, United States
END:VEVENT
BEGIN:VEVENT
DTSTART;TZID=America/Chicago:20241214T150000
DTEND;TZID=America/Chicago:20241215T163000
DTSTAMP:20260423T064013
CREATED:20241121T125859Z
LAST-MODIFIED:20241121T125859Z
UID:42957-1734188400-1734280200@soundradio.live
SUMMARY:Christmas In The Air - Christmas Musical Drama with Live Orchestra / Zoar BC\, Central City\, LA
DESCRIPTION:
URL:https://soundradio.live/event/christmas-in-the-air-christmas-musical-drama-with-live-orchestra-zoar-bc-central-city-la-2/
LOCATION:Zoar Baptist Church\, 11848 Hooper Rd.\, Baton Rouge\, LA\, 70818\, United States
END:VEVENT
BEGIN:VEVENT
DTSTART;TZID=America/Chicago:20241214T093000
DTEND;TZID=America/Chicago:20241214T160000
DTSTAMP:20260423T064013
CREATED:20241129T141110Z
LAST-MODIFIED:20241129T141110Z
UID:42974-1734168600-1734192000@soundradio.live
SUMMARY:Winter Craft Fair & Music Jam / Grangeville Baptist Church\, Pine Grove\, LA
DESCRIPTION:Baked Goods; Wreaths; Hand-painted Decor; Face Painting; Woodwork; Bounce House; Jewelry & More!
URL:https://soundradio.live/event/winter-craft-fair-music-jam-grangeville-baptist-church-pine-grove-la/
LOCATION:Grangeville Baptist Church\, 3599 La 63\, Pine Grove\, LA\, 70453\, United States
END:VEVENT
BEGIN:VEVENT
DTSTART;TZID=America/Chicago:20241213T183000
DTEND;TZID=America/Chicago:20241213T203000
DTSTAMP:20260423T064013
CREATED:20241113T202301Z
LAST-MODIFIED:20241204T142014Z
UID:42947-1734114600-1734121800@soundradio.live
SUMMARY:A Christmas Night of Worship / Old Zion Hill BC\, Independence\, LA / The LeFevre Quartet
DESCRIPTION:
URL:https://soundradio.live/event/southern-gospel-concert-old-zion-hill-bc-independence-la-the-lefevre-quartet/
LOCATION:Old Zion Hill Baptist Church\, Independence\, 25890 Hwy 442\, Independence\, LA\, 70443\, United States
END:VEVENT
BEGIN:VEVENT
DTSTART;TZID=America/Chicago:20241212T190000
DTEND;TZID=America/Chicago:20241214T203000
DTSTAMP:20260423T064013
CREATED:20241121T125729Z
LAST-MODIFIED:20241121T130038Z
UID:42955-1734030000-1734208200@soundradio.live
SUMMARY:Christmas In The Air - Christmas Musical Drama with Live Orchestra / Zoar BC\, Central City\, LA
DESCRIPTION:
URL:https://soundradio.live/event/christmas-in-the-air-christmas-musical-drama-with-live-orchestra-zoar-bc-central-city-la/
LOCATION:Zoar Baptist Church\, 11848 Hooper Rd.\, Baton Rouge\, LA\, 70818\, United States
END:VEVENT
BEGIN:VEVENT
DTSTART;TZID=America/Chicago:20241208T160000
DTEND;TZID=America/Chicago:20241208T173000
DTSTAMP:20260423T064013
CREATED:20241129T140722Z
LAST-MODIFIED:20241129T140722Z
UID:42972-1733673600-1733679000@soundradio.live
SUMMARY:Cookies In The Country / Ladies Cookie Exchange\, Woodland BC\, Springfield\, LA
DESCRIPTION:Bring a dozen or two of your favorite cookies along with recipe cards for sharing. \nCookies will be judged for presentation and taste.
URL:https://soundradio.live/event/cookies-in-the-country-ladies-cookie-exchange-woodland-bc-springfield-la/
LOCATION:Woodland Baptist Church\, Springfield\, LA\, 27929 LA-1037\, Springfield\, LA\, United States
END:VEVENT
BEGIN:VEVENT
DTSTART;TZID=America/Chicago:20241208T093000
DTEND;TZID=America/Chicago:20241208T110000
DTSTAMP:20260423T064013
CREATED:20241104T155204Z
LAST-MODIFIED:20241104T155327Z
UID:42925-1733650200-1733655600@soundradio.live
SUMMARY:Gospel Singing / Faith BC\, Livingston\, LA / Chronicle
DESCRIPTION:
URL:https://soundradio.live/event/gospel-singing-faith-bc-livingston-la-chronicle-2/
LOCATION:Faith Baptist Church\, Livingston\, LA\, 17884 LA-42\, Livingston\, LA\, 70754\, United States
END:VEVENT
END:VCALENDAR