BEGIN:VCALENDAR
VERSION:2.0
PRODID:-//Sound Radio - ECPv5.15.0//NONSGML v1.0//EN
CALSCALE:GREGORIAN
METHOD:PUBLISH
X-WR-CALNAME:Sound Radio
X-ORIGINAL-URL:https://soundradio.live
X-WR-CALDESC:Events for Sound Radio
REFRESH-INTERVAL;VALUE=DURATION:PT1H
X-Robots-Tag:noindex
X-PUBLISHED-TTL:PT1H
BEGIN:VTIMEZONE
TZID:America/Chicago
BEGIN:DAYLIGHT
TZOFFSETFROM:-0600
TZOFFSETTO:-0500
TZNAME:CDT
DTSTART:20250309T080000
END:DAYLIGHT
BEGIN:STANDARD
TZOFFSETFROM:-0500
TZOFFSETTO:-0600
TZNAME:CST
DTSTART:20251102T070000
END:STANDARD
TZID:UTC
BEGIN:STANDARD
TZOFFSETFROM:+0000
TZOFFSETTO:+0000
TZNAME:UTC
DTSTART:20250101T000000
END:STANDARD
END:VTIMEZONE
BEGIN:VEVENT
DTSTART;TZID=America/Chicago:20250412T170000
DTEND;TZID=America/Chicago:20250412T210000
DTSTAMP:20260422T005839
CREATED:20250411T015145Z
LAST-MODIFIED:20250411T015145Z
UID:43119-1744477200-1744491600@soundradio.live
SUMMARY:Gospel Singing / The Gospel Opry\, Liberty\, MS / Cooksey Family Legacy
DESCRIPTION:
URL:https://soundradio.live/event/gospel-singing-the-gospel-opry-liberty-ms-cooksey-family-legacy/
LOCATION:Gospel Opry\, Liberty\, MS\, 910 McComb Liberty Rd\, Liberty\, MS\, United States
END:VEVENT
BEGIN:VEVENT
DTSTART;TZID=America/Chicago:20250412T090000
DTEND;TZID=America/Chicago:20250412T130000
DTSTAMP:20260422T005839
CREATED:20250213T141417Z
LAST-MODIFIED:20250213T141417Z
UID:43084-1744448400-1744462800@soundradio.live
SUMMARY:Car Show & Jambalaya Cook-Off / Live Oak BC\, Denham Springs\, LA
DESCRIPTION:Call 225-243-6138 to Register \n$25 Registration Fee for Car Show Entry
URL:https://soundradio.live/event/car-show-jambalaya-cook-off-live-oak-bc-denham-springs-la/
LOCATION:Live Oak Baptist Church of Watson\, 35603 Coxe Ave\, Denham Springs\, LA\, 70706\, United States
END:VEVENT
BEGIN:VEVENT
DTSTART;TZID=America/Chicago:20250407T190000
DTEND;TZID=America/Chicago:20250407T203000
DTSTAMP:20260422T005839
CREATED:20250411T015505Z
LAST-MODIFIED:20250411T015505Z
UID:43123-1744052400-1744057800@soundradio.live
SUMMARY:Revival / New Beginnings Worship Center\, Loranger\, LA / Reverends Harry & Donna Gamble
DESCRIPTION:
URL:https://soundradio.live/event/revival-new-beginnings-worship-center-loranger-la-reverends-harry-donna-gamble-2/
LOCATION:New Beginnings Worship Center\, 54140 Passman Rd\, Loranger\, LA\, 70446\, United States
END:VEVENT
BEGIN:VEVENT
DTSTART;TZID=America/Chicago:20250406T150000
DTEND;TZID=America/Chicago:20250406T163000
DTSTAMP:20260422T005839
CREATED:20250411T015359Z
LAST-MODIFIED:20250411T015359Z
UID:43121-1743951600-1743957000@soundradio.live
SUMMARY:Revival / New Beginnings Worship Center\, Loranger\, LA / Reverends Harry & Donna Gamble
DESCRIPTION:
URL:https://soundradio.live/event/revival-new-beginnings-worship-center-loranger-la-reverends-harry-donna-gamble/
LOCATION:LA
END:VEVENT
BEGIN:VEVENT
DTSTART;TZID=America/Chicago:20250406T103000
DTEND;TZID=America/Chicago:20250406T120000
DTSTAMP:20260422T005839
CREATED:20250411T015643Z
LAST-MODIFIED:20250411T015643Z
UID:43125-1743935400-1743940800@soundradio.live
SUMMARY:Ministry Visit / Cross Point Church\, East Columbus\, MS / Greg Sullivan
DESCRIPTION:
URL:https://soundradio.live/event/ministry-visit-cross-point-church-east-columbus-ms-greg-sullivan/
LOCATION:Cross Point Church\, 2274 Yorkville Rd\, Columbus\, MS\, United States
END:VEVENT
BEGIN:VEVENT
DTSTART;TZID=America/Chicago:20250405T170000
DTEND;TZID=America/Chicago:20250405T200000
DTSTAMP:20260422T005839
CREATED:20250411T015902Z
LAST-MODIFIED:20250411T015902Z
UID:43127-1743872400-1743883200@soundradio.live
SUMMARY:Monthly  Singing / New Beginnings Worship Center\, Lorange\, LA / Bro. Kenneth Dixon & New Life Country Gospel
DESCRIPTION:
URL:https://soundradio.live/event/monthly-singing-new-beginnings-worship-center-lorange-la-bro-kenneth-dixon-new-life-country-gospel/
LOCATION:New Beginnings Worship Center\, 54140 Passman Rd\, Loranger\, LA\, 70446\, United States
END:VEVENT
BEGIN:VEVENT
DTSTART;TZID=America/Chicago:20250405T160000
DTEND;TZID=America/Chicago:20250405T180000
DTSTAMP:20260422T005839
CREATED:20250213T141810Z
LAST-MODIFIED:20250213T141810Z
UID:43086-1743868800-1743876000@soundradio.live
SUMMARY:Hometown Gospel Fest / FBC\, Laurel\, MS / Michael Combs\, Brian Free & Assurance\, Karen Peck & New River\, The Bibletones / Emcee: Josh Franks
DESCRIPTION:
URL:https://soundradio.live/event/hometown-gospel-fest-fbc-laurel-ms-michael-combs-brian-free-assurance-karen-peck-new-river-the-bibletones-emcee-josh-franks-2/
LOCATION:First Baptist Church\, Laurel\, MS\, 607 West 5th Street\, Laurel\, MS\, 39443\, United States
END:VEVENT
BEGIN:VEVENT
DTSTART;TZID=America/Chicago:20250404T173000
DTEND;TZID=America/Chicago:20250404T210000
DTSTAMP:20260422T005839
CREATED:20250411T020106Z
LAST-MODIFIED:20250411T020106Z
UID:43129-1743787800-1743800400@soundradio.live
SUMMARY:Monthly Gospel Concert / Good News Fellowship Church\, Tickfaw\, LA / Mike & Barbara Vaughn\, Kelly Barber & Friends\, and The Revelations
DESCRIPTION:
URL:https://soundradio.live/event/monthly-gospel-concert-good-news-fellowship-church-tickfaw-la-mike-barbara-vaughn-kelly-barber-friends-and-the-revelations/
LOCATION:Mike Vaughn Ministries/Good News Fellowship Church\, 13101 Hwy 442 W\, Tickfaw\, LA
END:VEVENT
BEGIN:VEVENT
DTSTART;TZID=America/Chicago:20250403T180000
DTEND;TZID=America/Chicago:20250404T210000
DTSTAMP:20260422T005839
CREATED:20240826T182457Z
LAST-MODIFIED:20250213T141640Z
UID:42731-1743703200-1743800400@soundradio.live
SUMMARY:Hometown Gospel Fest / FBC\, Laurel\, MS / Michael Combs\, Brian Free & Assurance\, Karen Peck & New River\, The Bibletones / Emcee: Josh Franks
DESCRIPTION:
URL:https://soundradio.live/event/hometown-gospel-fest-fbc-laurel-ms-michael-combs-brian-free-assurance-karen-peck-new-river-the-bibletones-emcee-josh-franks/
LOCATION:First Baptist Church of Laurel\, MS\, 607 W. 5th Street\, Laurel\, MS\, United States
END:VEVENT
BEGIN:VEVENT
DTSTART;TZID=America/Chicago:20250330T180000
DTEND;TZID=America/Chicago:20250330T193000
DTSTAMP:20260422T005839
CREATED:20250115T145250Z
LAST-MODIFIED:20250115T145250Z
UID:43069-1743357600-1743363000@soundradio.live
SUMMARY:Live Oak Church\, Watson\, LA / Special Speaker\, Wesley Huff / Evening Session
DESCRIPTION:Evening Presentation + Q&A \nThe special evening presentation will dive even deeper into the morning topics and answer your questions during a live Q & A session
URL:https://soundradio.live/event/live-oak-church-watson-la-special-speaker-wesley-huff-evening-session/
LOCATION:Live Oak Church\, Denham Springs\, LA\, 34890 LA Hwy 16\, Denham Springs\, LA\, 70706\, United States
END:VEVENT
BEGIN:VEVENT
DTSTART;TZID=America/Chicago:20250330T170000
DTEND;TZID=America/Chicago:20250330T183000
DTSTAMP:20260422T005839
CREATED:20241231T210534Z
LAST-MODIFIED:20241231T210534Z
UID:43032-1743354000-1743359400@soundradio.live
SUMMARY:Gospel Singing / Grays Creek BC\, Denham Springs\, LA / Chronicle
DESCRIPTION:
URL:https://soundradio.live/event/gospel-singing-grays-creek-bc-denham-springs-la-chronicle/
LOCATION:Gray’s Creek Baptist Church\, Denham Springs\, LA\, 21039 LA 16\, Denham Springs\, LA\, United States
END:VEVENT
BEGIN:VEVENT
DTSTART;TZID=America/Chicago:20250330T100000
DTEND;TZID=America/Chicago:20250330T120000
DTSTAMP:20260422T005839
CREATED:20241231T210428Z
LAST-MODIFIED:20241231T210428Z
UID:43030-1743328800-1743336000@soundradio.live
SUMMARY:Gospel Singing / Victory Temple Pentecostal COG\, Prairieville\, LA / Chronicle
DESCRIPTION:
URL:https://soundradio.live/event/gospel-singing-victory-temple-pentecostal-cog-prairieville-la-chronicle-2/
LOCATION:Victory Temple Pentecostal COG\, 41200 Hwy 933\, Prairieville\, Louisiana\, 70769
END:VEVENT
BEGIN:VEVENT
DTSTART;TZID=America/Chicago:20250330T090000
DTEND;TZID=America/Chicago:20250330T123000
DTSTAMP:20260422T005839
CREATED:20250115T145032Z
LAST-MODIFIED:20250115T145032Z
UID:43067-1743325200-1743337800@soundradio.live
SUMMARY:Live Oak Church\, Watson\, LA / Special Speaker\, Wesley Huff / Morning Sessions
DESCRIPTION:All 3 Morning Services: 9:30; 10:30 & 11:30 \nTopic for all 3 morning services: Two Essential of our Faith: The Reliability of the Bible & The Truth of Jesus’ Resurrection. (All 3 services will be the same)
URL:https://soundradio.live/event/live-oak-church-watson-la-special-speaker-wesley-huff-morning-sessions/
LOCATION:Live Oak Church\, Denham Springs\, LA\, 34890 LA Hwy 16\, Denham Springs\, LA\, 70706\, United States
END:VEVENT
BEGIN:VEVENT
DTSTART;TZID=America/Chicago:20250325T103000
DTEND;TZID=America/Chicago:20250325T123000
DTSTAMP:20260422T005839
CREATED:20241231T215554Z
LAST-MODIFIED:20241231T215554Z
UID:43052-1742898600-1742905800@soundradio.live
SUMMARY:Gospel Singing / Jefferson BC\, Baton Rouge\, LA - Young At Heart / Greg Sullivan
DESCRIPTION:
URL:https://soundradio.live/event/gospel-singing-jefferson-bc-baton-rouge-la-young-at-heart-greg-sullivan/
LOCATION:Jefferson Baptist Church\, 9135 Jefferson Hwy\, Baton Rouge\, LA\, 70809\, United States
END:VEVENT
BEGIN:VEVENT
DTSTART;TZID=America/Chicago:20250323T104500
DTEND;TZID=America/Chicago:20250323T123000
DTSTAMP:20260422T005839
CREATED:20241231T210305Z
LAST-MODIFIED:20241231T210305Z
UID:43027-1742726700-1742733000@soundradio.live
SUMMARY:Gospel Singing / FBC Orange Grove\, Gulfport\, MS / Chronicle
DESCRIPTION:
URL:https://soundradio.live/event/gospel-singing-fbc-orange-grove-gulfport-ms-chronicle-2/
LOCATION:First Baptist Church\, Orange Grove\, MS\, 15486 Orange Grove Rd\, Gulfport\, MS\, 39503\, United States
END:VEVENT
BEGIN:VEVENT
DTSTART;TZID=America/Chicago:20250316T180000
DTEND;TZID=America/Chicago:20250319T200000
DTSTAMP:20260422T005839
CREATED:20250120T214059Z
LAST-MODIFIED:20250120T214059Z
UID:43073-1742148000-1742414400@soundradio.live
SUMMARY:Livingston Parish Go Tell America Crusade / Denham Springs\, LA High School Football Stadium / Rick Gage
DESCRIPTION:
URL:https://soundradio.live/event/livingston-parish-go-tell-america-crusade-denham-springs-la-high-school-football-stadium-rick-gage/
LOCATION:Denham Springs High School Football Stadium\, 1000 N. Range Ave\, Denham Springs\, LA\, 70726\, United States
END:VEVENT
BEGIN:VEVENT
DTSTART;TZID=America/Chicago:20250316T110000
DTEND;TZID=America/Chicago:20250316T123000
DTSTAMP:20260422T005839
CREATED:20241231T210048Z
LAST-MODIFIED:20241231T210048Z
UID:43025-1742122800-1742128200@soundradio.live
SUMMARY:Gospel Singing / Grangeville BC\, Pine Grove\, LA / Chronicle
DESCRIPTION:
URL:https://soundradio.live/event/gospel-singing-grangeville-bc-pine-grove-la-chronicle-2/
LOCATION:Grangeville Baptist Church\, 3599 La 63\, Pine Grove\, LA\, 70453\, United States
END:VEVENT
BEGIN:VEVENT
DTSTART;TZID=America/Chicago:20250316T103000
DTEND;TZID=America/Chicago:20250316T120000
DTSTAMP:20260422T005839
CREATED:20241231T215334Z
LAST-MODIFIED:20241231T215334Z
UID:43050-1742121000-1742126400@soundradio.live
SUMMARY:Gospel Singing / Midway BC\, Bedico\, LA / Greg Sullivan
DESCRIPTION:
URL:https://soundradio.live/event/gospel-singing-midway-bc-bedico-la-greg-sullivan/
LOCATION:Midway Baptist Church\, Bedico\, LA\, United States
END:VEVENT
BEGIN:VEVENT
DTSTART;TZID=America/Chicago:20250309T103000
DTEND;TZID=America/Chicago:20250309T120000
DTSTAMP:20260422T005839
CREATED:20241231T205948Z
LAST-MODIFIED:20241231T205948Z
UID:43023-1741516200-1741521600@soundradio.live
SUMMARY:Gospel Singing / New Hope BC\, Independence\, LA / Chronicle
DESCRIPTION:
URL:https://soundradio.live/event/gospel-singing-new-hope-bc-independence-la-chronicle/
LOCATION:New Hope Baptist Church\, Independence\, LA\, United States
END:VEVENT
BEGIN:VEVENT
DTSTART;TZID=America/Chicago:20250308T183000
DTEND;TZID=America/Chicago:20250308T210000
DTSTAMP:20260422T005839
CREATED:20250221T211259Z
LAST-MODIFIED:20250221T211259Z
UID:43088-1741458600-1741467600@soundradio.live
SUMMARY:56th Annual Spring Gospel Singing Jubilee / Pearl Community Center\, Pearl\, MS / Terry Joe Terrell; Tim Frith & Gospel Echoes; 2nd Mile; Revelations
DESCRIPTION:Ticketed Event – Available at: \nMilestone Book & Worship Supplies\, Brandon\, MS \nTew & Goodman Accounting\, Pearl\, MS \nMusic City Instruments\, Magee\, MS \nOrder by Mail: Gospel Echoes\, 119 Meadow Point Cove\, Brandon\, MS 39042 \nMore Info Call: 601-906-0677 or 601-720-8870
URL:https://soundradio.live/event/56th-annual-spring-gospel-singing-jubilee-pearl-community-center-pearl-ms-terry-joe-terrell-tim-frith-2nd-mile-revelations/
LOCATION:Pearl Community Center\, 2420 Old Brandon Rd.\, Pearl\, MS\, United States
END:VEVENT
BEGIN:VEVENT
DTSTART;TZID=America/Chicago:20250308T170000
DTEND;TZID=America/Chicago:20250308T210000
DTSTAMP:20260422T005839
CREATED:20250227T142926Z
LAST-MODIFIED:20250227T142926Z
UID:43100-1741453200-1741467600@soundradio.live
SUMMARY:Monthly Singing / Southwest Mississippi Original Gospel Opry\, Liberty\, MS / Charles Pierre & The New Gospel Travelers
DESCRIPTION:Doors Open @ 5:00 pm \nLive\, Open Mic Gospel Music @ 5:45 pm \nNew Life Country Gospel @ 7:00 pm \nSpecial Guest\, Charles Pierre & The New Gospel Travelers @ 8:00 pm \nDave’s Kitchen Open \nDoor Prizes \nMore Info – Call Kenneth Dixon 601-810-6562
URL:https://soundradio.live/event/monthly-singing-southwest-mississippi-original-gospel-opry-liberty-ms-charles-pierre-the-new-gospel-travelers/
LOCATION:Southwest Mississippi Original Gospel Opry\, Liberty\, MS\, Harrison Building\, 910 Old McComb-Liberty Road\, Liberty\, MS\, United States
END:VEVENT
BEGIN:VEVENT
DTSTART;TZID=UTC:20250307T173000
DTEND;TZID=UTC:20250307T203000
DTSTAMP:20260422T005839
CREATED:20250227T143223Z
LAST-MODIFIED:20250227T143223Z
UID:43104-1741368600-1741379400@soundradio.live
SUMMARY:Monthly Southern Gospel Fest / Good News Fellowship Church\, Tickfaw\, LA / Hosts Mike & Barbara Vaughn / House Band - Kelly Barber & Friends / Special Guests: The Dixie Echoes
DESCRIPTION:Doors Open at 5:30 pm \nSinging Begins at 6:30 pm \nConcession Stand Available
URL:https://soundradio.live/event/monthly-southern-gospel-fest-good-news-fellowship-church-tickfaw-la-hosts-mike-barbara-vaughn-house-band-kelly-barber-friends-special-guests-the-dixie-echoes/
LOCATION:Mike Vaughn Ministries/Good News Fellowship Church\, 13101 Hwy 442 W\, Tickfaw\, LA
END:VEVENT
BEGIN:VEVENT
DTSTART;TZID=America/Chicago:20250302T104500
DTEND;TZID=America/Chicago:20250302T123000
DTSTAMP:20260422T005839
CREATED:20241231T215224Z
LAST-MODIFIED:20241231T215224Z
UID:43048-1740912300-1740918600@soundradio.live
SUMMARY:Gospel Singing / FBC Abbeville\, LA / Greg Sullivan
DESCRIPTION:
URL:https://soundradio.live/event/gospel-singing-fbc-abbeville-la-greg-sullivan/
LOCATION:First Baptist Church Church\, Abbeville\, LA\, 210 North Charles Street\, Abbeville\, LA\, 70510\, United States
END:VEVENT
BEGIN:VEVENT
DTSTART;TZID=America/Chicago:20250302T100000
DTEND;TZID=America/Chicago:20250302T113000
DTSTAMP:20260422T005839
CREATED:20241231T205832Z
LAST-MODIFIED:20250227T142105Z
UID:43021-1740909600-1740915000@soundradio.live
SUMMARY:CANCELED!!!   Gospel Singing / The Chapel of God\, Walker\, LA / Chronicle
DESCRIPTION:
URL:https://soundradio.live/event/gospel-singing-the-chapel-of-god-walker-la-chronicle-3/
LOCATION:The Chapel of God\, 30100 Mayer Street\, Walker\, LA\, 70785\, United States
END:VEVENT
BEGIN:VEVENT
DTSTART;TZID=America/Chicago:20250301T180000
DTEND;TZID=America/Chicago:20250301T193000
DTSTAMP:20260422T005839
CREATED:20250227T142407Z
LAST-MODIFIED:20250227T142407Z
UID:43095-1740852000-1740857400@soundradio.live
SUMMARY:Gospel Singing / FBC\, Elton\, LA / Greg Sullivan
DESCRIPTION:
URL:https://soundradio.live/event/gospel-singing-fbc-elton-la-greg-sullivan/
LOCATION:First Baptist Church Elton\, LA\, 915 2nd Street\, Elton\, LA\, United States
END:VEVENT
BEGIN:VEVENT
DTSTART;TZID=America/Chicago:20250301T180000
DTEND;TZID=America/Chicago:20250301T193000
DTSTAMP:20260422T005839
CREATED:20241231T205731Z
LAST-MODIFIED:20250227T142144Z
UID:43019-1740852000-1740857400@soundradio.live
SUMMARY:CANCELED!!!  Gospel Singing / The Chapel of God\, Walker\, LA / Chronicle
DESCRIPTION:
URL:https://soundradio.live/event/gospel-singing-the-chapel-of-god-walker-la-chronicle-2/
LOCATION:The Chapel of God\, 30100 Mayer Street\, Walker\, LA\, 70785\, United States
END:VEVENT
BEGIN:VEVENT
DTSTART;TZID=America/Chicago:20250301T170000
DTEND;TZID=America/Chicago:20250301T190000
DTSTAMP:20260422T005839
CREATED:20250227T142537Z
LAST-MODIFIED:20250227T142537Z
UID:43098-1740848400-1740855600@soundradio.live
SUMMARY:Monthly Singing / New Beginnings Worship Center\, Loranger\, LA / Dennis Calmes
DESCRIPTION:
URL:https://soundradio.live/event/monthly-singing-new-beginnings-worship-center-loranger-la-dennis-calmes/
LOCATION:New Beginnings Worship Center\, 54140 Passman Rd\, Loranger\, LA\, 70446\, United States
END:VEVENT
BEGIN:VEVENT
DTSTART;TZID=America/Chicago:20250223T103000
DTEND;TZID=America/Chicago:20250223T120000
DTSTAMP:20260422T005839
CREATED:20241231T214142Z
LAST-MODIFIED:20241231T214142Z
UID:43046-1740306600-1740312000@soundradio.live
SUMMARY:Gospel Singing / Olive BC\, Lumberton\, MS / Greg Sullivan
DESCRIPTION:
URL:https://soundradio.live/event/gospel-singing-olive-bc-lumberton-ms-greg-sullivan/
LOCATION:Olive Baptist Church\, Lumberton\, MS\, 30 Olive Church Rd\, Lumberton\, MS\, 39455\, United States
END:VEVENT
BEGIN:VEVENT
DTSTART;TZID=America/Chicago:20250223T100000
DTEND;TZID=America/Chicago:20250223T120000
DTSTAMP:20260422T005839
CREATED:20241231T205534Z
LAST-MODIFIED:20250213T141923Z
UID:43015-1740304800-1740312000@soundradio.live
SUMMARY:Gospel Singing / Louisiana War Veterans' Home\, Jackson\, LA / Chronicle
DESCRIPTION:
URL:https://soundradio.live/event/gospel-singing-louisiana-war-veterans-home-jackson-la-chronicle/
LOCATION:Louisiana Veterans’ Home\, 4739 La 10\, Jackson\, LA\, United States
END:VEVENT
BEGIN:VEVENT
DTSTART;TZID=America/Chicago:20250222T180000
DTEND;TZID=America/Chicago:20250222T200000
DTSTAMP:20260422T005839
CREATED:20250213T140840Z
LAST-MODIFIED:20250213T140840Z
UID:43080-1740247200-1740254400@soundradio.live
SUMMARY:Southern Gospel Concert / Pine Grove BC\, Livingston\, LA / The Kingsmen Quartet & Greg Sullivan
DESCRIPTION:No Admission / Love Offering Accepted
URL:https://soundradio.live/event/southern-gospel-concert-pine-grove-bc-livingston-la-the-kingsmen-quartet-greg-sullivan/
LOCATION:Pine Grove Baptist Church\, 21949 LA Hwy 444\, Livingston\, LA\, 70754\, United States
END:VEVENT
END:VCALENDAR