BEGIN:VCALENDAR
VERSION:2.0
PRODID:-//Sound Radio - ECPv5.15.0//NONSGML v1.0//EN
CALSCALE:GREGORIAN
METHOD:PUBLISH
X-WR-CALNAME:Sound Radio
X-ORIGINAL-URL:https://soundradio.live
X-WR-CALDESC:Events for Sound Radio
REFRESH-INTERVAL;VALUE=DURATION:PT1H
X-Robots-Tag:noindex
X-PUBLISHED-TTL:PT1H
BEGIN:VTIMEZONE
TZID:America/Chicago
BEGIN:DAYLIGHT
TZOFFSETFROM:-0600
TZOFFSETTO:-0500
TZNAME:CDT
DTSTART:20250309T080000
END:DAYLIGHT
BEGIN:STANDARD
TZOFFSETFROM:-0500
TZOFFSETTO:-0600
TZNAME:CST
DTSTART:20251102T070000
END:STANDARD
TZID:UTC
BEGIN:STANDARD
TZOFFSETFROM:+0000
TZOFFSETTO:+0000
TZNAME:UTC
DTSTART:20250101T000000
END:STANDARD
END:VTIMEZONE
BEGIN:VEVENT
DTSTART;TZID=America/Chicago:20250714T173000
DTEND;TZID=America/Chicago:20250718T203000
DTSTAMP:20260421T142034
CREATED:20250707T165046Z
LAST-MODIFIED:20250707T165046Z
UID:43296-1752514200-1752870600@soundradio.live
SUMMARY:VBS / Tangipahoa BC\, Kentwood\, LA / True North Trusting Jesus In a Wild World
DESCRIPTION:
URL:https://soundradio.live/event/vbs-tangipahoa-bc-kentwood-la-true-north-trusting-jesus-in-a-wild-world/
LOCATION:Tangipahoa Baptist Church\, 40 Hwy 440\, Kentwood\, LA\, 70444\, United States
END:VEVENT
BEGIN:VEVENT
DTSTART;TZID=America/Chicago:20250714T173000
DTEND;TZID=America/Chicago:20250718T193000
DTSTAMP:20260421T142034
CREATED:20250617T171113Z
LAST-MODIFIED:20250617T171113Z
UID:43276-1752514200-1752867000@soundradio.live
SUMMARY:VBS / Mt. Calvary BC\, Independence\, LA / Magnified
DESCRIPTION:
URL:https://soundradio.live/event/vbs-mt-calvary-bc-independence-la-magnified/
LOCATION:Mt. Calvary Baptist Church\, Independence\, LA\, 35031 Hwy 43\, Independence\, LA\, United States
END:VEVENT
BEGIN:VEVENT
DTSTART;TZID=America/Chicago:20250713T100000
DTEND;TZID=America/Chicago:20250713T113000
DTSTAMP:20260421T142034
CREATED:20250707T165557Z
LAST-MODIFIED:20250707T165557Z
UID:43300-1752400800-1752406200@soundradio.live
SUMMARY:Ministry Stop / Cedarcrest BC\, Baton Rouge\, LA / Greg Sullivan
DESCRIPTION:
URL:https://soundradio.live/event/ministry-stop-cedarcrest-bc-baton-rouge-la-greg-sullivan-2/
LOCATION:Cedarcrest Baptist Church\, 2020 Cedarcrest Ave\, Baton Rouge\, LA\, 70816\, United States
END:VEVENT
BEGIN:VEVENT
DTSTART;TZID=America/Chicago:20250713T100000
DTEND;TZID=America/Chicago:20250713T113000
DTSTAMP:20260421T142034
CREATED:20250707T165323Z
LAST-MODIFIED:20250707T165323Z
UID:43298-1752400800-1752406200@soundradio.live
SUMMARY:Ministry Stop / Dunbarton BC\, Ferriday\, LA / Chronicle
DESCRIPTION:
URL:https://soundradio.live/event/ministry-stop-dunbarton-bc-ferriday-la-chronicle/
LOCATION:Dunbarton Baptist Church\, 4437 Hwy 566\, Ferriday\, LA\, 71334\, United States
END:VEVENT
BEGIN:VEVENT
DTSTART;TZID=America/Chicago:20250712T173000
DTEND;TZID=America/Chicago:20250712T200000
DTSTAMP:20260421T142034
CREATED:20250707T164356Z
LAST-MODIFIED:20250707T164356Z
UID:43289-1752341400-1752350400@soundradio.live
SUMMARY:Monthly Gospel Singing / Mississippi Original Gospel Opry\, Liberty\, MS / Open Mic; New Life Country Gospel; Gully Jumpers
DESCRIPTION:
URL:https://soundradio.live/event/monthly-gospel-singing-mississippi-original-gospel-opry-liberty-ms-open-mic-new-life-country-gospel-gully-jumpers/
LOCATION:Gospel Opry\, Liberty\, MS\, 910 McComb Liberty Rd\, Liberty\, MS\, United States
END:VEVENT
BEGIN:VEVENT
DTSTART;TZID=America/Chicago:20250707T173000
DTEND;TZID=America/Chicago:20250711T203000
DTSTAMP:20260421T142034
CREATED:20250707T164845Z
LAST-MODIFIED:20250707T164845Z
UID:43294-1751909400-1752265800@soundradio.live
SUMMARY:VBS / First BC of Abbeville\, LA / Keepers of the Kingdom
DESCRIPTION:
URL:https://soundradio.live/event/vbs-first-bc-of-abbeville-la-keepers-of-the-kingdom/
LOCATION:First Baptist Church Church\, Abbeville\, LA\, 210 North Charles Street\, Abbeville\, LA\, 70510\, United States
END:VEVENT
BEGIN:VEVENT
DTSTART;TZID=America/Chicago:20250706T103000
DTEND;TZID=America/Chicago:20250706T120000
DTSTAMP:20260421T142034
CREATED:20250707T165725Z
LAST-MODIFIED:20250707T165725Z
UID:43302-1751797800-1751803200@soundradio.live
SUMMARY:Ministry Stop / Faith Tabernacle\, Quitman\, MS / Chronicle
DESCRIPTION:
URL:https://soundradio.live/event/ministry-stop-faith-tabernacle-quitman-ms-chronicle/
LOCATION:Faith Tabernacle\, Quitman\, MS\, 57 Country Rd 442\, Quitman\, MS\, United States
END:VEVENT
BEGIN:VEVENT
DTSTART;TZID=America/Chicago:20250704T173000
DTEND;TZID=America/Chicago:20250704T203000
DTSTAMP:20260421T142034
CREATED:20250624T154423Z
LAST-MODIFIED:20250624T154423Z
UID:43281-1751650200-1751661000@soundradio.live
SUMMARY:Monthly Southern Gospel Concert / Good News Fellowship Church\, Tickfaw\, LA / Hosts: Mike and Barbara Vaughn / House Band: Kelly Barber & Friends / Guest: Barber Brothers Quartet
DESCRIPTION:Doors Open at 5:30 \nConcessions \nPlate Lunches
URL:https://soundradio.live/event/monthly-southern-gospel-concert-good-news-fellowship-church-tickfaw-la-hosts-mike-and-barbara-vaughn-house-band-kelly-barber-friends-guest-barber-brothers-quartet/
LOCATION:Mike Vaughn Ministries/Good News Fellowship Church\, 13101 Hwy 442 W\, Tickfaw\, LA
END:VEVENT
BEGIN:VEVENT
DTSTART;TZID=America/Chicago:20250628T180000
DTEND;TZID=America/Chicago:20250628T200000
DTSTAMP:20260421T142034
CREATED:20250624T154603Z
LAST-MODIFIED:20250624T154603Z
UID:43283-1751133600-1751140800@soundradio.live
SUMMARY:Southern Gospel Concert & Dinner / Pine Grove BC\, Livingston\, LA / Guest Music: The Williamsons
DESCRIPTION:A meal will be served for everyone immediately following music service
URL:https://soundradio.live/event/southern-gospel-concert-dinner-pine-grove-bc-livingston-la-guest-music-the-williamsons/
LOCATION:Pine Grove Baptist Church\, 21949 LA Hwy 444\, Livingston\, LA\, 70754\, United States
END:VEVENT
BEGIN:VEVENT
DTSTART;TZID=America/Chicago:20250628T170000
DTEND;TZID=America/Chicago:20250628T200000
DTSTAMP:20260421T142034
CREATED:20250624T154838Z
LAST-MODIFIED:20250624T154838Z
UID:43285-1751130000-1751140800@soundradio.live
SUMMARY:Fourth Saturday Singing / Pleasant Valley Church\, Smithdale\, MS / Let's Exalt Him & Terry Bankston & Get Along
DESCRIPTION:Spaghetti & Meatballs\, Beans\, Rolls\, Desert & Refreshments
URL:https://soundradio.live/event/fourth-saturday-singing-pleasant-valley-church-smithdale-ms-lets-exalt-him-terry-bankston-get-along/
LOCATION:Pleasant Valley Church\, 6028-A Fenn Road\, Smithdale\, MS\, 39664\, United States
END:VEVENT
BEGIN:VEVENT
DTSTART;TZID=America/Chicago:20250628T103000
DTEND;TZID=America/Chicago:20250628T220000
DTSTAMP:20260421T142034
CREATED:20250411T020524Z
LAST-MODIFIED:20250610T130547Z
UID:43131-1751106600-1751148000@soundradio.live
SUMMARY:3rd Annual Don Triplett Memorial There's Hope Special Needs Conference / Sand Mountain Cowboy Church\, Boaz\, AL / LeFevre Quartet; Greg Sullivan; Aaron Green; The Barber Family; The Journeys; The Pylant Family & Clearvision
DESCRIPTION:The LeFevre Qt / Vonda Armstrong / Greg Sullivan / The Pylant Family / Aaron Green / The Barber Family /. The Journeys / Clearvision / 4Calvery
URL:https://soundradio.live/event/3rd-annual-don-triplett-memorial-theres-hope-special-needs-conference-sand-mountain-cowboy-church-boaz-al/
LOCATION:Sand Mountain Cowboy Church\, Boaz\, AL\, 844 McVille Rd\, Boaz\, AL\, 35957\, United States
END:VEVENT
BEGIN:VEVENT
DTSTART;TZID=America/Chicago:20250623T183000
DTEND;TZID=America/Chicago:20250628T203000
DTSTAMP:20260421T142034
CREATED:20250527T230201Z
LAST-MODIFIED:20250527T230201Z
UID:43231-1750703400-1751142600@soundradio.live
SUMMARY:VBS / Fellowship BC of Central\, LA / Rocket Racers
DESCRIPTION:
URL:https://soundradio.live/event/vbs-fellowship-bc-of-central-la-rocket-racers/
LOCATION:Fellowship Baptist Church of Central\, 14512 Greenwell Springs Road\, Central\, LA\, 70739\, United States
END:VEVENT
BEGIN:VEVENT
DTSTART;TZID=America/Chicago:20250623T183000
DTEND;TZID=America/Chicago:20250623T200000
DTSTAMP:20260421T142034
CREATED:20250610T131240Z
LAST-MODIFIED:20250610T131903Z
UID:43261-1750703400-1750708800@soundradio.live
SUMMARY:Revival Services / Indian Mound BC\, Greenwell Springs\, LA / Bro. Bill Britt
DESCRIPTION:Sunday\, June 22 10:45 am & 5:00 pm \nMonday-Wednesday\, June 23-25 6:30 pm \nMonday\, June 23 Hot Dogs for 1st-6th grade at 5:30 pm
URL:https://soundradio.live/event/revival-services-indian-mound-bc-greenwell-springs-la-bro-bill-britt-3/
LOCATION:Indian Mound Baptist Church\, 16755 Liberty Rd\, Greenwell Springs\, LA\, 70739
END:VEVENT
BEGIN:VEVENT
DTSTART;TZID=America/Chicago:20250623T173000
DTEND;TZID=America/Chicago:20250623T181500
DTSTAMP:20260421T142034
CREATED:20250610T131521Z
LAST-MODIFIED:20250610T131521Z
UID:43263-1750699800-1750702500@soundradio.live
SUMMARY:Hot Dogs for 1st-6th grade / Indian Mound BC\, Greenwell Springs\, LA / Bro. Bill Britt
DESCRIPTION:Sunday\, June 22 10:45 am & 5:00 pm \nMonday-Wednesday\, June 23-25 6:30 pm \nMonday\, June 23 Hot Dogs for 1st-6th grade at 5:30 pm
URL:https://soundradio.live/event/hot-dogs-for-1st-6th-grade-indian-mound-bc-greenwell-springs-la-bro-bill-britt/
LOCATION:Indian Mound Baptist Church\, 16755 Liberty Rd\, Greenwell Springs\, LA\, 70739
END:VEVENT
BEGIN:VEVENT
DTSTART;TZID=America/Chicago:20250622T180000
DTEND;TZID=America/Chicago:20250622T200000
DTSTAMP:20260421T142034
CREATED:20250604T192440Z
LAST-MODIFIED:20250617T170404Z
UID:43244-1750615200-1750622400@soundradio.live
SUMMARY:POSTPONED - Southern Gospel Concert / Family Worship Center\, Baton Rouge\, LA / Gold City - POSTPONED
DESCRIPTION:
URL:https://soundradio.live/event/southern-gospel-concert-family-worship-center-baton-rouge-la-gold-city/
LOCATION:Family Worship Center Church\, 8919 World Ministry Ave.\, Baton Rouge\, LA\, 70810\, United States
END:VEVENT
BEGIN:VEVENT
DTSTART;TZID=America/Chicago:20250622T173000
DTEND;TZID=America/Chicago:20250624T193000
DTSTAMP:20260421T142034
CREATED:20250609T155445Z
LAST-MODIFIED:20250609T155445Z
UID:43248-1750613400-1750793400@soundradio.live
SUMMARY:Vacation Bible School / Bluff Creek BC\, Clinton\, LA / Submerged!
DESCRIPTION:Ages 5-10
URL:https://soundradio.live/event/vacation-bible-school-bluff-creek-bc-clinton-la-submerged/
LOCATION:Bluff Creek Baptist Church\, 1706 Hwy 63\, Clinton\, LA\, United States
END:VEVENT
BEGIN:VEVENT
DTSTART;TZID=America/Chicago:20250622T170000
DTEND;TZID=America/Chicago:20250622T183000
DTSTAMP:20260421T142034
CREATED:20250610T131124Z
LAST-MODIFIED:20250610T131607Z
UID:43259-1750611600-1750617000@soundradio.live
SUMMARY:Revival Services / Indian Mound BC\, Greenwell Springs\, LA / Bro. Bill Britt
DESCRIPTION:Sunday\, June 22 10:45 am & 5:00 pm \nMonday-Wednesday\, June 23-25 6:30 pm \nMonday\, June 23 Hot Dogs for 1st-6th grade at 5:30 pm
URL:https://soundradio.live/event/revival-services-indian-mound-bc-greenwell-springs-la-bro-bill-britt-2/
LOCATION:Indian Mound Baptist Church\, 16755 Liberty Rd\, Greenwell Springs\, LA\, 70739
END:VEVENT
BEGIN:VEVENT
DTSTART;TZID=America/Chicago:20250622T170000
DTEND;TZID=America/Chicago:20250622T183000
DTSTAMP:20260421T142034
CREATED:20250505T210646Z
LAST-MODIFIED:20250617T170438Z
UID:43194-1750611600-1750617000@soundradio.live
SUMMARY:Ministry Stop / Lighthouse BC\, Independence\, LA / Greg Sullivan & Jessica Horton
DESCRIPTION:
URL:https://soundradio.live/event/ministry-stop-lighthouse-bc-independence-la-greg-sullivan-jessica-horton/
LOCATION:Lighthouse Baptist Church\, Folsom\, Louisiana\, United States
END:VEVENT
BEGIN:VEVENT
DTSTART;TZID=America/Chicago:20250622T110000
DTEND;TZID=America/Chicago:20250622T123000
DTSTAMP:20260421T142034
CREATED:20250505T204811Z
LAST-MODIFIED:20250617T170553Z
UID:43182-1750590000-1750595400@soundradio.live
SUMMARY:Ministry Stop / Grangeville BC\, Pine Grove\, LA / Greg Sullivan & Jessica Horton
DESCRIPTION:
URL:https://soundradio.live/event/ministry-stop-grangeville-bc-pine-grove-la-greg-sullivan/
LOCATION:Grangeville Baptist Church\, 3599 La 63\, Pine Grove\, LA\, 70453\, United States
END:VEVENT
BEGIN:VEVENT
DTSTART;TZID=America/Chicago:20250622T104500
DTEND;TZID=America/Chicago:20250622T120000
DTSTAMP:20260421T142034
CREATED:20250610T131000Z
LAST-MODIFIED:20250610T131720Z
UID:43257-1750589100-1750593600@soundradio.live
SUMMARY:Revival Services / Indian Mound BC\, Greenwell Springs\, LA / Bro. Bill Britt
DESCRIPTION:Sunday\, June 22 10:45 am & 5:00 pm \nMonday-Wednesday\, June 23-25 6:30 pm \nMonday\, June 23 Hot Dogs for 1st-6th grade at 5:30 pm
URL:https://soundradio.live/event/revival-services-indian-mound-bc-greenwell-springs-la-bro-bill-britt/
LOCATION:Indian Mound Baptist Church\, 16755 Liberty Rd\, Greenwell Springs\, LA\, 70739
END:VEVENT
BEGIN:VEVENT
DTSTART;TZID=UTC:20250616T183000
DTEND;TZID=UTC:20250620T210000
DTSTAMP:20260421T142034
CREATED:20250527T225359Z
LAST-MODIFIED:20250527T225359Z
UID:43228-1750098600-1750453200@soundradio.live
SUMMARY:Vacation Bible School / Erwinville BC\, Erwinville\, LA / "Magnified"
DESCRIPTION:Discovering the bigness of God in the smallest of things. \nRegister Online:  myvbs.org/Erwinvillebaptist/
URL:https://soundradio.live/event/vacation-bible-school-erwinville-bc-erwinville-la-magnified/
LOCATION:Erwinville Baptist Church\, 4456 Poydraw Bayou Dr.\, Port Allen\, LA\, 70767\, United States
END:VEVENT
BEGIN:VEVENT
DTSTART;TZID=America/Chicago:20250616T180000
DTEND;TZID=America/Chicago:20250620T203000
DTSTAMP:20260421T142034
CREATED:20250617T171245Z
LAST-MODIFIED:20250617T171245Z
UID:43278-1750096800-1750451400@soundradio.live
SUMMARY:VBS / Woodland BC\, Springfield\, LA / Magnified!
DESCRIPTION:
URL:https://soundradio.live/event/vbs-woodland-bc-springfield-la-magnified/
LOCATION:Woodland Baptist Church\, Springfield\, LA\, 27929 LA-1037\, Springfield\, LA\, United States
END:VEVENT
BEGIN:VEVENT
DTSTART;TZID=America/Chicago:20250616T173000
DTEND;TZID=America/Chicago:20250620T200000
DTSTAMP:20260421T142034
CREATED:20250609T155739Z
LAST-MODIFIED:20250609T155739Z
UID:43250-1750095000-1750449600@soundradio.live
SUMMARY:Vacation Bible School / Gray's Creek BC\, Denham Springs\, LA / Magnified!
DESCRIPTION:Grades K-5 (complete)
URL:https://soundradio.live/event/vacation-bible-school-grays-creek-bc-denham-springs-la-magnified/
LOCATION:Gray’s Creek Baptist Church\, Denham Springs\, 21039 La. Hwy. 16\, Denham Springs\, LA\, 70726\, United States
END:VEVENT
BEGIN:VEVENT
DTSTART;TZID=America/Chicago:20250616T090000
DTEND;TZID=America/Chicago:20250620T120000
DTSTAMP:20260421T142034
CREATED:20250609T155309Z
LAST-MODIFIED:20250609T155309Z
UID:43246-1750064400-1750420800@soundradio.live
SUMMARY:Vacation Bible School / Emmanuel BC\, Denham Springs\, LA
DESCRIPTION:Ages 5-12
URL:https://soundradio.live/event/vacation-bible-school-emmanuel-bc-denham-springs-la/
LOCATION:Emmanuel Baptist Church of Denham Springs\, 10453 Arnold Road\, Denham Springs\, LA\, 70726\, United States
END:VEVENT
BEGIN:VEVENT
DTSTART;TZID=America/Chicago:20250615T100000
DTEND;TZID=America/Chicago:20250615T113000
DTSTAMP:20260421T142034
CREATED:20250505T204613Z
LAST-MODIFIED:20250505T204613Z
UID:43180-1749981600-1749987000@soundradio.live
SUMMARY:Ministry Stop / Community Chapel\, Walker\, LA / Greg Sullivan
DESCRIPTION:
URL:https://soundradio.live/event/ministry-stop-community-chapel-walker-la-greg-sullivan-2/
LOCATION:Community Chapel Church\, Walker\, LA\, 35490 Walker North Rd\, Walker\, LA\, 70785\, United States
END:VEVENT
BEGIN:VEVENT
DTSTART;TZID=America/Chicago:20250614T170000
DTEND;TZID=America/Chicago:20250614T210000
DTSTAMP:20260421T142034
CREATED:20250527T143438Z
LAST-MODIFIED:20250609T155836Z
UID:43217-1749920400-1749934800@soundradio.live
SUMMARY:CANCELLED!!! Monthly Southwest MS Gospel Opry\, Liberty\, MS / Live Gospel Music Open Mic; New Life Country Gospel House Band; Special Guest - Resolved
DESCRIPTION:
URL:https://soundradio.live/event/monthly-southwest-ms-gospel-opry-liberty-ms-live-gospel-music-open-mic-new-life-country-gospel-house-band-special-guest-resolved/
LOCATION:Southwest Mississippi Original Gospel Opry\, Liberty\, MS\, Harrison Building\, 910 Old McComb-Liberty Road\, Liberty\, MS\, United States
END:VEVENT
BEGIN:VEVENT
DTSTART;TZID=America/Chicago:20250608T180000
DTEND;TZID=America/Chicago:20250608T193000
DTSTAMP:20260421T142034
CREATED:20250604T190622Z
LAST-MODIFIED:20250604T190622Z
UID:43239-1749405600-1749411000@soundradio.live
SUMMARY:Ministry Stop / House of Prayer Holiness Church\, Walker\, LA / Chronicle
DESCRIPTION:
URL:https://soundradio.live/event/ministry-stop-house-of-prayer-holiness-church-walker-la-chronicle/
LOCATION:House of Prayer\, 36253 Weiss Road\, Walker\, LA\, 70785\, United States
END:VEVENT
BEGIN:VEVENT
DTSTART;TZID=America/Chicago:20250608T110000
DTEND;TZID=America/Chicago:20250608T123000
DTSTAMP:20260421T142034
CREATED:20250505T204354Z
LAST-MODIFIED:20250505T204354Z
UID:43178-1749380400-1749385800@soundradio.live
SUMMARY:Ministry Stop / Wesley Chapel\, Ponchatoula\, LA/ Greg Sullivan
DESCRIPTION:
URL:https://soundradio.live/event/ministry-stop-wesley-chapel-ponchatoula-la-greg-sullivan/
LOCATION:Wesley Chapel UMC\, 39731 S. Thibodeaux Rd.\, Ponchatoula\, LA\, 70454\, United States
END:VEVENT
BEGIN:VEVENT
DTSTART;TZID=America/Chicago:20250606T173000
DTEND;TZID=America/Chicago:20250606T210000
DTSTAMP:20260421T142034
CREATED:20250527T143804Z
LAST-MODIFIED:20250527T143804Z
UID:43219-1749231000-1749243600@soundradio.live
SUMMARY:Monthly Southern Gospel Concert / Good News Fellowship Church\, Tickfaw\, LA / Randy & Sherri Miller\, Cleveland\, TN; Kelly Barber & Friends; and Hosts: Mike & Barbara Vaughn
DESCRIPTION:Free Admission \nLove Offering Received \nDoors Open @5:30 pm \nSinging Begins @ 6:30 pm \nConcession Stand Available
URL:https://soundradio.live/event/monthly-southern-gospel-concert-good-news-fellowship-church-tickfaw-la-randy-kelly-barber-and-hosts-mike-barbara-vaughn/
LOCATION:Mike Vaughn Ministries/Good News Fellowship Church\, 13101 Hwy 442 W\, Tickfaw\, LA
END:VEVENT
BEGIN:VEVENT
DTSTART;TZID=America/Chicago:20250602T083000
DTEND;TZID=America/Chicago:20250606T120000
DTSTAMP:20260421T142034
CREATED:20250527T230420Z
LAST-MODIFIED:20250527T230420Z
UID:43233-1748853000-1749211200@soundradio.live
SUMMARY:VBS / Zoar BC\, Baton Rouge\, LA / Magnified
DESCRIPTION:
URL:https://soundradio.live/event/vbs-zoar-bc-baton-rouge-la-magnified/
LOCATION:Zoar Baptist Church\, 11848 Hooper Rd.\, Baton Rouge\, LA\, 70818\, United States
END:VEVENT
END:VCALENDAR