BEGIN:VCALENDAR
VERSION:2.0
PRODID:-//Sound Radio - ECPv5.15.0//NONSGML v1.0//EN
CALSCALE:GREGORIAN
METHOD:PUBLISH
X-WR-CALNAME:Sound Radio
X-ORIGINAL-URL:https://soundradio.live
X-WR-CALDESC:Events for Sound Radio
REFRESH-INTERVAL;VALUE=DURATION:PT1H
X-Robots-Tag:noindex
X-PUBLISHED-TTL:PT1H
BEGIN:VTIMEZONE
TZID:America/Chicago
BEGIN:DAYLIGHT
TZOFFSETFROM:-0600
TZOFFSETTO:-0500
TZNAME:CDT
DTSTART:20250309T080000
END:DAYLIGHT
BEGIN:STANDARD
TZOFFSETFROM:-0500
TZOFFSETTO:-0600
TZNAME:CST
DTSTART:20251102T070000
END:STANDARD
END:VTIMEZONE
BEGIN:VEVENT
DTSTART;TZID=America/Chicago:20250531T183000
DTEND;TZID=America/Chicago:20250531T210000
DTSTAMP:20260421T233354
CREATED:20250520T002330Z
LAST-MODIFIED:20250520T002330Z
UID:43209-1748716200-1748725200@soundradio.live
SUMMARY:57th Annual Gospel Singing Jubilee / Magee High School Auditorium\, Magee\, MS / The Hinson Family; Terry Terrell; Tim Frith & Gospel Echoes; Revelations
DESCRIPTION:Ticketed Event \nCall: 601-906-0677 or 601-720-8870 For More Information Regarding Tickets
URL:https://soundradio.live/event/57th-annual-gospel-singing-jubilee-magee-high-school-auditorium-magee-ms-the-hinson-family-terry-terrell-tim-frith-revelations/
LOCATION:Magee High School Auditorium\, 501 Choctaw St. E\, Magee\, MS\, United States
END:VEVENT
BEGIN:VEVENT
DTSTART;TZID=America/Chicago:20250531T180000
DTEND;TZID=America/Chicago:20250531T193000
DTSTAMP:20260421T233354
CREATED:20250610T133351Z
LAST-MODIFIED:20250610T133351Z
UID:43270-1748714400-1748719800@soundradio.live
SUMMARY:An Evening with Michael Combs / Vision BC\, Petal\, MS
DESCRIPTION:
URL:https://soundradio.live/event/an-evening-with-michael-combs-vision-bc-petal-ms/
LOCATION:Vision Baptist Church\, Petal\, MS\, 1056 Morriston Rd\, Petal\, MS\, 39465\, United States
END:VEVENT
BEGIN:VEVENT
DTSTART;TZID=America/Chicago:20250529T180000
DTEND;TZID=America/Chicago:20250529T203000
DTSTAMP:20260421T233354
CREATED:20250516T142157Z
LAST-MODIFIED:20250516T142157Z
UID:43204-1748541600-1748550600@soundradio.live
SUMMARY:Southern Gospel Concert / Cokers Chapel\, Meridian\, MS / The Hoppers
DESCRIPTION:Tickets: $10 in advance available at: Cokers Chapel\, Queen City Medical Supply\, Tim Miller\, Richard Ferguson\, By Phone: 601-416-1630 / $15 day of concert \nLove Offering Will Be Accepted
URL:https://soundradio.live/event/southern-gospel-concert-cokers-chapel-meridian-ms-the-hoppers/
LOCATION:Cokers Chapel\, 3042 Jeff Davis School Rd\, Meridian\, MS\, 39301\, United States
END:VEVENT
BEGIN:VEVENT
DTSTART;TZID=America/Chicago:20250526T110000
DTEND;TZID=America/Chicago:20250526T140000
DTSTAMP:20260421T233354
CREATED:20250516T141244Z
LAST-MODIFIED:20250516T141244Z
UID:43202-1748257200-1748268000@soundradio.live
SUMMARY:Memorial Day Gospel Sing / Campground BC\, Gulfport\, MS / The Bibletones Qt. & Big Blessin' Trio
DESCRIPTION:
URL:https://soundradio.live/event/memorial-day-gospel-sing-campground-bc-gulfport-ms-the-bibletones-qt-big-blessin-trio/
LOCATION:Campground Baptist Church\, 20577 Hwy 53\, Gulfport\, MS\, 39503\, United States
END:VEVENT
BEGIN:VEVENT
DTSTART;TZID=America/Chicago:20250525T170000
DTEND;TZID=America/Chicago:20250525T183000
DTSTAMP:20260421T233354
CREATED:20250505T205436Z
LAST-MODIFIED:20250505T205436Z
UID:43191-1748192400-1748197800@soundradio.live
SUMMARY:Ministry Stop / Heritage Missionary BC\, Biloxi\, MS / Chronicle
DESCRIPTION:
URL:https://soundradio.live/event/ministry-stop-heritage-missionary-bc-biloxi-ms-chronicle/
LOCATION:Heritage Missionary Baptist Church\, 15368 Shriners Blvd\, Biloxi\, MS\, United States
END:VEVENT
BEGIN:VEVENT
DTSTART;TZID=America/Chicago:20250525T110000
DTEND;TZID=America/Chicago:20250525T160000
DTSTAMP:20260421T233354
CREATED:20250519T232358Z
LAST-MODIFIED:20250520T000506Z
UID:43207-1748170800-1748188800@soundradio.live
SUMMARY:Fun Day At The Park - Hosted by: The Pentecostal Lighthouse Church - Sidney Hutchinson Park\, 13740 Ball Park Rd.\, Walker\, LA 70785
DESCRIPTION:Church service at 11:00 am. Immediately following service there will be food and fellowship. Meeting underneath the beautiful brand new pavilion. Bring your lawn chairs and come ready to enjoy a great day of fellowship provided by The Pentecostal Lighthouse Church of Denham Springs
URL:https://soundradio.live/event/fun-day-at-the-park-hosted-by-the-pentecostal-lighthouse-church-sidney-hutchinson-park-13740-ball-park-rd-walker-la-70785/
LOCATION:The Pentecostal Lighthouse Church\, Denham Springs\, LA\, 25134 LA Hwy 16\, Denham Springs\, LA\, United States
END:VEVENT
BEGIN:VEVENT
DTSTART;TZID=America/Chicago:20250525T100000
DTEND;TZID=America/Chicago:20250525T120000
DTSTAMP:20260421T233354
CREATED:20250505T205326Z
LAST-MODIFIED:20250505T205326Z
UID:43189-1748167200-1748174400@soundradio.live
SUMMARY:Ministry Stop / Divine Grace BC\, Long Beach\, MS / Chronicle
DESCRIPTION:
URL:https://soundradio.live/event/ministry-stop-divine-grace-bc-long-beach-ms-chronicle/
LOCATION:Divine Grace Baptist Church\, Long Beach\, MS\, United States
END:VEVENT
BEGIN:VEVENT
DTSTART;TZID=America/Chicago:20250524T180000
DTEND;TZID=America/Chicago:20250524T200000
DTSTAMP:20260421T233354
CREATED:20250516T141104Z
LAST-MODIFIED:20250516T141104Z
UID:43197-1748109600-1748116800@soundradio.live
SUMMARY:Memorial Day Weekend - Gospel Jubilee / Columbia Academy Fine Arts Center\, Columbia\, MS / The Mark Trammell Qt.\, The Bibletones Qt.\, Four The King
DESCRIPTION:Tickets: $15 in advance / $20 at the door \nFor More Info: Trenton Williamson 601-408-1216 / Lucas Stringer 601-408-4906
URL:https://soundradio.live/event/memorial-day-weekend-gospel-jubilee-columbia-academy-fine-arts-center-columbia-ms-the-mark-trammell-qt-the-bibletones-qt-four-the-king/
LOCATION:Columbia Academy Fine Arts Center\, 1548 Hwy 98 E\, Columbia\, MS\, 39429\, United States
END:VEVENT
BEGIN:VEVENT
DTSTART;TZID=America/Chicago:20250518T180000
DTEND;TZID=America/Chicago:20250518T200000
DTSTAMP:20260421T233354
CREATED:20250528T155551Z
LAST-MODIFIED:20250528T155551Z
UID:43235-1747591200-1747598400@soundradio.live
SUMMARY:Big Gospel Explosion / Dexter Pentecostal Church\, Tylertown\, MS / Terry Terrell; Tim Frith & Gospel Echoes
DESCRIPTION:
URL:https://soundradio.live/event/big-gospel-explosion-dexter-pentecostal-church-tylertown-ms-terry-terrell-tim-frith-gospel-echoes/
LOCATION:Dexter Pentecostal Church\, 717 Hwy 48 E\, Tylertown\, MS\, United States
END:VEVENT
BEGIN:VEVENT
DTSTART;TZID=America/Chicago:20250518T103000
DTEND;TZID=America/Chicago:20250518T120000
DTSTAMP:20260421T233354
CREATED:20250505T205215Z
LAST-MODIFIED:20250505T205215Z
UID:43187-1747564200-1747569600@soundradio.live
SUMMARY:Ministry Stop / Yeager Church\, West Monroe\, LA / Chronicle
DESCRIPTION:
URL:https://soundradio.live/event/ministry-stop-yeager-church-west-monroe-la-chronicle/
LOCATION:Yeager Church\, 3271 Arkansas Rd\, West Monroe\, Louisiana\, 71291
END:VEVENT
BEGIN:VEVENT
DTSTART;TZID=America/Chicago:20250518T103000
DTEND;TZID=America/Chicago:20250518T120000
DTSTAMP:20260421T233354
CREATED:20250505T204043Z
LAST-MODIFIED:20250505T204043Z
UID:43176-1747564200-1747569600@soundradio.live
SUMMARY:Ministry Stop / Mt. Calvary BC\, Independence\, LA / Greg Sullivan
DESCRIPTION:
URL:https://soundradio.live/event/ministry-stop-mt-calvary-bc-independence-la-greg-sullivan/
LOCATION:Mt. Calvary Baptist Church\, Independence\, LA\, 35031 Hwy 43\, Independence\, LA\, United States
END:VEVENT
BEGIN:VEVENT
DTSTART;TZID=America/Chicago:20250517T180000
DTEND;TZID=America/Chicago:20250517T193000
DTSTAMP:20260421T233354
CREATED:20250505T205054Z
LAST-MODIFIED:20250505T205054Z
UID:43184-1747504800-1747510200@soundradio.live
SUMMARY:Ministry Stop / Victory Pentecostal Church\, Hineston\, LA / Chronicle
DESCRIPTION:
URL:https://soundradio.live/event/ministry-stop-victory-pentecostal-church-hineston-la-chronicle/
LOCATION:Victory Pentecostal Church of Hineston\, LA\, 1818 Hwy 121\, Hineston\, LA\, 71438\, United States
END:VEVENT
BEGIN:VEVENT
DTSTART;TZID=America/Chicago:20250511T110000
DTEND;TZID=America/Chicago:20250511T123000
DTSTAMP:20260421T233354
CREATED:20250505T122949Z
LAST-MODIFIED:20250505T122949Z
UID:43139-1746961200-1746966600@soundradio.live
SUMMARY:Ministry Stop / True Light BC\, Walker\, LA / Greg Sullivan
DESCRIPTION:
URL:https://soundradio.live/event/ministry-stop-true-light-bc-walker-la-greg-sullivan/
LOCATION:Truelight Baptist Church\, 13451 Truelight Ln\, Walker\, LA\, 70785\, United States
END:VEVENT
BEGIN:VEVENT
DTSTART;TZID=America/Chicago:20250511T103000
DTEND;TZID=America/Chicago:20250511T120000
DTSTAMP:20260421T233354
CREATED:20250505T122845Z
LAST-MODIFIED:20250505T122845Z
UID:43137-1746959400-1746964800@soundradio.live
SUMMARY:Ministry Stop / Sharon BC\, Port Allen\, LA / Chronicle
DESCRIPTION:
URL:https://soundradio.live/event/ministry-stop-sharon-bc-port-allen-la-chronicle/
LOCATION:Sharon Baptist Church\, Port Allen\, LA\, 9433 Section Rd\, Port Allen\, LA\, 70767\, United States
END:VEVENT
BEGIN:VEVENT
DTSTART;TZID=America/Chicago:20250510T170000
DTEND;TZID=America/Chicago:20250510T210000
DTSTAMP:20260421T233354
CREATED:20250505T123142Z
LAST-MODIFIED:20250505T123142Z
UID:43141-1746896400-1746910800@soundradio.live
SUMMARY:Southwest Mississippi Original Gospel Opry Monthly Singing / Liberty\, MS / Open Mic; New Life Country Gospel; Get Along Band with Terry Bankston
DESCRIPTION:
URL:https://soundradio.live/event/southwest-mississippi-original-gospel-opry-monthly-singing-liberty-ms-open-mic-new-life-country-gospel-get-along-band-with-terry-bankston/
LOCATION:Southwest Mississippi Original Gospel Opry\, Liberty\, MS\, Harrison Building\, 910 Old McComb-Liberty Road\, Liberty\, MS\, United States
END:VEVENT
BEGIN:VEVENT
DTSTART;TZID=America/Chicago:20250505T183000
DTEND;TZID=America/Chicago:20250507T200000
DTSTAMP:20260421T233354
CREATED:20250505T124005Z
LAST-MODIFIED:20250505T124005Z
UID:43153-1746469800-1746648000@soundradio.live
SUMMARY:Revival Services / Fellowship BC\, Greenwell Springs\, LA / Guest Speaker: Dr. David L. Allen\, Ft. Worth\, Tx; Special Music: Mackey & Gale Willis Ministry; Host Pastor: Bro. Mardy Guidry
DESCRIPTION:
URL:https://soundradio.live/event/revival-services-fellowship-bc-greenwell-springs-la-guest-speaker-dr-david-l-allen-ft-worth-tx-special-music-mackey-host-pastor-bro-mardy-guidry-3/
LOCATION:Fellowship Baptist Church of Central\, 14512 Greenwell Springs Road\, Central\, LA\, 70739\, United States
END:VEVENT
BEGIN:VEVENT
DTSTART;TZID=America/Chicago:20250505T183000
DTEND;TZID=America/Chicago:20250507T200000
DTSTAMP:20260421T233354
CREATED:20250505T123603Z
LAST-MODIFIED:20250505T123603Z
UID:43147-1746469800-1746648000@soundradio.live
SUMMARY:Spring Revival & Homecoming / Lighthouse BC\, Independence\, LA / Guest Speaker: Bro. Gene Douglas By Faith Ministries / Worship Music: The Lighthouse Worship Team & Friends / Host: Bro. Gene Hoyt Evangelistic Ministries
DESCRIPTION:
URL:https://soundradio.live/event/spring-revival-homecoming-lighthouse-bc-independence-la-guest-speaker-bro-gene-douglas-by-faith-ministries-worship-music-the-lighthouse-worship-team-friends-host-bro-gene-hoyt-evang-3/
LOCATION:Lighthouse Baptist Church\, Folsom\, Louisiana\, United States
END:VEVENT
BEGIN:VEVENT
DTSTART;TZID=America/Chicago:20250504T180000
DTEND;TZID=America/Chicago:20250504T193000
DTSTAMP:20260421T233354
CREATED:20250505T123504Z
LAST-MODIFIED:20250505T123504Z
UID:43145-1746381600-1746387000@soundradio.live
SUMMARY:Spring Revival & Homecoming / Lighthouse BC\, Independence\, LA / Guest Speaker: Bro. Gene Douglas By Faith Ministries / Worship Music: The Lighthouse Worship Team & Friends / Host: Bro. Gene Hoyt Evangelistic Ministries
DESCRIPTION:
URL:https://soundradio.live/event/spring-revival-homecoming-lighthouse-bc-independence-la-guest-speaker-bro-gene-douglas-by-faith-ministries-worship-music-the-lighthouse-worship-team-friends-host-bro-gene-hoyt-evang-2/
LOCATION:Lighthouse Baptist Church\, Folsom\, Louisiana\, United States
END:VEVENT
BEGIN:VEVENT
DTSTART;TZID=America/Chicago:20250504T170000
DTEND;TZID=America/Chicago:20250504T183000
DTSTAMP:20260421T233354
CREATED:20250505T123916Z
LAST-MODIFIED:20250505T123916Z
UID:43151-1746378000-1746383400@soundradio.live
SUMMARY:Revival Services / Fellowship BC\, Greenwell Springs\, LA / Guest Speaker: Dr. David L. Allen\, Ft. Worth\, Tx; Special Music: Mackey & Gale Willis Ministry; Host Pastor: Bro. Mardy Guidry
DESCRIPTION:
URL:https://soundradio.live/event/revival-services-fellowship-bc-greenwell-springs-la-guest-speaker-dr-david-l-allen-ft-worth-tx-special-music-mackey-host-pastor-bro-mardy-guidry-2/
LOCATION:Fellowship Baptist Church of Central\, 14512 Greenwell Springs Road\, Central\, LA\, 70739\, United States
END:VEVENT
BEGIN:VEVENT
DTSTART;TZID=America/Chicago:20250504T104500
DTEND;TZID=America/Chicago:20250504T123000
DTSTAMP:20260421T233354
CREATED:20250505T123409Z
LAST-MODIFIED:20250505T123409Z
UID:43143-1746355500-1746361800@soundradio.live
SUMMARY:Spring Revival & Homecoming / Lighthouse BC\, Independence\, LA / Guest Speaker: Bro. Gene Douglas By Faith Ministries / Worship Music: The Lighthouse Worship Team & Friends / Host: Bro. Gene Hoyt Evangelistic Ministries
DESCRIPTION:
URL:https://soundradio.live/event/spring-revival-homecoming-lighthouse-bc-independence-la-guest-speaker-bro-gene-douglas-by-faith-ministries-worship-music-the-lighthouse-worship-team-friends-host-bro-gene-hoyt-evang/
LOCATION:Lighthouse Baptist Church\, Folsom\, Louisiana\, United States
END:VEVENT
BEGIN:VEVENT
DTSTART;TZID=America/Chicago:20250504T101500
DTEND;TZID=America/Chicago:20250504T120000
DTSTAMP:20260421T233354
CREATED:20250505T123817Z
LAST-MODIFIED:20250505T123817Z
UID:43149-1746353700-1746360000@soundradio.live
SUMMARY:Revival Services / Fellowship BC\, Greenwell Springs\, LA / Guest Speaker: Dr. David L. Allen\, Ft. Worth\, Tx; Special Music: Mackey & Gale Willis Ministry; Host Pastor: Bro. Mardy Guidry
DESCRIPTION:
URL:https://soundradio.live/event/revival-services-fellowship-bc-greenwell-springs-la-guest-speaker-dr-david-l-allen-ft-worth-tx-special-music-mackey-host-pastor-bro-mardy-guidry/
LOCATION:Fellowship Baptist Church of Central\, 14512 Greenwell Springs Road\, Central\, LA\, 70739\, United States
END:VEVENT
BEGIN:VEVENT
DTSTART;TZID=America/Chicago:20250504T100000
DTEND;TZID=America/Chicago:20250504T120000
DTSTAMP:20260421T233354
CREATED:20250505T124319Z
LAST-MODIFIED:20250505T124319Z
UID:43155-1746352800-1746360000@soundradio.live
SUMMARY:Ministry Stop / Crossfire Tabernacle\, Rosedale\, LA / Chronicle
DESCRIPTION:
URL:https://soundradio.live/event/ministry-stop-crossfire-tabernacle-rosedale-la-chronicle/
LOCATION:Crossfire Tabernacle\, 76580 Rosedale Rd\, Rosedale\, LA\, 70772\, United States
END:VEVENT
BEGIN:VEVENT
DTSTART;TZID=America/Chicago:20250503T170000
DTEND;TZID=America/Chicago:20250503T200000
DTSTAMP:20260421T233354
CREATED:20250505T124544Z
LAST-MODIFIED:20250505T124544Z
UID:43157-1746291600-1746302400@soundradio.live
SUMMARY:Monthly Gospel Concert / New Beginnings Worship Center\, Loranger\, LA / Bo Hinson\, Chronicle & Charles Pierre & The New Gospel Travelers
DESCRIPTION:
URL:https://soundradio.live/event/monthly-gospel-concert-new-beginnings-worship-center-loranger-la-bo-hinson-chronicle-charles-pierre-the-new-gospel-travelers/
LOCATION:New Beginnings Worship Center\, 54140 Passman Rd\, Loranger\, LA\, 70446\, United States
END:VEVENT
BEGIN:VEVENT
DTSTART;TZID=America/Chicago:20250503T100000
DTEND;TZID=America/Chicago:20250503T130000
DTSTAMP:20260421T233354
CREATED:20250505T124900Z
LAST-MODIFIED:20250505T124900Z
UID:43161-1746266400-1746277200@soundradio.live
SUMMARY:Car Show & Farmer's Market / Greenwell Springs BC\, Greenwell Springs\, LA
DESCRIPTION:
URL:https://soundradio.live/event/car-show-farmers-market-greenwell-springs-bc-greenwell-springs-la/
LOCATION:Greenwell Springs Baptist Church\, 19421 Greenwell Springs Road\, Greenwell Springs\, LA\, 70739\, United States
END:VEVENT
BEGIN:VEVENT
DTSTART;TZID=America/Chicago:20250502T173000
DTEND;TZID=America/Chicago:20250502T210000
DTSTAMP:20260421T233354
CREATED:20250505T124740Z
LAST-MODIFIED:20250505T124740Z
UID:43159-1746207000-1746219600@soundradio.live
SUMMARY:Monthly Southern Gospel Concert / Good News Fellowship Church\, Tickfaw\, LA / Danny Ray Bishop; Kelly Barber & Friends\, Bro. Mike Vaughn
DESCRIPTION:
URL:https://soundradio.live/event/monthly-southern-gospel-concert-good-news-fellowship-church-tickfaw-la-danny-ray-bishop-kelly-barber-friends-bro-mike-vaughn/
LOCATION:Mike Vaughn Ministries/Good News Fellowship Church\, 13101 Hwy 442 W\, Tickfaw\, LA
END:VEVENT
BEGIN:VEVENT
DTSTART;TZID=America/Chicago:20250501T100000
DTEND;TZID=America/Chicago:20250501T103000
DTSTAMP:20260421T233354
CREATED:20250505T125043Z
LAST-MODIFIED:20250505T125043Z
UID:43163-1746093600-1746095400@soundradio.live
SUMMARY:National Day of Prayer Flagpole Gathering / Walker City Hall\, Walker\, LA / Local Pastors
DESCRIPTION:
URL:https://soundradio.live/event/national-day-of-prayer-flagpole-gathering-walker-city-hall-walker-la-local-pastors/
LOCATION:Walker City Hall\, Walker\, LA\, 13600 Aydell Lane\, Walker\, LA\, United States
END:VEVENT
BEGIN:VEVENT
DTSTART;TZID=America/Chicago:20250427T104500
DTEND;TZID=America/Chicago:20250427T123000
DTSTAMP:20260421T233354
CREATED:20250505T203746Z
LAST-MODIFIED:20250505T203746Z
UID:43165-1745750700-1745757000@soundradio.live
SUMMARY:Ministry Stop / Azalea BC\, Mobile\, AL / Chronicle
DESCRIPTION:
URL:https://soundradio.live/event/ministry-stop-azalea-bc-mobile-al-chronicle-2/
LOCATION:Azalea Baptist Church\, 4050 Halls Mill Rd\, Mobile\, AL\, 36693\, United States
END:VEVENT
BEGIN:VEVENT
DTSTART;TZID=America/Chicago:20250427T104500
DTEND;TZID=America/Chicago:20250427T123000
DTSTAMP:20260421T233354
CREATED:20250505T125427Z
LAST-MODIFIED:20250505T125427Z
UID:43167-1745750700-1745757000@soundradio.live
SUMMARY:Ministry Stop / Azalea BC\, Mobile\, AL / Chronicle
DESCRIPTION:
URL:https://soundradio.live/event/ministry-stop-azalea-bc-mobile-al-chronicle/
LOCATION:Azalea Baptist Church\, 4050 Halls Mill Rd\, Mobile\, AL\, 36693\, United States
END:VEVENT
BEGIN:VEVENT
DTSTART;TZID=America/Chicago:20250420T100000
DTEND;TZID=America/Chicago:20250420T113000
DTSTAMP:20260421T233354
CREATED:20250505T125726Z
LAST-MODIFIED:20250505T125726Z
UID:43171-1745143200-1745148600@soundradio.live
SUMMARY:Ministry Stop / Victory In Prayer Outreach\, Loranger\, LA / Chronicle
DESCRIPTION:
URL:https://soundradio.live/event/ministry-stop-victory-in-prayer-outreach-loranger-la-chronicle/
LOCATION:Victory In Prayer Outreach\, 57133 Jessie Baham Rd\, Loranger\, LA\, 70446\, United States
END:VEVENT
BEGIN:VEVENT
DTSTART;TZID=America/Chicago:20250420T093000
DTEND;TZID=America/Chicago:20250420T120000
DTSTAMP:20260421T233354
CREATED:20250505T125611Z
LAST-MODIFIED:20250505T125611Z
UID:43169-1745141400-1745150400@soundradio.live
SUMMARY:Ministry Stop / Faith BC\, Livingston\, LA / Greg Sullivan
DESCRIPTION:
URL:https://soundradio.live/event/ministry-stop-faith-bc-livingston-la-greg-sullivan/
LOCATION:Faith Baptist Church\, Livingston\, LA\, 17884 LA-42\, Livingston\, LA\, 70754\, United States
END:VEVENT
END:VCALENDAR