BEGIN:VCALENDAR
VERSION:2.0
PRODID:-//Sound Radio - ECPv5.15.0//NONSGML v1.0//EN
CALSCALE:GREGORIAN
METHOD:PUBLISH
X-WR-CALNAME:Sound Radio
X-ORIGINAL-URL:https://soundradio.live
X-WR-CALDESC:Events for Sound Radio
REFRESH-INTERVAL;VALUE=DURATION:PT1H
X-Robots-Tag:noindex
X-PUBLISHED-TTL:PT1H
BEGIN:VTIMEZONE
TZID:America/Chicago
BEGIN:DAYLIGHT
TZOFFSETFROM:-0600
TZOFFSETTO:-0500
TZNAME:CDT
DTSTART:20250309T080000
END:DAYLIGHT
BEGIN:STANDARD
TZOFFSETFROM:-0500
TZOFFSETTO:-0600
TZNAME:CST
DTSTART:20251102T070000
END:STANDARD
END:VTIMEZONE
BEGIN:VEVENT
DTSTART;TZID=America/Chicago:20250906T170000
DTEND;TZID=America/Chicago:20250906T210000
DTSTAMP:20260421T122343
CREATED:20250819T151643Z
LAST-MODIFIED:20250819T151643Z
UID:43366-1757178000-1757192400@soundradio.live
SUMMARY:SOUND RADIO'S 40TH BIRTHDAY CELEBRATION!!! / Amite Baptist Church\, Denham Springs\, LA / See Below For Guest Artist Appearances!
DESCRIPTION:Guest Gospel Artists: \nRight Road Quartet / Greg Sullivan / Chronicle / The Cooksey Family Legacy / Bro. Mike Vaughn / Robbie Bass / The Barber Brothers / So Blessed / Dennis Calmes / Charles Pierre & The Gospel Travelers / Ricky Lee / The Harrells / Marlon Arceneaux / Riverside Revival Band / Olabelle / Church White \n  \nFree Admission \nLove Offering will be taken for Sound Radio expenses
URL:https://soundradio.live/event/sound-radios-40th-birthday-celebration-amite-baptist-church-denham-springs-la-see-below-for-guest-artist-appearances/
LOCATION:Amite Baptist Church\, 7100 Amite Church Road\, Denham Springs\, LA\, 70706\, United States
END:VEVENT
BEGIN:VEVENT
DTSTART;TZID=America/Chicago:20250905T173000
DTEND;TZID=America/Chicago:20250905T203000
DTSTAMP:20260421T122343
CREATED:20250821T192658Z
LAST-MODIFIED:20250821T192658Z
UID:43378-1757093400-1757104200@soundradio.live
SUMMARY:Monthly Southern & Country Gospel Concert / Good News Fellowship Church\, Tickfaw\, LA / Bro. Mike & Barbara Vaughn; Kelly Barber & Friends; and The Harrells
DESCRIPTION:Doors Open @ 5:30 pm \nSinging @ 6:30 pm \nConcession Stand Available
URL:https://soundradio.live/event/monthly-southern-kelly-barber-and-the-harrells/
LOCATION:Mike Vaughn Ministries/Good News Fellowship Church\, 13101 Hwy 442 W\, Tickfaw\, LA
END:VEVENT
BEGIN:VEVENT
DTSTART;TZID=America/Chicago:20250828T190000
DTEND;TZID=America/Chicago:20250830T203000
DTSTAMP:20260421T122343
CREATED:20250826T145744Z
LAST-MODIFIED:20250826T145744Z
UID:43383-1756407600-1756585800@soundradio.live
SUMMARY:Revival Services / Midway BC\, Ponchatoula\, LA / Guest Pastor: Bro. Jimmy Wall ; Guest Music: Bro. Mike Vaughn
DESCRIPTION:
URL:https://soundradio.live/event/revival-services-midway-bc-ponchatoula-la-guest-pastor-bro-jimmy-wall-guest-music-bro-mike-vaughn/
LOCATION:Midway Baptist Church\, Bedico\, LA\, United States
END:VEVENT
BEGIN:VEVENT
DTSTART;TZID=America/Chicago:20250824T180000
DTEND;TZID=America/Chicago:20250826T200000
DTSTAMP:20260421T122343
CREATED:20250821T192129Z
LAST-MODIFIED:20250821T192129Z
UID:43376-1756058400-1756238400@soundradio.live
SUMMARY:Endurance Revival / Bogue Falaya BC\, Folsom\, LA / Missionary\, Ryan Rice\, Sr.; Pastor Asah Hudgins; Church Planter Rob Russell & Riverside Revival Band
DESCRIPTION:
URL:https://soundradio.live/event/endurance-revival-bogue-falaya-bc-folsom-la-missionary-ryan-rice-sr-pastor-asah-hudgins-church-planter-rob-russell-riverside-revival-band/
LOCATION:Bogue Falaya Baptist Church\, Folsom\, LA\, 78689 Hwy 25\, Folsom\, LA\, 70437\, United States
END:VEVENT
BEGIN:VEVENT
DTSTART;TZID=America/Chicago:20250824T110000
DTEND;TZID=America/Chicago:20250824T123000
DTSTAMP:20260421T122343
CREATED:20250707T191614Z
LAST-MODIFIED:20250707T191614Z
UID:43312-1756033200-1756038600@soundradio.live
SUMMARY:Ministry Stop / Red Oak BC\, Livingston\, LA / Chronicle
DESCRIPTION:
URL:https://soundradio.live/event/ministry-stop-red-oak-bc-livingston-la-chronicle-2/
LOCATION:Red Oak Baptist Church\, 28760 Red Oak Rd.\, Livingston\, LA\, 70754\, United States
END:VEVENT
BEGIN:VEVENT
DTSTART;TZID=America/Chicago:20250824T100000
DTEND;TZID=America/Chicago:20250824T140000
DTSTAMP:20260421T122343
CREATED:20250819T151235Z
LAST-MODIFIED:20250819T151235Z
UID:43363-1756029600-1756044000@soundradio.live
SUMMARY:40th Homecoming Celebration! / Oak Dale BC\, Pontotoc\, MS / Guest Pastor: Br. Brandon Murphree / Special Music: The Masters Quartet
DESCRIPTION:10 am Worship Service with Bro. Brandon Murphree \n11 am Special Singing with The Masters Quartet \nLunch & Fellowship Afterwards
URL:https://soundradio.live/event/40th-homecoming-celebration-oak-dale-bc-pontotoc-ms-guest-pastor-br-brandon-murphree-special-music-the-masters-quartet/
LOCATION:Oak Dale Baptist Church\, Pontotoc\, MS\, 7230 Hwy 346\, Pontotoc\, MS\, United States
END:VEVENT
BEGIN:VEVENT
DTSTART;TZID=America/Chicago:20250823T170000
DTEND;TZID=America/Chicago:20250823T183000
DTSTAMP:20260421T122343
CREATED:20250707T191504Z
LAST-MODIFIED:20250707T191504Z
UID:43310-1755968400-1755973800@soundradio.live
SUMMARY:Ministry Stop / Pleasant Valley Church\, Smithdale\, MS / Chronicle
DESCRIPTION:
URL:https://soundradio.live/event/ministry-stop-pleasant-valley-church-smithdale-ms-chronicle/
LOCATION:Pleasant Valley Church\, 6028-A Fenn Road\, Smithdale\, MS\, 39664\, United States
END:VEVENT
BEGIN:VEVENT
DTSTART;TZID=America/Chicago:20250820T190000
DTEND;TZID=America/Chicago:20250822T203000
DTSTAMP:20260421T122343
CREATED:20250815T210802Z
LAST-MODIFIED:20250819T153917Z
UID:43356-1755716400-1755894600@soundradio.live
SUMMARY:Revival Services / Community Chapel Church\, Walker\, LA / Guest Minister: Bishop Steve Warren
DESCRIPTION:
URL:https://soundradio.live/event/revival-services-community-chapel-church-walker-la-guest-minister-bishop-steve-warren/
LOCATION:Community Chapel Church\, Walker\, LA\, 35490 Walker North Rd\, Walker\, LA\, 70785\, United States
END:VEVENT
BEGIN:VEVENT
DTSTART;TZID=America/Chicago:20250817T110000
DTEND;TZID=America/Chicago:20250817T120000
DTSTAMP:20260421T122343
CREATED:20250815T204641Z
LAST-MODIFIED:20250815T204641Z
UID:43346-1755428400-1755432000@soundradio.live
SUMMARY:Revival Services / Woodland BC\, Springfield\, LA / Evangelist - Bro. Jeremy Glascock ; Music - Riverside Revival Band
DESCRIPTION:Followed by Dinner On The Grounds
URL:https://soundradio.live/event/revival-services-woodland-bc-springfield-la-evangelist-bro-jeremy-glascock-music-riverside-revival-band-2/
LOCATION:Woodland Baptist Church\, Springfield\, LA\, 27929 LA-1037\, Springfield\, LA\, United States
END:VEVENT
BEGIN:VEVENT
DTSTART;TZID=America/Chicago:20250817T103000
DTEND;TZID=America/Chicago:20250817T120000
DTSTAMP:20260421T122343
CREATED:20250707T192223Z
LAST-MODIFIED:20250707T192223Z
UID:43320-1755426600-1755432000@soundradio.live
SUMMARY:Ministry Stop / Gray's Creek Baptist Church\, Denham Springs\, LA/ Greg Sullivan and Ricky Atkinson
DESCRIPTION:
URL:https://soundradio.live/event/ministry-stop-grays-creek-baptist-church-denham-springs-la-greg-sullivan-and-ricky-atkinson/
LOCATION:Gray’s Creek Baptist Church\, Denham Springs\, 21039 La. Hwy. 16\, Denham Springs\, LA\, 70726\, United States
END:VEVENT
BEGIN:VEVENT
DTSTART;TZID=America/Chicago:20250817T100000
DTEND;TZID=America/Chicago:20250817T120000
DTSTAMP:20260421T122343
CREATED:20250707T191355Z
LAST-MODIFIED:20250707T191355Z
UID:43308-1755424800-1755432000@soundradio.live
SUMMARY:Ministry Stop / Faith BC\, Livonia\, LA / Chronicle
DESCRIPTION:
URL:https://soundradio.live/event/ministry-stop-faith-bc-livonia-la-chronicle/
LOCATION:Faith Baptist Church Livonia\, LA\, 4060 Richfield Dr\, Livonia\, 70755
END:VEVENT
BEGIN:VEVENT
DTSTART;TZID=America/Chicago:20250816T180000
DTEND;TZID=America/Chicago:20250816T200000
DTSTAMP:20260421T122343
CREATED:20250815T211243Z
LAST-MODIFIED:20250815T211243Z
UID:43360-1755367200-1755374400@soundradio.live
SUMMARY:Gospel Singing - A Night At The Grand Oak Hall\, Whynot\, MS / Bibletones Quartet & 2nd Mile
DESCRIPTION:
URL:https://soundradio.live/event/gospel-singing-a-night-at-the-grand-oak-hall-whynot-ms-bibletones-quartet-2nd-mile/
LOCATION:Grand Oak Bluegrass Gospel Hall\, Whynot\, MS\, 3598 Causeyville Whynot Road\, Whynot\, MS\, United States
END:VEVENT
BEGIN:VEVENT
DTSTART;TZID=America/Chicago:20250816T180000
DTEND;TZID=America/Chicago:20250816T200000
DTSTAMP:20260421T122343
CREATED:20250815T211002Z
LAST-MODIFIED:20250815T211002Z
UID:43358-1755367200-1755374400@soundradio.live
SUMMARY:Answered Prayer Southern Gospel 13th Annual Homecoming / Willow Pointe Church\, Hattiesburg\, MS / Day Three & The Camerons
DESCRIPTION:Doors Open at 5
URL:https://soundradio.live/event/answered-prayer-southern-gospel-13th-annual-homecoming-willow-pointe-church-hattiesburg-ms-day-three-the-camerons/
LOCATION:Willow Pointe Baptist Church of Hattiesburg\, 7 Canaan Lane\, Hattiesburg\, MS\, United States
END:VEVENT
BEGIN:VEVENT
DTSTART;TZID=America/Chicago:20250815T183000
DTEND;TZID=America/Chicago:20250816T200000
DTSTAMP:20260421T122343
CREATED:20250815T204527Z
LAST-MODIFIED:20250815T204527Z
UID:43344-1755282600-1755374400@soundradio.live
SUMMARY:Revival Services / Woodland BC\, Springfield\, LA / Evangelist - Bro. Jeremy Glascock ; Music - Riverside Revival Band
DESCRIPTION:
URL:https://soundradio.live/event/revival-services-woodland-bc-springfield-la-evangelist-bro-jeremy-glascock-music-riverside-revival-band/
LOCATION:Woodland Baptist Church\, Springfield\, LA\, 27929 LA-1037\, Springfield\, LA\, United States
END:VEVENT
BEGIN:VEVENT
DTSTART;TZID=America/Chicago:20250811T183000
DTEND;TZID=America/Chicago:20250813T200000
DTSTAMP:20260421T122343
CREATED:20250815T210254Z
LAST-MODIFIED:20250815T210254Z
UID:43351-1754937000-1755115200@soundradio.live
SUMMARY:Revival Services / Enterprise BC\, Liberty\, MS / Evangelist: Bro. Gene Hoyt
DESCRIPTION:
URL:https://soundradio.live/event/revival-services-enterprise-bc-liberty-ms-evangelist-bro-gene-hoyt-2/
LOCATION:Enterprise Baptist Church\, 3601 Lower Liberty Gloster Rd\, Liberty\, MS\, 39645\, United States
END:VEVENT
BEGIN:VEVENT
DTSTART;TZID=America/Chicago:20250810T183000
DTEND;TZID=America/Chicago:20250810T210000
DTSTAMP:20260421T122343
CREATED:20250810T232118Z
LAST-MODIFIED:20250810T232118Z
UID:43336-1754850600-1754859600@soundradio.live
SUMMARY:58th Annual Gospel Singing Jubilee / Magee High School Auditorium\, Magee\, MS / The Freemans\, Andy Gipson\, Tim Frith & Gospel Echoes\, Gil Magee & Revelations
DESCRIPTION:Ticketed Event \n  \nCall 601-906-0677 or 601-720-8870 For More Information
URL:https://soundradio.live/event/58th-annual-gospel-singing-jubilee-magee-high-school-auditorium-magee-ms-the-freemans-andy-gipson-tim-frith-gospel-echoes-gil-magee-revelations/
LOCATION:Magee High School Auditorium\, 501 Choctaw St. E\, Magee\, MS\, United States
END:VEVENT
BEGIN:VEVENT
DTSTART;TZID=America/Chicago:20250810T110000
DTEND;TZID=America/Chicago:20250810T120000
DTSTAMP:20260421T122343
CREATED:20250815T210146Z
LAST-MODIFIED:20250815T210146Z
UID:43348-1754823600-1754827200@soundradio.live
SUMMARY:Revival Services / Enterprise BC\, Liberty\, MS / Evangelist: Bro. Gene Hoyt
DESCRIPTION:
URL:https://soundradio.live/event/revival-services-enterprise-bc-liberty-ms-evangelist-bro-gene-hoyt/
LOCATION:Enterprise Baptist Church\, 3601 Lower Liberty Gloster Rd\, Liberty\, MS\, 39645\, United States
END:VEVENT
BEGIN:VEVENT
DTSTART;TZID=America/Chicago:20250809T180000
DTEND;TZID=America/Chicago:20250809T200000
DTSTAMP:20260421T122343
CREATED:20250815T210520Z
LAST-MODIFIED:20250815T210520Z
UID:43353-1754762400-1754769600@soundradio.live
SUMMARY:Southern Gospel Gathering / Vernal Full Gospel Church\, Lucedale\, MS / Southern Sound; Big Blessin; Four The King
DESCRIPTION:
URL:https://soundradio.live/event/southern-gospel-gathering-vernal-full-gospel-church-lucedale-ms-southern-sound-big-blessin-four-the-king/
LOCATION:Vernal Full Gospel Church\, Lucedale\, 100-112 Daughdrill Rd\, Lucedale\, MS\, United States
END:VEVENT
BEGIN:VEVENT
DTSTART;TZID=America/Chicago:20250809T173000
DTEND;TZID=America/Chicago:20250809T210000
DTSTAMP:20260421T122343
CREATED:20250805T153013Z
LAST-MODIFIED:20250805T153013Z
UID:43329-1754760600-1754773200@soundradio.live
SUMMARY:Monthly Singing / Southwest MS Gospel Opry\, Liberty\, MS / Open Mic; New Life Country Gospel; New Grace
DESCRIPTION:
URL:https://soundradio.live/event/monthly-singing-southwest-ms-gospel-opry-liberty-ms-open-mic-new-life-country-gospel-new-grace/
LOCATION:Southwest Mississippi Original Gospel Opry\, Liberty\, MS\, Harrison Building\, 910 Old McComb-Liberty Road\, Liberty\, MS\, United States
END:VEVENT
BEGIN:VEVENT
DTSTART;TZID=America/Chicago:20250803T180000
DTEND;TZID=America/Chicago:20250803T190000
DTSTAMP:20260421T122343
CREATED:20250805T153319Z
LAST-MODIFIED:20250805T153319Z
UID:43333-1754244000-1754247600@soundradio.live
SUMMARY:Ministry Stop / Celeste Road BC\, Saraland\, AL / Greg Sullivan
DESCRIPTION:
URL:https://soundradio.live/event/ministry-stop-celeste-road-bc-saraland-al-greg-sullivan/
LOCATION:Celeste Road Baptist Church\, Sugarland\, AL\, 10175 Celeste Road\, Sugarland\, AL\, United States
END:VEVENT
BEGIN:VEVENT
DTSTART;TZID=America/Chicago:20250803T110000
DTEND;TZID=America/Chicago:20250803T120000
DTSTAMP:20260421T122343
CREATED:20250707T191254Z
LAST-MODIFIED:20250707T191254Z
UID:43306-1754218800-1754222400@soundradio.live
SUMMARY:Ministry Stop / Grangeville BC\, Pine Grove\, LA / Chronicle
DESCRIPTION:
URL:https://soundradio.live/event/ministry-stop-grangeville-bc-pine-grove-la-chronicle-2/
LOCATION:Grangeville Baptist Church\, 3599 La 63\, Pine Grove\, LA\, 70453\, United States
END:VEVENT
BEGIN:VEVENT
DTSTART;TZID=America/Chicago:20250803T103000
DTEND;TZID=America/Chicago:20250803T120000
DTSTAMP:20260421T122343
CREATED:20250805T153214Z
LAST-MODIFIED:20250805T153214Z
UID:43331-1754217000-1754222400@soundradio.live
SUMMARY:Ministry Stop / Azalea BC\, Mobile\, AL / Greg Sullivan
DESCRIPTION:
URL:https://soundradio.live/event/ministry-stop-azalea-bc-mobile-al-greg-sullivan-2/
LOCATION:Azalea Baptist Church\, 4050 Halls Mill Rd\, Mobile\, AL\, 36693\, United States
END:VEVENT
BEGIN:VEVENT
DTSTART;TZID=America/Chicago:20250802T113000
DTEND;TZID=America/Chicago:20250802T133000
DTSTAMP:20260421T122343
CREATED:20250707T191151Z
LAST-MODIFIED:20250707T191151Z
UID:43304-1754134200-1754141400@soundradio.live
SUMMARY:Ministry Stop / Parkview BC\, Baton Rouge\, LA / Chronicle
DESCRIPTION:
URL:https://soundradio.live/event/ministry-stop-parkview-bc-baton-rouge-la-chronicle/
LOCATION:Parkview Baptist Church\, 5750 Parkview Church Rd\, Baton Rouge\, LA\, 70816\, United States
END:VEVENT
BEGIN:VEVENT
DTSTART;TZID=America/Chicago:20250728T183000
DTEND;TZID=America/Chicago:20250728T203000
DTSTAMP:20260421T122343
CREATED:20250723T140536Z
LAST-MODIFIED:20250723T140536Z
UID:43326-1753727400-1753734600@soundradio.live
SUMMARY:20 Years of Ministry Celebration / Gillsburg BC\, Osyka\, MS / LeFevre Quartet
DESCRIPTION:
URL:https://soundradio.live/event/20-years-of-ministry-celebration-gillsburg-bc-osyka-ms-lefevre-quartet/
LOCATION:Gillsburg Baptist Church of Osyka\, 6126 MS-568\, Osyka\, MS\, United States
END:VEVENT
BEGIN:VEVENT
DTSTART;TZID=America/Chicago:20250727T103000
DTEND;TZID=America/Chicago:20250727T120000
DTSTAMP:20260421T122343
CREATED:20250707T192037Z
LAST-MODIFIED:20250707T192037Z
UID:43318-1753612200-1753617600@soundradio.live
SUMMARY:Ministry Stop / Liberty Church of Prayer\, Liberty\, MS / Greg Sullivan
DESCRIPTION:
URL:https://soundradio.live/event/ministry-stop-liberty-church-of-prayer-liberty-ms-greg-sullivan-2/
LOCATION:Liberty Church of Prayer\, 1074 East Main Street\, Liberty\, LA\, United States
END:VEVENT
BEGIN:VEVENT
DTSTART;TZID=America/Chicago:20250726T170000
DTEND;TZID=America/Chicago:20250726T183000
DTSTAMP:20260421T122343
CREATED:20250707T191938Z
LAST-MODIFIED:20250707T191938Z
UID:43316-1753549200-1753554600@soundradio.live
SUMMARY:Ministry Stop / Pleasant Valley Church 4th Saturday Singing\, Smithdale\, MS / Greg Sullivan
DESCRIPTION:
URL:https://soundradio.live/event/ministry-stop-pleasant-valley-church-4th-saturday-singing-smithdale-ms-greg-sullivan/
LOCATION:Pleasant Valley Church\, 6028-A Fenn Road\, Smithdale\, MS\, 39664\, United States
END:VEVENT
BEGIN:VEVENT
DTSTART;TZID=America/Chicago:20250720T180000
DTEND;TZID=America/Chicago:20250725T203000
DTSTAMP:20260421T122343
CREATED:20250723T140222Z
LAST-MODIFIED:20250723T140222Z
UID:43324-1753034400-1753475400@soundradio.live
SUMMARY:VBS / New Bethlehem BC\, Denham Springs\, LA / Magnified!
DESCRIPTION:Pre-K thru 5th Grade
URL:https://soundradio.live/event/vbs-new-bethlehem-bc-denham-springs-la-magnified/
LOCATION:New Bethlehem Church\, Denham Springs\, 37818 Renninger Rd\, Denham Springs\, LA\, United States
END:VEVENT
BEGIN:VEVENT
DTSTART;TZID=America/Chicago:20250720T170000
DTEND;TZID=America/Chicago:20250720T183000
DTSTAMP:20260421T122343
CREATED:20250707T191814Z
LAST-MODIFIED:20250707T191814Z
UID:43314-1753030800-1753036200@soundradio.live
SUMMARY:Ministry Stop / Divine Grace BC\, Long Beach\, MS / Greg Sullivan
DESCRIPTION:
URL:https://soundradio.live/event/ministry-stop-divine-grace-bc-long-beach-ms-greg-sullivan/
LOCATION:Divine Grace Baptist Church\, Long Beach\, MS\, United States
END:VEVENT
BEGIN:VEVENT
DTSTART;TZID=America/Chicago:20250717T000000
DTEND;TZID=America/Chicago:20250719T000000
DTSTAMP:20260421T122343
CREATED:20250604T191631Z
LAST-MODIFIED:20250604T191631Z
UID:43241-1752710400-1752883200@soundradio.live
SUMMARY:Alabama Quartet Convention / Encounter Church\, Eight Mile\, AL /
DESCRIPTION:Featuring: Mylon Hayes Family; Tribute Quartet; Darryl Williams Union; Chosen 4:13; The Schofields; The Hootens; The Lacy Family; The Epps; The Shannyfelt Family; Southern Sound Quartet; Clearvision; The Shadrix Trio; The Bunkleys Foretold; Music City Quartet; Four The King Quartet; Answered Prayer; Don Stiles; Ferrell Bumpers; Rhonda Richardson; Southern Image Quartet; Greg Sullivan; The Combs Family & The Taylor Brothers \nTickets: $15 nightly or $30 for Weekend Pass – Children under 5 Free Admission \nhttps://www.marriott.com/event-reservations/reservation-link.mi?id=1736803625983&key=GRP&guestreslink2=true&app=resvlink \n 
URL:https://soundradio.live/event/alabama-quartet-convention-encounter-church-eight-mile-al/
LOCATION:Encounter Church\, 5301 Lott Road\, Eight Mile\, Alabama
END:VEVENT
BEGIN:VEVENT
DTSTART;TZID=America/Chicago:20250715T110000
DTEND;TZID=America/Chicago:20250718T140000
DTSTAMP:20260421T122343
CREATED:20250707T164658Z
LAST-MODIFIED:20250707T164658Z
UID:43291-1752577200-1752847200@soundradio.live
SUMMARY:VBS / Southside BC\, Denham Springs
DESCRIPTION:Ages 4-12 pre-k through completed 5th grade \nLunch & Snacks provided
URL:https://soundradio.live/event/vbs-southside-bc-denham-springs/
LOCATION:Southside Baptist Church\, 7572 Vincent Road\, Denham Springs\, LA\, 70726\, United States
END:VEVENT
END:VCALENDAR