BEGIN:VCALENDAR
VERSION:2.0
PRODID:-//Sound Radio - ECPv5.15.0//NONSGML v1.0//EN
CALSCALE:GREGORIAN
METHOD:PUBLISH
X-WR-CALNAME:Sound Radio
X-ORIGINAL-URL:https://soundradio.live
X-WR-CALDESC:Events for Sound Radio
REFRESH-INTERVAL;VALUE=DURATION:PT1H
X-Robots-Tag:noindex
X-PUBLISHED-TTL:PT1H
BEGIN:VTIMEZONE
TZID:America/Chicago
BEGIN:DAYLIGHT
TZOFFSETFROM:-0600
TZOFFSETTO:-0500
TZNAME:CDT
DTSTART:20260308T080000
END:DAYLIGHT
BEGIN:STANDARD
TZOFFSETFROM:-0500
TZOFFSETTO:-0600
TZNAME:CST
DTSTART:20261101T070000
END:STANDARD
END:VTIMEZONE
BEGIN:VEVENT
DTSTART;TZID=America/Chicago:20260326T080000
DTEND;TZID=America/Chicago:20260529T170000
DTSTAMP:20260422T095435
CREATED:20250819T153618Z
LAST-MODIFIED:20250819T153814Z
UID:43372-1774512000-1780074000@soundradio.live
SUMMARY:6th Annual HLE Family Reunion / All Christian Country Roads Lead To Jennings\, LA
DESCRIPTION:Guest Artists – More To Come! \nBraedon  Cooper / Brandy York / Bruce Hedrick / C.P. Uitts / Curtis Williams / Daryl Baker / Dawn Rix / Greg Marlow / Greg Sullivan / Greg Williams / John Richardson / Justin Todd Herod / Matt Foster / Nathan Areno / Rex Robards / Steve Roberson / Shelly Wilson / Suzzette Michaels / Trevor Bohannon / Victoria Steelman / Wade Phillips / Will Richerson & More
URL:https://soundradio.live/event/6th-annual-hle-family-reunion-all-christian-country-roads-lead-to-jennings-la/
LOCATION:HLE Family Reunion\, Jennings\, LA\, United States
END:VEVENT
BEGIN:VEVENT
DTSTART;TZID=America/Chicago:20260329T103000
DTEND;TZID=America/Chicago:20260329T120000
DTSTAMP:20260422T095435
CREATED:20251215T140907Z
LAST-MODIFIED:20251215T140907Z
UID:43662-1774780200-1774785600@soundradio.live
SUMMARY:Ministry Stop / My Father's House\, Kentwood\, LA / Chronicle Ministries
DESCRIPTION:
URL:https://soundradio.live/event/ministry-stop-my-fathers-house-kentwood-la-chronicle-ministries/
LOCATION:My Father’s House Church\, 18431 Hwy 1057\, Kentwood\, Louisiana\, 70444
END:VEVENT
BEGIN:VEVENT
DTSTART;TZID=America/Chicago:20260329T103000
DTEND;TZID=America/Chicago:20260329T120000
DTSTAMP:20260422T095435
CREATED:20260323T205114Z
LAST-MODIFIED:20260327T202109Z
UID:43841-1774780200-1774785600@soundradio.live
SUMMARY:POSTPONED!!!  Ministry Stop / FBC Abbeville\, LA / Greg Sullivan
DESCRIPTION:
URL:https://soundradio.live/event/ministry-stop-fbc-abbeville-la-greg-sullivan/
LOCATION:First Baptist Church Church\, Abbeville\, LA\, 210 North Charles Street\, Abbeville\, LA\, 70510\, United States
END:VEVENT
BEGIN:VEVENT
DTSTART;TZID=America/Chicago:20260329T110000
DTEND;TZID=America/Chicago:20260329T150000
DTSTAMP:20260422T095435
CREATED:20260323T204851Z
LAST-MODIFIED:20260323T204851Z
UID:43839-1774782000-1774796400@soundradio.live
SUMMARY:Dinner on the Grounds & Easter Egg Hunt Following Sunday Service at 11 am / Red Oak BC\, Livingston\, LA
DESCRIPTION:
URL:https://soundradio.live/event/dinner-on-the-grounds-easter-egg-hunt-following-sunday-service-at-11-am-red-oak-bc-livingston-la/
LOCATION:Red Oak Baptist Church\, 28760 Red Oak Rd.\, Livingston\, LA\, 70754\, United States
END:VEVENT
END:VCALENDAR